﻿BEGIN:VCALENDAR
VERSION:2.0
PRODID:-//Ayuntamiento de Mérida - ECPv6.15.17.1//NONSGML v1.0//EN
CALSCALE:GREGORIAN
METHOD:PUBLISH
X-ORIGINAL-URL:https://merida.es
X-WR-CALDESC:Eventos para Ayuntamiento de Mérida
REFRESH-INTERVAL;VALUE=DURATION:PT1H
X-Robots-Tag:noindex
X-PUBLISHED-TTL:PT1H
BEGIN:VTIMEZONE
TZID:Europe/Madrid
BEGIN:DAYLIGHT
TZOFFSETFROM:+0100
TZOFFSETTO:+0200
TZNAME:CEST
DTSTART:20230326T010000
END:DAYLIGHT
BEGIN:STANDARD
TZOFFSETFROM:+0200
TZOFFSETTO:+0100
TZNAME:CET
DTSTART:20231029T010000
END:STANDARD
BEGIN:DAYLIGHT
TZOFFSETFROM:+0100
TZOFFSETTO:+0200
TZNAME:CEST
DTSTART:20240331T010000
END:DAYLIGHT
BEGIN:STANDARD
TZOFFSETFROM:+0200
TZOFFSETTO:+0100
TZNAME:CET
DTSTART:20241027T010000
END:STANDARD
BEGIN:DAYLIGHT
TZOFFSETFROM:+0100
TZOFFSETTO:+0200
TZNAME:CEST
DTSTART:20250330T010000
END:DAYLIGHT
BEGIN:STANDARD
TZOFFSETFROM:+0200
TZOFFSETTO:+0100
TZNAME:CET
DTSTART:20251026T010000
END:STANDARD
END:VTIMEZONE
BEGIN:VEVENT
DTSTART;VALUE=DATE:20240701
DTEND;VALUE=DATE:20240704
DTSTAMP:20260423T050135
CREATED:20240628T233515Z
LAST-MODIFIED:20240628T233515Z
UID:132121-1719792000-1720051199@merida.es
SUMMARY:Agusto en Mérida: "Morfeo"
DESCRIPTION:Obra: Morfeo \nSinopsis: Si descubrieras que estás soñando\, y te ofrecen amanecer en la ignorancia o despertar en la verdad\, ¿Qué responderías? Morfeo desea guiarte a través de un mundo donde la realidad danza libremente entre sombras. Desafiando a Zeus\, incumple su castigo para mostrar\, junto a Fantaso y Fobétor\, el origen de las sombras. \nDirección y coreografía: Alba Gog\nProducción: TAPTC? Teatro\nDuración: 60 minutos\nGénero: Danza – Teatro\nEdad recomendada: A partir de 12 años \nLugar: Templo de Diana\nFechas: Días 1\, 2 y 3 de julio\nHora: 21:30h \nEntrada General sin Numerar: 6 €\nVenta de entradas: www.taptcteatro.com
URL:https://merida.es/agenda/agusto-en-merida-morfeo/
LOCATION:Templo de Diana\, Calle Romero Leal\, s/n\, Mérida
CATEGORIES:Danza,Teatro
ATTACH;FMTTYPE=image/jpeg:https://merida.es/wp-content/uploads/2024/06/2024-agusto-morfeo-peq.jpeg
END:VEVENT
BEGIN:VEVENT
DTSTART;VALUE=DATE:20240701
DTEND;VALUE=DATE:20240824
DTSTAMP:20260423T050135
CREATED:20240628T121610Z
LAST-MODIFIED:20240821T083701Z
UID:132103-1719792000-1724457599@merida.es
SUMMARY:Agusto en Mérida 2024
DESCRIPTION:Un año más\, el Festival de Teatro Clásico de Mérida apuesta por extender la cultura clásica a través de acciones lúdicas y artísticas que forman la programación de ‘Agusto en Mérida’\, que volverá a desarrollarse en múltiples espacios de la ciudad vinculados a su patrimonio arqueológico e histórico como son el Templo de Diana\, Parador de Mérida\, las Termas de Pontezuelas\, el Patio de los Naranjos de la Asamblea de Extremadura o el Pórtico del Foro. Este año\, además\, se incorpora el Teatro María Luisa. La programación de Agusto en Mérida 2024 está dirigida y gestionada por TAPTC? TEATRO \nMás información y venta de entradas: https://taptcteatro.com/
URL:https://merida.es/agenda/agusto-en-merida-2024/
LOCATION:Varios puntos de la ciudad\, Mérida
CATEGORIES:Danza,Teatro
ATTACH;FMTTYPE=image/jpeg:https://merida.es/wp-content/uploads/2024/06/2024-agusto-merida-peq.jpg
END:VEVENT
BEGIN:VEVENT
DTSTART;TZID=Europe/Madrid:20240704T213000
DTEND;TZID=Europe/Madrid:20240704T213000
DTSTAMP:20260423T050135
CREATED:20240703T224013Z
LAST-MODIFIED:20240703T224246Z
UID:132245-1720128600-1720128600@merida.es
SUMMARY:Agusto en Mérida: "La Caja de Pandora"
DESCRIPTION:Obra: La Caja de Pandora. El hilo de la esperanza \nSinopsis: Espectáculo de danza flamenca\, inspirado en el mito de Pandora\, la primera mujer\, creada por Hefesto por orden de Zeus\, que contenía todos los males del mundo. El mito de Prometeo y la caja de Pandora habla sobre los males que superan a los hombres\, que viven más allá de ellos\, y les derrotan cuando los hombres quieren ser como los dioses. Al final\, lo último que queda en la caja antes de que Pandora la cierre\, es la esperanza. \nCoreografía y dirección: Fuensanta Blanco\nDuración: 70 minutos\nGénero: Danza flamenca\nEdad recomendada: A partir de 12 años \nLugar: Templo de Diana\nFecha: 4 de julio\nHora: 21:30h \nEntrada Gratuita hasta completar el aforo \nEsta obra pertenece al proyecto DANCING HISTOR(Y)IES 2024 que lleva espectáculos de danza en distintos espacios arqueológicos de la ciudad
URL:https://merida.es/agenda/agusto-en-merida-la-caja-de-pandora/
LOCATION:Templo de Diana\, Calle Romero Leal\, s/n\, Mérida
CATEGORIES:Danza
ATTACH;FMTTYPE=image/jpeg:https://merida.es/wp-content/uploads/2024/07/2024-la-caja-de-pandora-peq.jpg
END:VEVENT
BEGIN:VEVENT
DTSTART;TZID=Europe/Madrid:20240705T213000
DTEND;TZID=Europe/Madrid:20240705T213000
DTSTAMP:20260423T050135
CREATED:20240705T080145Z
LAST-MODIFIED:20240705T084929Z
UID:132292-1720215000-1720215000@merida.es
SUMMARY:Agusto en Mérida: "One Day We Will Be Statues"
DESCRIPTION:Compañia: Il Dance (Suecia)\nDirector: Israel Aloni \nPrograma: DANCING HISTOR(Y)IES: Binding Communities and Heritage Through Dance project \nSinopsis: One Day We Will Be Statues (Un día seremos estatuas) fue creada especial y específicamente para el sitio arqueológico de Mérida con influencias de las culturas pasadas y presentes que fueron y son vividas en esa región. Aloni se sintió atraído por la presencia de la historia de los gladiadores en la cultura contemporánea de Mérida. El interés de la comunidad actual por revivir el monumental evento de las luchas de gladiadores resultó particularmente fascinante para Aloni desde la perspectiva de lo queerness y la representación de la figura masculina como objeto de admiración en el espacio público.  \nAdemás\, Aloni quería encontrar formas de conectar a las comunidades de Mérida\, Viminacium y Tharros a través de la experiencia efímera de una actuación en vivo. La banda sonora\, el vestuario y el lenguaje de movimiento de la pieza se basan en las culturas históricas y actuales de los tres lugares y las unen para corresponderse de manera única con el sitio y el público de Mérida. \nDuración: 60 minutos \nGénero: Danza – teatro \nEdad recomendada: A partir de 12 años \nEntrada Gratuita hasta completar el aforo
URL:https://merida.es/agenda/agusto-en-merida-one-day-we-will-be-statues/
LOCATION:Pórtico del Foro\, Calle Sagasta s/n\, Mérida\, Badajoz\, 06800\, Spain
CATEGORIES:Danza,Teatro
ATTACH;FMTTYPE=image/jpeg:https://merida.es/wp-content/uploads/2024/07/agusto-estatuas-peq.jpg
END:VEVENT
BEGIN:VEVENT
DTSTART;TZID=Europe/Madrid:20240706T213000
DTEND;TZID=Europe/Madrid:20240706T213000
DTSTAMP:20260423T050135
CREATED:20240706T151152Z
LAST-MODIFIED:20240706T151152Z
UID:132331-1720301400-1720301400@merida.es
SUMMARY:Agusto en Mérida: "Icarus"
DESCRIPTION:Compañia: 420People (República Checa)\nDirector: Israel Aloni \nPrograma: DANCING HISTOR(Y)IES: Binding Communities and Heritage Through Dance project \nSinopsis: Como resultado de las visitas y talleres en Mérida\, se nos ocurrió el tema de nuestra actuación: la historia de Ícaro. También está en línea con la dramaturgia general del Festival de Mérida. Nos gustaría encontrar algunos paralelos con nuestra sociedad actual. Algunos temas a explorar son: arrogancia y ambición\, ignorar los límites\, ignorar las advertencias y el atractivo de la tecnología.  \nSin embargo\, como la historia de Ícaro es tan conocida\, nuestro espectáculo de danza contemporánea se centrará en crear sugerencias y fragmentos basados en las relaciones entre un individuo y un grupo. El material del movimiento también está inspirado y refleja de alguna manera nuestro deseo humano de volar. Vamos a colaborar con un grupo local de artistas. Asumirían el papel de “narrador”\, una especie de “MC” de la actuación. Me gustaría utilizar algún texto\, que se entrega mejor en español.  \nPor este motivo y ocasión nos gustaría utilizar texto de las Metamorfosis de Ovidio\, donde se menciona por primera vez la historia de Ícaro. Aunque es posible que encontremos otra mención anterior de la historia. \nDuración: 60 minutos \nGénero: Danza – teatro \nEdad recomendada: A partir de 12 años \nEntrada Gratuita hasta completar el aforo
URL:https://merida.es/agenda/agusto-en-merida-icarus/
LOCATION:Templo de Diana\, Calle Romero Leal\, s/n\, Mérida
CATEGORIES:Danza,Teatro
ATTACH;FMTTYPE=image/jpeg:https://merida.es/wp-content/uploads/2024/07/2024-agusto-icarus-peq.jpg
END:VEVENT
BEGIN:VEVENT
DTSTART;TZID=Europe/Madrid:20240713T200000
DTEND;TZID=Europe/Madrid:20240713T200000
DTSTAMP:20260423T050135
CREATED:20240502T081602Z
LAST-MODIFIED:20240705T102201Z
UID:130429-1720900800-1720900800@merida.es
SUMMARY:70 Festival de Teatro Clásico: «Coriolano\, después de Shakespeare»
DESCRIPTION:13 de julio de 2024. 20:00h \nCoriolano\, después de Shakespeare\nAdaptación de Jorge Múñoz y Emilio del Valle \nSiglo V a. C.. En Roma la democracia apenas asoma tal y como la conocemos hoy. Hay una crisis de alimentos por los altos precios del trigo: inflación. El pueblo quiere comer. Se produce una huelga\, una revuelta\, que enfrenta a patricios y plebeyos por las calles\, y a sus representantes en el senado. Hay que elegir al cónsul. Los patricios proponen al conservador Cayo Marcio\, joven\, pero experto militar que odia al pueblo. Sin embargo\, necesita sus votos\, ha de pedírselos\, rogárselos\, como paso necesario para ser proclamado Cónsul. Una batalla promovida por los Volscos contra Roma es vencida por Cayo Marcio en Corioles. Cayo Marcio ya es Coriolano. Ha ganado la batalla de Corioles\, pero la batalla política de Roma está servida. Lucha de clases\, el precio de los alimentos\, la inflación: la vigencia de este texto es extraordinaria \nReparto: Gonzalo Hermoso\, Jorge Múñoz\, Lidia Palazuelos\, Luna Mayo\, Soledad Vidal\nAdaptación: Jorge Múñoz y Emilio del Valle\nDirección: Emilio del Valle \nMás información y entradas: https://www.festivaldemerida.es/programacion/coriolano-despues-de-shakespeare/
URL:https://merida.es/agenda/70-festival-de-teatro-clasico-coriolano-despues-de-shakespeare/
LOCATION:Teatro María Luisa\, Calle Camilo José Cela\, 9\, Mérida\, España
CATEGORIES:Danza,Teatro
ATTACH;FMTTYPE=image/jpeg:https://merida.es/wp-content/uploads/2024/05/m70-coriolano-peq.jpg
END:VEVENT
BEGIN:VEVENT
DTSTART;VALUE=DATE:20240729
DTEND;VALUE=DATE:20240802
DTSTAMP:20260423T050135
CREATED:20240729T224057Z
LAST-MODIFIED:20240729T224215Z
UID:132812-1722211200-1722556799@merida.es
SUMMARY:Agusto en Mérida: "Spartois"
DESCRIPTION:Título: «Spartois» \nDirección: Juan Carlos Tirado \nCoreografías: Alba Gog \nDuración: 60 minutos \nGénero: Tragedia \nReparto: Escuela de Teatro TAPTC? \nSinopsis: Eteocles y Polinicies\, los hijos de Edipo\, se disputan el trono de Tebas. La suya es una guerra que hará regresar un mal muy antiguo\, un castigo de los dioses. \nVersión libre de José Carlos Toledado\, a partir de la obra Fenicias de Euripides. \nEdad recomendada: A partir de 12 años \nFechas: del 29 de julio al 1 de agosto\nTemplo de Diana \nEntrada General sin Numerar: 5 € – anticipada y en taquilla \nVenta de entradas: https://taptcteatro.com/
URL:https://merida.es/agenda/agusto-en-merida-spartois/
LOCATION:Templo de Diana\, Calle Romero Leal\, s/n\, Mérida
CATEGORIES:Danza,Teatro
ATTACH;FMTTYPE=image/jpeg:https://merida.es/wp-content/uploads/2024/07/2024-agusto-merida-spartois-peq.jpg
END:VEVENT
BEGIN:VEVENT
DTSTART;TZID=Europe/Madrid:20240730T220000
DTEND;TZID=Europe/Madrid:20240730T220000
DTSTAMP:20260423T050135
CREATED:20240725T220706Z
LAST-MODIFIED:20240725T220925Z
UID:132755-1722376800-1722376800@merida.es
SUMMARY:37º Festival Folklórico de los Pueblos del Mundo de Extremadura
DESCRIPTION:Con motivo de la celebración de la 37ª Edición del Festival Folklórico de los Pueblos del Mundo de Extremadura\, Mérida como una de sus sedes permanentes\, acogerá varias actuaciones en el Acueducto de los Milagros\, el día 30 de julio a las 22 horas. En esta cita intervendrán los grupos ‘African Tumbas’\, de Kenia\, ‘Ballet Folklórico Añoranzas’\, de Uruguay\, y la Asociación Folklórica y Cultural Nuestra Señora de La Antigua de Mérida. \nLas tres agrupaciones participantes se concentrarán en la zona del teatro Maria Luisa a las 21 horas\, desde donde comenzará un desfile por la calle Marquesa de Pinares hasta llegar al Acueducto de los Milagros\, dando comienzo el espectáculo a las 22 horas. \nAfrican Tumbas\, de Kenia\, es un grupo folklórico que actúan como embajadores culturales para mas de 42 grupos étnicos nativos de Kenia. Formado en 1977 en Nairobi\, esta formación se propone promover y exhibir el rico arte del folklore keniata a través de la música y la danza como medio de expresión social\, cultural y espiritual. \nEl Ballet Folklórico Añoranzas\, de Uruguay\, nace en marzo de 2015. Está dirigido por la profesora y bailarina Gabriela Areosa e integrado por jóvenes bailarines y músicos. La creación del grupo surge ante la necesidad de explorar\, compartir y difundir el folklore Uruguayo y mantener viva la tradición a través de la danza y la música. \nLa Asociación Folklórica y Cultural Nuestra Señora de La Antigua de Mérida viene trabajando desde 1980 en la tarea de investigar y difundir el riquísimo folklore de nuestra región y propiciar el desarrollo de actividades que contribuyan a difundir nuestra cultura popular al tiempo que contribuye a promocionar el turismo cultural.
URL:https://merida.es/agenda/37o-festival-folklorico-de-los-pueblos-del-mundo-de-extremadura/
LOCATION:Acueducto de Los Milagros\, Av. de Via de la Plata s/n\, Mérida
CATEGORIES:Danza
ATTACH;FMTTYPE=image/jpeg:https://merida.es/wp-content/uploads/2024/07/2024-festival-folklorico-peq.jpg
END:VEVENT
END:VCALENDAR