﻿BEGIN:VCALENDAR
VERSION:2.0
PRODID:-//Ayuntamiento de Mérida - ECPv6.15.17.1//NONSGML v1.0//EN
CALSCALE:GREGORIAN
METHOD:PUBLISH
X-WR-CALNAME:Ayuntamiento de Mérida
X-ORIGINAL-URL:https://merida.es
X-WR-CALDESC:Eventos para Ayuntamiento de Mérida
REFRESH-INTERVAL;VALUE=DURATION:PT1H
X-Robots-Tag:noindex
X-PUBLISHED-TTL:PT1H
BEGIN:VTIMEZONE
TZID:Europe/Madrid
BEGIN:DAYLIGHT
TZOFFSETFROM:+0100
TZOFFSETTO:+0200
TZNAME:CEST
DTSTART:20240331T010000
END:DAYLIGHT
BEGIN:STANDARD
TZOFFSETFROM:+0200
TZOFFSETTO:+0100
TZNAME:CET
DTSTART:20241027T010000
END:STANDARD
BEGIN:DAYLIGHT
TZOFFSETFROM:+0100
TZOFFSETTO:+0200
TZNAME:CEST
DTSTART:20250330T010000
END:DAYLIGHT
BEGIN:STANDARD
TZOFFSETFROM:+0200
TZOFFSETTO:+0100
TZNAME:CET
DTSTART:20251026T010000
END:STANDARD
BEGIN:DAYLIGHT
TZOFFSETFROM:+0100
TZOFFSETTO:+0200
TZNAME:CEST
DTSTART:20260329T010000
END:DAYLIGHT
BEGIN:STANDARD
TZOFFSETFROM:+0200
TZOFFSETTO:+0100
TZNAME:CET
DTSTART:20261025T010000
END:STANDARD
END:VTIMEZONE
BEGIN:VEVENT
DTSTART;TZID=Europe/Madrid:20251212T203000
DTEND;TZID=Europe/Madrid:20251212T203000
DTSTAMP:20260423T064812
CREATED:20250807T104302Z
LAST-MODIFIED:20250807T104302Z
UID:142708-1765571400-1765571400@merida.es
SUMMARY:Danza: "Zambra de la buena salvaje"
DESCRIPTION:Título del espectáculo: Zambra de la buena salvaje\, de Isabel Vázquez \nSinopsis: Ella\, de entre todas las salvajes\, sueña con ser la más descalza\, la más bruta\, la salvaje ejemplar. Una mujer que contiene a todas las mujeres. Un cuerpo que se debate entre lo que es y lo que se proyecta sobre él. Zambra de la buena salvaje es un grito\, un desgarro\, un ritual de desposesión. ¿Cómo recuperar tanto espacio perdido? ¿Cómo desdomesticarse? ¿Qué le ocurre a un cuerpo cuando es en otros\, cuando se permite la furia\, la risa\, la reventaera? \nUna creación de: Isabel Vázquez\nProducida por: Elena Carrascal\nIdea original\, coreografía e interpretación: Isabel Vázquez\nDirección: Alberto Velasco\nDramaturgia: Ruth Rubio \nEdad recomendada: A partir de 16 años\nPases: 12 de diciembre: 20:30 horas. \nMás información y entradas: https://www.teatromarialuisa.org/
URL:https://merida.es/agenda/danza-zambra-de-la-buena-salvaje/
LOCATION:Teatro María Luisa\, Calle Camilo José Cela\, 9\, Mérida\, España
CATEGORIES:Danza
ATTACH;FMTTYPE=image/jpeg:https://merida.es/wp-content/uploads/2025/08/2025-zambra-peq.jpg
END:VEVENT
BEGIN:VEVENT
DTSTART;TZID=Europe/Madrid:20251218T180000
DTEND;TZID=Europe/Madrid:20251218T180000
DTSTAMP:20260423T064812
CREATED:20251118T224519Z
LAST-MODIFIED:20251118T224519Z
UID:144919-1766080800-1766080800@merida.es
SUMMARY:Festival de Navidad Escuela de Baile Fran Montero
DESCRIPTION:El Palacio de Congresos acoge el Festival de Navidad de la Escuela de Baile Fran Montero el jueves 18 de diciembre\, a partir de las 18:00 horas. El precio de la entrada es de 6 euros anticipada y 8 euros en taquilla. A la venta anticipada en la propia Escuela.
URL:https://merida.es/agenda/festival-de-navidad-escuela-de-baile-fran-montero/
LOCATION:Palacio de Congresos\, Avda. del Rio s/n\, Mérida
CATEGORIES:Danza
ATTACH;FMTTYPE=image/jpeg:https://merida.es/wp-content/uploads/2025/11/2025-fran-montero-chrismats-peq.jpg
END:VEVENT
END:VCALENDAR