﻿BEGIN:VCALENDAR
VERSION:2.0
PRODID:-//Ayuntamiento de Mérida - ECPv6.15.17.1//NONSGML v1.0//EN
CALSCALE:GREGORIAN
METHOD:PUBLISH
X-WR-CALNAME:Ayuntamiento de Mérida
X-ORIGINAL-URL:https://merida.es
X-WR-CALDESC:Eventos para Ayuntamiento de Mérida
REFRESH-INTERVAL;VALUE=DURATION:PT1H
X-Robots-Tag:noindex
X-PUBLISHED-TTL:PT1H
BEGIN:VTIMEZONE
TZID:Europe/Madrid
BEGIN:DAYLIGHT
TZOFFSETFROM:+0100
TZOFFSETTO:+0200
TZNAME:CEST
DTSTART:20170326T010000
END:DAYLIGHT
BEGIN:STANDARD
TZOFFSETFROM:+0200
TZOFFSETTO:+0100
TZNAME:CET
DTSTART:20171029T010000
END:STANDARD
BEGIN:DAYLIGHT
TZOFFSETFROM:+0100
TZOFFSETTO:+0200
TZNAME:CEST
DTSTART:20180325T010000
END:DAYLIGHT
BEGIN:STANDARD
TZOFFSETFROM:+0200
TZOFFSETTO:+0100
TZNAME:CET
DTSTART:20181028T010000
END:STANDARD
BEGIN:DAYLIGHT
TZOFFSETFROM:+0100
TZOFFSETTO:+0200
TZNAME:CEST
DTSTART:20190331T010000
END:DAYLIGHT
BEGIN:STANDARD
TZOFFSETFROM:+0200
TZOFFSETTO:+0100
TZNAME:CET
DTSTART:20191027T010000
END:STANDARD
END:VTIMEZONE
BEGIN:VEVENT
DTSTART;TZID=Europe/Madrid:20180128T090000
DTEND;TZID=Europe/Madrid:20180128T090000
DTSTAMP:20260423T064252
CREATED:20180115T133859Z
LAST-MODIFIED:20180115T133859Z
UID:55620-1517130000-1517130000@merida.es
SUMMARY:IX Ruta Monumental Senderista Octavio Augusto
DESCRIPTION:El próximo domingo 28 de enero a las 9:00 horas (concentración a las 8:00 en el Albergue El Prado) tendrá lugar la novena edición de la ruta senderista “Ruta Monumental Octavio Augusto”\, prueba incluida en el Circuito “Camina Extremadura 2018”\, en la ciudad de Mérida. Se trata de un recorrido de 14\,760 km con salida desde el Albergue Municipal y llegada al Palacio de Congresos y que tiene una duración estimada de unas 4 horas.\nEn Mérida no existen grandes montañas ni profundos valles\, tampoco gargantas espectaculares ni bosques\, pero si hay dos ríos con sus riberas\, y la desembocadura de uno de ellos; y un legado monumental importantisimo de mas de 2.000 años\, de generaciones que nos precedieron. Por estas razones\, la ruta se denomina RUTA MONUMENTAL SENDERISTA OCTAVIO AUGUSTO\, y discurrirá\, combinando la parte natural de los ríos\, con la monumentalidad de la ciudad\, la adaptación de sus riberas para el goce y disfrute de la ciudadania\, integrandose en la ciudad como pulmón y zona verde de la misma.\nEl precio de la inscripción es de 6 € (federados) y 8 € (no federados). La fecha de inscripción es del 10 al 24 de enero para federados y del 18 al 24 de enero para los nos federados.\nAl finalizar la ruta habrá un acto de convivencia en el albergue municipal donde se podrá degustar un plato típico y una bebida.\nLa ruta esta organizada por el Club de Senderismo Emérita Augusta y cuenta con el patrocinio de la Dirección General de Deportes de la Junta de Extremadura\, la Federación Extremeña de Montaña y Escalada” (FEXME)\, Excmo. Ayuntamiento de Mérida y el Consorcio de la Ciudad Monumental de Mérida.\nToda la información de la prueba e inscripciones se encontrará en la web del Club Organizador: www.senderismoemeritaaugusta.com
URL:https://merida.es/agenda/ix-ruta-monumental-senderista-octavio-augusto/
LOCATION:Recorrido Urbano\, Mérida
CATEGORIES:Convivencia,Deporte
ATTACH;FMTTYPE=image/jpeg:https://merida.es/wp-content/uploads/2018/01/ruta-senderista-monumental-peq.jpg
END:VEVENT
BEGIN:VEVENT
DTSTART;TZID=Europe/Madrid:20180128T100000
DTEND;TZID=Europe/Madrid:20180128T100000
DTSTAMP:20260423T064252
CREATED:20180124T133941Z
LAST-MODIFIED:20180124T133941Z
UID:55825-1517133600-1517133600@merida.es
SUMMARY:Gran Premio de Ciclismo “Mérida Patrimonio de la Humanidad”
DESCRIPTION:El domingo\, 28 de enero\, se celebra la IV edición del Gran Premio de Ciclismo “Mérida Patrimonio de la Humanidad” organizado por la Sociedad Emeritense Amigos del Ciclismo.\nSe darán cita corredores en categorías Sub 23\, Élite\, M30\, M40\, M60 y Féminas y la salida será desde la Avenida Juan Carlos I a partir de las 10:15 de la mañana\, con llegada al mismo lugar\, aproximadamente\, a las 13:10 horas.\nEn la prueba participarán 200 corredores procedentes de Madrid\, Extremadura\, Andalucía\, Castilla León\, Castilla La Mancha\, Portugal\, entre otros. Tiene alrededor de 30\,5 kilómetros de recorrido por vuelta y\, en ella\, los corredores Master 50-60 y Féminas solo hacen dos vueltas mientras que el resto de categorías realiza la tercera con un kilometraje total de 92\,7 kilómetros.\nEl recorrido transcurre por las vecinas localidades de Valverde de Mérida\, San Pedro de Mérida y Trujillanos.\nMás información e inscripciones: http://ciclismoextremadura.es
URL:https://merida.es/agenda/gran-premio-de-ciclismo-merida-patrimonio-de-la-humanidad/
LOCATION:Recorrido por la comarca de Mérida
CATEGORIES:Deporte
ATTACH;FMTTYPE=image/jpeg:https://merida.es/wp-content/uploads/2018/01/ciclismo-peq.jpg
END:VEVENT
BEGIN:VEVENT
DTSTART;VALUE=DATE:20180130
DTEND;VALUE=DATE:20180202
DTSTAMP:20260423T064252
CREATED:20180129T142619Z
LAST-MODIFIED:20180129T142619Z
UID:55923-1517270400-1517529599@merida.es
SUMMARY:56º Campeonato Nacional Militar de Campo a Través
DESCRIPTION:Desde mañana\, 30 de enero\, y hasta el jueves\, 1 de febrero\, se celebrará en el Circo Romano el 56º Campeonato Nacional Militar de Campo a Través\, participando equipos pertenecientes a la Guardia Real\, el Ejército de Tierra\, la Armada\, el Ejército del Aire\, la Organización Central de Defensa\, la Unidad Militar de Emergencias y la Guardia Civil.\nPROGRAMA:\nMartes\, 30 de enero:\n•  09:30 Horas: Reunión técnica para la Organización y Jueces en el salón\nde actos de la Escuela de Tráfico de la Guardia Civil en Mérida.\n•  10:00 Horas: Presentación del Campeonato\, reunión de delegados\, jefes\nde equipos\, inscripción definitiva\, entrega de dorsales y sorteo de calles.\n•  12:00 Horas: Reconocimiento del circuito. Entrenamientos (Circo\nRomano de Mérida).\nMiércoles\, 31 de enero (Circo Romano de Mérida):\n•  10:00 Horas: Salida conjunta de las pruebas de veteranas y veteranos.\n•  10:45 Horas: Salida de la prueba de fondo corto.\n•  11:30 Horas: Salida de la prueba femenina.\n•  12:15 Horas: Salida de la prueba de fondo largo.\nJueves\, 1 de febrero:\n•  11:00 Horas: entrega de Trofeos del Campeonato por Delegaciones en la\nEscuela de Tráfico de la Guardia Civil en Mérida.\n•  12:00 Horas: ceremonia de Clausura y entrega de trofeos.\n•  12:30 Horas: Acto social.\nOrganiza la Junta Central de Educación Física y Deportes de la Guardia Civil con la colaboración del Ayuntamiento y del Consorcio de la Ciudad Monumental.
URL:https://merida.es/agenda/56o-campeonato-nacional-militar-de-campo-a-traves/
LOCATION:Circo Romano\, Avenida Juan Carlos I\, Mérida
CATEGORIES:Deporte
ATTACH;FMTTYPE=image/jpeg:https://merida.es/wp-content/uploads/2018/01/campeonato-militar-peq.jpg
END:VEVENT
END:VCALENDAR