﻿BEGIN:VCALENDAR
VERSION:2.0
PRODID:-//Ayuntamiento de Mérida - ECPv6.15.17.1//NONSGML v1.0//EN
CALSCALE:GREGORIAN
METHOD:PUBLISH
X-WR-CALNAME:Ayuntamiento de Mérida
X-ORIGINAL-URL:https://merida.es
X-WR-CALDESC:Eventos para Ayuntamiento de Mérida
REFRESH-INTERVAL;VALUE=DURATION:PT1H
X-Robots-Tag:noindex
X-PUBLISHED-TTL:PT1H
BEGIN:VTIMEZONE
TZID:Europe/Madrid
BEGIN:DAYLIGHT
TZOFFSETFROM:+0100
TZOFFSETTO:+0200
TZNAME:CEST
DTSTART:20170326T010000
END:DAYLIGHT
BEGIN:STANDARD
TZOFFSETFROM:+0200
TZOFFSETTO:+0100
TZNAME:CET
DTSTART:20171029T010000
END:STANDARD
BEGIN:DAYLIGHT
TZOFFSETFROM:+0100
TZOFFSETTO:+0200
TZNAME:CEST
DTSTART:20180325T010000
END:DAYLIGHT
BEGIN:STANDARD
TZOFFSETFROM:+0200
TZOFFSETTO:+0100
TZNAME:CET
DTSTART:20181028T010000
END:STANDARD
BEGIN:DAYLIGHT
TZOFFSETFROM:+0100
TZOFFSETTO:+0200
TZNAME:CEST
DTSTART:20190331T010000
END:DAYLIGHT
BEGIN:STANDARD
TZOFFSETFROM:+0200
TZOFFSETTO:+0100
TZNAME:CET
DTSTART:20191027T010000
END:STANDARD
END:VTIMEZONE
BEGIN:VEVENT
DTSTART;VALUE=DATE:20180405
DTEND;VALUE=DATE:20180429
DTSTAMP:20260420T024630
CREATED:20180417T072314Z
LAST-MODIFIED:20180417T072314Z
UID:57939-1522886400-1524959999@merida.es
SUMMARY:Desafío por la Salud Mérida-Évora 2018
DESCRIPTION:Con motivo del Día Internacional de la Salud\, que se celebró el pasado día 7\, la delegación de Sanidad está colaborando\, este mes de abril\, en una serie de actividades enmarcadas en una nueva edición del “Desafío por la Salud” que se celebra\, de manera conjunta\, con el Ayuntamiento de la localidad portuguesa de Évora.\nDe esta manera\, el pasado 5 de abril se inauguró en el Centro de Ocio Joven “El Economato” una exposición de carteles sobre campañas de Educación para la Salud que estará abierta hasta el próximo 20 de abril.\nDentro de esta programación\, que engloba ocio\, cultura\, deporte y salud\, se incluyeron las Millas Romanas\, organizadas por el Club de Senderismo Vía de la Plata\, la prueba de natación Judex Prebenjamín y el Campeonato Regional de Motocross\, celebrados el pasado fin de semana.\nEste fin de semana\, se celebrarán unas jornadas de puertas abiertas de Ajedrez y Tenis de mesa en el Centro de Ocio Joven “El Economato”. Además\, en el mismo centro\, en la tarde de hoy viernes\, se celebran talleres de alimentación saludable\, ejercicio físico y actividad deportiva para chicos y chicas de 9 a 12 años. Este domingo\, en el recinto ferial\, se celebrará el I Canicross solidario de la ciudad de Mérida organizado por la Asociación Acudame.\nLa Plaza de España será el escenario\, el 19 de abril\, desde las 17 hasta las 20 horas\, de una toma de tensión arterial y medición de azúcar\, así como un taller de Reanimación Cardiopulmonar en colaboración con la Gerencia del Área de Salud de Mérida y Estudiantes de Grado de Enfermería del CUM.\nYa el viernes 20 de abril\, se celebrará la actividad “Noc-turnos\, promoviendo el consumo cero de alcohol al volante” en el que se premiará a aquellos conductores jóvenes que\, tras varios controles de alcoholemia esa noche\, den una tasa 0 en consumo de alcohol. La actividad se realizará en la plaza de Santo Domingo desde las 23 hasta las 2 horas.\nSe incluye en la programación la carrera nocturna Music Run Night del 21 de abril y la carrera solidaria que\, el 23 de abril\, organiza el CEIP Giner de los Ríos y que partirá desde el Parque de Margarita Xirgú. El 25 de abril\, la Ciudad Deportiva acogerá la Jornada Deportiva Intercentros y el 27 de abril las Olimpiadas Escolares. Por último\, el 28 de abril\, organizado por la Asociación de Vecinos de María Auxiliadora\, se celebrará la Ruta Fotográfica de 4×4\, Quads y Motos.\nEstas actividades se complementan con los programas de radio que\, cada martes y viernes\, en Radio Forum y Cadena Ser\, se están emitiendo bajo el lema “Hablando de nuestra salud” en el que se tratan temas como el uso de los antibióticos\, el ejercicio y la prevención de caídas. \n[list][li type=»glyphicon-arrow-right»]Programación Desafío por la Salud 2018[/li][/list]
URL:https://merida.es/agenda/desafio-por-la-salud-merida-evora-2018/
LOCATION:Varios puntos de la ciudad\, Mérida
CATEGORIES:Curso-Taller,Deporte,Educación,Jornadas
ATTACH;FMTTYPE=image/jpeg:https://merida.es/wp-content/uploads/2018/04/mes-salud-peq.jpg
END:VEVENT
BEGIN:VEVENT
DTSTART;VALUE=DATE:20180406
DTEND;VALUE=DATE:20180408
DTSTAMP:20260420T024630
CREATED:20180110T133238Z
LAST-MODIFIED:20180110T133238Z
UID:55530-1522972800-1523145599@merida.es
SUMMARY:XX Edición Trail LXVII Millas Romanas
DESCRIPTION:El Club de Senderismo Camino Plata de Mérida organiza\, un año más\, las LXVII Millas Romanas que en 2018 celebra 20 años. Una prueba cuya distancia a recorrer será 100 km. en un máximo de 24 horas.\nLa hora de salida será a las 21:00 horas del viernes día 6 de Abril del 2018 desde el lugar de Mérida que la organización designe y que será debidamente comunicada\, la prueba también recoge una salida especial para los que quieran realizar la prueba de XXX Millas Romanas (36 km aproximadamente)\, será el día 7 de Abril a las 10:00 horas desde La Zarza\, para ello los participantes deberán estar a las 9:15 horas en el Polideportivo Diocles c/Luis Buñuel de Mérida\, desde donde serán trasladados en autobús al lugar de salida.\nEl número máximo de participantes será de 850 en total para ambas pruebas\, 700 y 150 respectivamente. La recogida de dorsales será el día 6 de Abril del 2018 desde las 17:00 horas hasta las 20:30 horas en el Polideportivo Diocles de Mérida (para ambas pruebas)\, no se entregarán dorsales fuera de esta fecha y hora.\nLa prueba de las LXVII millas contará con dos modalidades\, individual y por equipos. El participante que finalice el recorrido completo\, tenga los sellos correspondientes en el rutómetro y no haya sido descalificado por la organización\, se le entregará una reproducción a escala de un miliario romano\, símbolo de la prueba.\nInscripciones: http://www.deporticket.com
URL:https://merida.es/agenda/xx-edicion-trail-lxvii-millas-romanas/
LOCATION:Recorrido por la comarca de Mérida
CATEGORIES:Deporte
ATTACH;FMTTYPE=image/jpeg:https://merida.es/wp-content/uploads/2018/01/millas-romanas-peq.jpg
END:VEVENT
BEGIN:VEVENT
DTSTART;TZID=Europe/Madrid:20180408T090000
DTEND;TZID=Europe/Madrid:20180408T090000
DTSTAMP:20260420T024630
CREATED:20180323T094248Z
LAST-MODIFIED:20180323T094248Z
UID:57398-1523178000-1523178000@merida.es
SUMMARY:Campeonato Extremeño de Motocross
DESCRIPTION:El domingo 8 de abril se celebra\, en el circuito municipal Vía de la Plata\, una nueva prueba puntuable para el Campeonato de Extremadura de Motocross en las categorías MX1\, MX2\, Sub18\, Máster\, Clásicas\, Féminas\, 85cc y 65 y 50 cc
URL:https://merida.es/agenda/campeonato-extremeno-de-motocross/
LOCATION:Circuito Municipal Vía de la Plata\, Mérida
CATEGORIES:Deporte
ATTACH;FMTTYPE=image/jpeg:https://merida.es/wp-content/uploads/2018/03/motocross-peq.jpg
END:VEVENT
BEGIN:VEVENT
DTSTART;TZID=Europe/Madrid:20180415T120000
DTEND;TZID=Europe/Madrid:20180415T120000
DTSTAMP:20260420T024630
CREATED:20180402T104849Z
LAST-MODIFIED:20180402T104849Z
UID:57506-1523793600-1523793600@merida.es
SUMMARY:I Canicross Solidario de la Ciudad de Mérida
DESCRIPTION:El próximo domingo\, 15 de abril\, ACUDAME organiza el I Canicross Solidario de la Ciudad de Mérida con la intención de mezclar deporte y salud junto a nuestros mejores amigos con la única finalidad de pasarlo bien. El recorrido es apto para todo tipo de personas\, de sólo 3.2 km\, por el Parque de La Isla y también se podrá realizar andando. La salida y llegada es en el Recinto Ferial.\nLa hora de salida serán las 12:00 h de la mañana\, y el precio de la inscripción es de 6 euros. Las plazas son limitadas. Para participar se tiene que hacer un ingreso de 6 euros al número de cuenta La Caixa ES72-2100-5698-98-0100316621 o por PayPal al email asociacion_acudame@hotmail.com. Posteriormente\, habrá que enviar un email\, con el comprobante de la operación\, nombre\, DNI\, fecha de nacimiento\, nombre perro y n° chip\, a canicross.acudame@gmail.com
URL:https://merida.es/agenda/i-canicross-solidario-de-la-ciudad-de-merida/
LOCATION:Recinto Ferial\, Mérida
CATEGORIES:Convivencia,Deporte
ATTACH;FMTTYPE=image/jpeg:https://merida.es/wp-content/uploads/2018/04/i-canicross-peq2.jpg
END:VEVENT
BEGIN:VEVENT
DTSTART;TZID=Europe/Madrid:20180420T090000
DTEND;TZID=Europe/Madrid:20180420T090000
DTSTAMP:20260420T024630
CREATED:20180419T161034Z
LAST-MODIFIED:20180419T161034Z
UID:58074-1524214800-1524214800@merida.es
SUMMARY:I Carrera Solidaria Escolar “Corro\, Donas\, Viven”
DESCRIPTION:El viernes 20 de abril tendrá lugar la I Carrera Solidaria Escolar “Corro\, donas\, viven” en el Circo Romano\, a partir de las 9:00 horas. Se trata de una carrera en la que participarán alumnos del IES Santa Eulalia y el CEIP Federico García Lorca en una actividad que pretende reunir deporte y solidaridad.\n“Corro\, Donas\, Viven” es un proyecto de carácter solidario que tiene como principales objetivos apoyar a la Asociación de Donación de Médula Ósea (ADMO) y a la planta de Oncología Infantil del Materno de Badajoz.
URL:https://merida.es/agenda/i-carrera-solidaria-escolar-corro-donas-viven/
LOCATION:Circo Romano\, Avenida Juan Carlos I\, Mérida
CATEGORIES:Benéfico,Deporte,Educación
ATTACH;FMTTYPE=image/png:https://merida.es/wp-content/uploads/2018/04/carrera-escolar-corro-donas-viven-peq.png
END:VEVENT
BEGIN:VEVENT
DTSTART;VALUE=DATE:20180421
DTEND;VALUE=DATE:20180422
DTSTAMP:20260420T024630
CREATED:20180301T162727Z
LAST-MODIFIED:20230118T105346Z
UID:56782-1524268800-1524355199@merida.es
SUMMARY:Music Run Night 2018
DESCRIPTION:La carrera nocturna Music Run Night\, un innovador concepto de competición deportiva que brinda a los participantes una nueva forma de entender y disfrutar con la práctica deportiva\, se celebrará en Mérida el próximo sábado 21 de abril.\nLa carrera forma parte de un circuito que promueve la Diputación de Badajoz\, en colaboración con los ayuntamientos implicados\, la Fundación Jóvenes y Deportes\, Alimentos de Extremadura\, Avante y Aexcid más las firmas comerciales de Ibercaja\, Herma\, Carrefour y Sierra Cazorla\, entre otros.\nLa prueba se iniciará a las 20 horas en el acueducto de Los Milagros. Las inscripciones pueden realizarse desde hoy\, hasta una semana antes de la prueba\, en www.musicrun.es  Los participantes recibirán regalos (camiseta\, medalla\, bebida y comida\, rehabilitación…) y los ganadores material deportivo y alimentos de Extremadura\, de uno de los patrocinadores.\nLa Music Run Night es una carrera nocturna donde correr\, competir y pasarlo bien van de la mano\, convirtiendo la convocatoria deportiva en un espectáculo visual y musical. La prueba se correrá sobre distancias de 10 kilómetros para corredores expertos\, 5 kilómetros para corredores iniciados y 1 kilómetro para niños. Considerada una mezcla perfecta de música\, luz\, deporte\, animación\, sonido y solidaridad\, los circuitos serán urbanos y discurrirán por los lugares más emblemáticos de la ciudad.
URL:https://merida.es/agenda/music-run-night/
LOCATION:Recorrido Urbano\, Mérida
CATEGORIES:Deporte
ATTACH;FMTTYPE=image/jpeg:https://merida.es/wp-content/uploads/2018/03/music-run-peq.jpg
END:VEVENT
BEGIN:VEVENT
DTSTART;TZID=Europe/Madrid:20180421T093000
DTEND;TZID=Europe/Madrid:20180421T093000
DTSTAMP:20260420T024630
CREATED:20180419T092949Z
LAST-MODIFIED:20180419T092949Z
UID:58050-1524303000-1524303000@merida.es
SUMMARY:III Torneo Voleibol Pirron Sport
DESCRIPTION:El Formación Deportiva Mérida organiza este sábado\, 21 de abril\, el III Torneo de Voleibol Pirron Sport con la participación de todas sus categorías (juvenil\, cadete\, infantil\, alevín y benjamín femenino) y con el objetivo de seguir dando a conocer este deporte en auge en la ciudad. Además del club emeritense participarán los clubes C.P. Don Bosco de Badajoz\, Voley Plaza de Villafranca de los Barros y A.D. Voleibol Valdelacalzada. Se jugará en tres pistas de manera simultánea y se espera que participen un total de 150 jugadoras. Desde las 9:30 horas de la mañana en el Pabellón Guadiana
URL:https://merida.es/agenda/iii-torneo-voleibol-pirron-sport/
LOCATION:Complejo Polideportivo Guadiana\, Avenida de la Constitución\, s/n\, Mérida
CATEGORIES:Deporte
ATTACH;FMTTYPE=image/jpeg:https://merida.es/wp-content/uploads/2018/04/voleibol-torneo-peq.jpg
END:VEVENT
END:VCALENDAR