﻿BEGIN:VCALENDAR
VERSION:2.0
PRODID:-//Ayuntamiento de Mérida - ECPv6.15.17.1//NONSGML v1.0//EN
CALSCALE:GREGORIAN
METHOD:PUBLISH
X-WR-CALNAME:Ayuntamiento de Mérida
X-ORIGINAL-URL:https://merida.es
X-WR-CALDESC:Eventos para Ayuntamiento de Mérida
REFRESH-INTERVAL;VALUE=DURATION:PT1H
X-Robots-Tag:noindex
X-PUBLISHED-TTL:PT1H
BEGIN:VTIMEZONE
TZID:Europe/Madrid
BEGIN:DAYLIGHT
TZOFFSETFROM:+0100
TZOFFSETTO:+0200
TZNAME:CEST
DTSTART:20240331T010000
END:DAYLIGHT
BEGIN:STANDARD
TZOFFSETFROM:+0200
TZOFFSETTO:+0100
TZNAME:CET
DTSTART:20241027T010000
END:STANDARD
BEGIN:DAYLIGHT
TZOFFSETFROM:+0100
TZOFFSETTO:+0200
TZNAME:CEST
DTSTART:20250330T010000
END:DAYLIGHT
BEGIN:STANDARD
TZOFFSETFROM:+0200
TZOFFSETTO:+0100
TZNAME:CET
DTSTART:20251026T010000
END:STANDARD
BEGIN:DAYLIGHT
TZOFFSETFROM:+0100
TZOFFSETTO:+0200
TZNAME:CEST
DTSTART:20260329T010000
END:DAYLIGHT
BEGIN:STANDARD
TZOFFSETFROM:+0200
TZOFFSETTO:+0100
TZNAME:CET
DTSTART:20261025T010000
END:STANDARD
END:VTIMEZONE
BEGIN:VEVENT
DTSTART;TZID=Europe/Madrid:20251207T093000
DTEND;TZID=Europe/Madrid:20251207T093000
DTSTAMP:20260422T164139
CREATED:20251202T083309Z
LAST-MODIFIED:20251203T124940Z
UID:145246-1765099800-1765099800@merida.es
SUMMARY:III Trofeo Santa Eulalia de Tiro con Arco
DESCRIPTION:El domingo 7 de diciembre\, a las 9\,30 horas\, el Complejo Polideportivo de La Paz acoge el III Trofeo Santa Eulalia de Tiro con Arco organizado por el Club de Tiro con Arco Santa Eulalia. \nMás de 60 arqueros procedentes de Extremadura y otras comunidades autónomas se darán cita en esta prueba\, que se disputará en las modalidades instintivo\, barebow y compuesto. Entre ellos figuran deportistas con títulos de campeones nacionales\, europeos y mundiales\, lo que garantiza un buen nivel competitivo. \nLa modalidad 3D de tiro con arco se caracteriza por el uso de dianas volumétricas colocadas en posiciones y distancias variables que ponen a prueba la precisión\, técnica y capacidad de adaptación de cada participante. Una disciplina espectacular que acerca este deporte al público de una forma visual y emocionante.
URL:https://merida.es/agenda/iii-trofeo-santa-eulalia-de-tiro-con-arco/
LOCATION:Complejo Polideportivo La Paz\, Calle Trébol\, s/n\, Mérida\, España
CATEGORIES:Deporte
ATTACH;FMTTYPE=image/jpeg:https://merida.es/wp-content/uploads/2025/12/2025-trofeo-santa-eulalia-tiro-con-arco-peq.jpg
END:VEVENT
BEGIN:VEVENT
DTSTART;TZID=Europe/Madrid:20251210T100000
DTEND;TZID=Europe/Madrid:20251210T100000
DTSTAMP:20260422T164140
CREATED:20251202T081149Z
LAST-MODIFIED:20251202T081149Z
UID:145244-1765360800-1765360800@merida.es
SUMMARY:II Torneo Solidario 'Creando conciencias'
DESCRIPTION:El II Torneo de Fútbol Solidario de categoría Benjamín “Creando conciencias” se disputará el 10 de diciembre\, desde las 10 horas\, en el campo de María Auxiliadora. En este evento se recaudarán fondos para la Asociación Regional de Parkinson Extremadura. \nEl torneo está organizado por el Club Atlético Romano\, con la participación además de Imperio C.P. A. D. Mérida\, C.D. La Corchera\, y con la novedad este año de contar con dos equipos formados por personas con diversidad funcional. En la entrada se instalará una mesa informativa donde se dará información de la entidad y para la recogida del donativo de 2€.
URL:https://merida.es/agenda/ii-torneo-solidario-creando-conciencias/
LOCATION:Campos de fútbol María Auxiliadora
CATEGORIES:Benéfico,Deporte
ATTACH;FMTTYPE=image/jpeg:https://merida.es/wp-content/uploads/2025/12/2025-torneo-solidario-parkinson-peq.jpg
END:VEVENT
BEGIN:VEVENT
DTSTART;TZID=Europe/Madrid:20251228T100000
DTEND;TZID=Europe/Madrid:20251228T100000
DTSTAMP:20260422T164140
CREATED:20251222T163402Z
LAST-MODIFIED:20251222T163402Z
UID:145730-1766916000-1766916000@merida.es
SUMMARY:I Torneo Futsal Vera Cruz
DESCRIPTION:El Polideportivo de La Antigua acogerá el 28 de diciembre\, a partir de las 10:00 horas\, el I Torneo de Fútbol Sala Vera Cruz con el objetivo de promover espacios de convivencia interculturales a través del deporte. Barra a precios populares. Organiza la Franciscana Hermandad del Santísimo Cristo de la Vera Cruz y María Santísima de Nazaret\, en colaboración con el Ayuntamiento de Mérida\, la Emerileague\, Fundación Cepaim y Asociación de Vecinos de La Antigua.
URL:https://merida.es/agenda/i-torneo-futsal-vera-cruz/
LOCATION:Pista Polideportiva de La Antigua\, Calle Yucatán\, s/n
CATEGORIES:Benéfico,Deporte
ATTACH;FMTTYPE=image/jpeg:https://merida.es/wp-content/uploads/2025/12/2025-torneo-futsal-veracruz-peq.jpg
END:VEVENT
BEGIN:VEVENT
DTSTART;TZID=Europe/Madrid:20251230T183000
DTEND;TZID=Europe/Madrid:20251230T183000
DTSTAMP:20260422T164140
CREATED:20251201T110455Z
LAST-MODIFIED:20251201T112007Z
UID:145211-1767119400-1767119400@merida.es
SUMMARY:XVII San Silvestre de Mérida
DESCRIPTION:La ya tradicional San Silvestre emeritense\, una carrera popular y  de carácter festivo (en la que puede participarse con equipación deportiva o con disfraz)\, celebrará su XVII edición el martes 30 de diciembre\, desde las 18:30 horas\, cuya prueba principal tendrá salida y meta en la Calle Félix Valverde Lillo. \nEl trazado dispondrá de tres circuitos urbanos: \nCircuito A: Tendrá una distancia de 4.000 metros aproximadamente y discurrirá por la calle Félix Valverde Lillo\, calle Camilo José Cela\, avenida de Extremadura\, avenida de Juan Carlos I\, cambio de sentido en la rotonda del Padre Panero\, de vuelta por la avenida de Juan Carlos I\, avenida de Extremadura\, calle Almendralejo\, paseo de Roma\, calle del Puente\, plaza de España y calle Félix Valverde Lillo. \nCircuito B: Tendrá una distancia de 750 metros aproximadamente y discurrirá por la calle Félix Valverde Lillo\, calle Camilo José Cela\, calle Arzobispo Mausona\, calle Almendralejo\, travesía Almendralejo\, calle Alvarado\, calle Trajano y calle Félix Valverde Lillo. \nCircuito C: Tendrá una distancia de 150 metros aproximadamente y discurrirá por la calle Félix Valverde Lillo. \nHabrá diferentes categorías que tendrán que realizar uno u otro circuito según la edad. También habrá una Caminata para Mayores. \nLas inscripciones se podrán realizar hasta el 22 de diciembre online en www.chipserena.es y presencialmente en Deportes Pirron\, en la calle Juan Pablo Forner\, 8 y Her\, en la Calle Almendralejo\, 48. El precio de inscripción es de 8 euros para todas las categorías de adultos y caminata y de 4 euros para los menores de 16 años. 10 euros para las inscripciones de última hora. \nLos dorsales correspondientes al periodo de inscripción ordinario irán personalizados\, mientras que los dorsales correspondientes a las inscripciones de última hora\, no. A los primeros 1.300 participantes que recojan el dorsal\, se les facilitará\, junto con el dorsal\, un gorro conmemorativo de la prueba y alusivo a estas fiestas. \nEn lo que respecta a premios\, habrá premios para los tres primeros clasificados de cada categoría\, medalla para todos los niños y niñas\, y a los tres primeros de la general y\, además\, un premio a los cinco mejores disfraces individuales y a los cinco mejores en grupos de mínimo tres personas. \nEsta prueba deportiva está organizada por el Club de Atletismo Mitreo con el patrocinio del Ayuntamiento de Mérida\, y con la colaboración de diferentes entidades.
URL:https://merida.es/agenda/san-silvestre-2025/
LOCATION:Recorrido Urbano\, Mérida
CATEGORIES:Deporte,Navidad
ATTACH;FMTTYPE=image/jpeg:https://merida.es/wp-content/uploads/2025/12/2025-san-silvestre-merida-peq.jpg
END:VEVENT
END:VCALENDAR