﻿BEGIN:VCALENDAR
VERSION:2.0
PRODID:-//Ayuntamiento de Mérida - ECPv6.15.17.1//NONSGML v1.0//EN
CALSCALE:GREGORIAN
METHOD:PUBLISH
X-WR-CALNAME:Ayuntamiento de Mérida
X-ORIGINAL-URL:https://merida.es
X-WR-CALDESC:Eventos para Ayuntamiento de Mérida
REFRESH-INTERVAL;VALUE=DURATION:PT1H
X-Robots-Tag:noindex
X-PUBLISHED-TTL:PT1H
BEGIN:VTIMEZONE
TZID:Europe/Madrid
BEGIN:DAYLIGHT
TZOFFSETFROM:+0100
TZOFFSETTO:+0200
TZNAME:CEST
DTSTART:20250330T010000
END:DAYLIGHT
BEGIN:STANDARD
TZOFFSETFROM:+0200
TZOFFSETTO:+0100
TZNAME:CET
DTSTART:20251026T010000
END:STANDARD
BEGIN:DAYLIGHT
TZOFFSETFROM:+0100
TZOFFSETTO:+0200
TZNAME:CEST
DTSTART:20260329T010000
END:DAYLIGHT
BEGIN:STANDARD
TZOFFSETFROM:+0200
TZOFFSETTO:+0100
TZNAME:CET
DTSTART:20261025T010000
END:STANDARD
BEGIN:DAYLIGHT
TZOFFSETFROM:+0100
TZOFFSETTO:+0200
TZNAME:CEST
DTSTART:20270328T010000
END:DAYLIGHT
BEGIN:STANDARD
TZOFFSETFROM:+0200
TZOFFSETTO:+0100
TZNAME:CET
DTSTART:20271031T010000
END:STANDARD
END:VTIMEZONE
BEGIN:VEVENT
DTSTART;TZID=Europe/Madrid:20260201T110000
DTEND;TZID=Europe/Madrid:20260201T110000
DTSTAMP:20260420T002439
CREATED:20260113T090416Z
LAST-MODIFIED:20260128T203237Z
UID:145914-1769943600-1769943600@merida.es
SUMMARY:XXXII Fondo Popular Don Bosco (CANCELADO)
DESCRIPTION:La AMPA del Colegio Salesiano María Auxiliadora de Mérida\, con la colaboración del Excmo. Ayuntamiento de Mérida y el propio Colegio\, organiza el domingo 1 de febrero de 2026\, el XXXII FONDO POPULAR DON BOSCO\, un evento sin ánimo de lucro en la que toda la recaudación de las inscripciones se destina íntegramente a fin social. Se establecen cuatro categorías: niños\, jóvenes\, personas adultas y la caminata. \nEn la categoría de niños es para participantes con edades desde los 8 hasta los 13 años\, divididos en tres subcategorías: benjamín\, alevín e infantil y parte desde el Templo de Diana. El recorrido es de unos 2\,2 km. La categoría de jóvenes es para participantes desde los 14 años hasta los 17\, partiendo desde la Isla. El recorrido tiene 3\,3 km. \nLa categoría de personas adultas será para participantes con edades a partir de los 18 años\, incluyendo categorías Senior y Máster\, con un recorrido de 7\,6 km. Por último\, la Caminata está destinada para aquellas personas que no puedan competir en las diferentes carreras y comenzará en La Isla con una distancia de unos 2\,9 km. \nEl fondo recorrerá los monumentos más emblemáticos de la ciudad como el puente romano\, el propio Templo de Diana\, el Foro\, el Museo romano y el Teatro\, finalizando en las instalaciones del colegio\, estando prevista la participación de unos 1.000 corredores. \nLas inscripciones podrán realizarse a través de chipserena.es (hasta el día 29 de enero a las 23:59 horas) y en las instalaciones del colegio Salesianos\, los días 28 y 29 de enero desde las 17:30 a las 20:00 horas\, no admitiéndose inscripciones posteriores a esta fecha. La inscripción será de 7 € para las categorías de adultos y de 3 € para el resto de las categorías. El dinero que se recaude se destinará al Proyecto Murialdo de la Casa Salesiana de Mérida. \nLa finalización de la prueba está prevista alrededor de las 13 horas en las instalaciones del colegio; a partir de ese momento habrá degustación de migas y se producirá la entrega de premios a los tres primeros clasificados de cada una de las categorías\, tanto masculino como femenino\, excepto la caminata que no tendrá carácter competitivo. \nEL EVENTO HA SIDO CANCELADO POR LOS ORGANIZADORES ANTE LAS MALAS CONDICIONES METEOROLÓGICAS PREVISAS
URL:https://merida.es/agenda/fondo-popular-don-bosco-2026/
LOCATION:Recorrido Urbano\, Mérida
CATEGORIES:Deporte
ATTACH;FMTTYPE=image/jpeg:https://merida.es/wp-content/uploads/2026/01/2026-fondo-popular-bosco-peq.jpg
END:VEVENT
BEGIN:VEVENT
DTSTART;TZID=Europe/Madrid:20260215T123000
DTEND;TZID=Europe/Madrid:20260215T123000
DTSTAMP:20260420T002439
CREATED:20260211T085340Z
LAST-MODIFIED:20260211T090514Z
UID:146510-1771158600-1771158600@merida.es
SUMMARY:Día de la Bicicleta del Carnaval Romano 2026
DESCRIPTION:El próximo domingo 15 de febrero\, y dentro de la programación del Carnaval Romano 2026\, se celebrará el “Día de la Bicicleta del Carnaval Romano” con salida y llegada en la Plaza de España. \nEl recorrido es de cinco kilómetros\, que comienza y finaliza en la Plaza de España. Sale por Félix Valverde Lillo en dirección Torre de Mérida\, Marquesa Pinares\, José Fernández López\, Puente de Lusitania\, Parque de las Siete Sillas\, Puente Romano\, Loba Capitolina\, Cava\, Plaza del Rastro\, Graciano y John Lennon\, Plaza del Rastro y Plaza de España. \nLos premios son los siguientes: mejor disfraz individual (75 euros)\, mejor disfraz por parejas (150 euros) y mejor disfraz en grupo con mínimo 5 componentes (275 euros). Al finalizar se hará un sorteo de dos bicicletas entre todos los participantes. \nLas inscripciones\, gratuitas\, pueden realizarse en la web ciclismoextremadura.es hasta el 14 de febrero\, a las 14:00 horas. \nLa recogida de dorsales se podrá realizar en la Federación Extremeña de Ciclismo (traseras de la C/ Platón s/n) en horario de 9 a 14 horas y el día de la carrera\, de 10.30 a 12:15h de la mañana\, en la misma Plaza de España. \nOrganiza la Escuela Ciclista de Mérida con la colaboración del Ayuntamiento de Mérida.
URL:https://merida.es/agenda/dia-de-la-bicicleta-del-carnaval-romano-2026/
LOCATION:Recorrido Urbano\, Mérida
CATEGORIES:Carnaval,Deporte
ATTACH;FMTTYPE=image/jpeg:https://merida.es/wp-content/uploads/2026/02/2026-dia-bicicleta-carnaval-peq.jpg
END:VEVENT
BEGIN:VEVENT
DTSTART;VALUE=DATE:20260221
DTEND;VALUE=DATE:20260223
DTSTAMP:20260420T002439
CREATED:20260211T104345Z
LAST-MODIFIED:20260211T104345Z
UID:146515-1771632000-1771804799@merida.es
SUMMARY:Campeonato de España de Motocross
DESCRIPTION:El circuito municipal de Royanejos “Vía de la Plata” inaugura el calendario de prueba de motocross a nivel nacional con la celebración de una prueba puntuable para el Campeonato de España\, los días 21 y 22 de febrero. Las categorías convocadas en esta Prueba son: MX Sub 18\, MX 85 cc\, MX 65 cc\, MX Féminas y MX Master. \nLa competición\, que espera una participación total de unos 180 pilotos\, se iniciará el viernes\, 20 de febrero\, con las verificaciones administrativas y técnicas. El sábado 21 comenzarán los entrenamientos cronometrados y las primeras mangas de competición para categorías como MX65\, MX85\, Féminas y Máster. El domingo 22 será el día de mayor intensidad con los “warm-up” desde las 9 horas y las carreras principales a partir de las 10\, incluyendo las mangas de la categoría sub-18.
URL:https://merida.es/agenda/campeonato-de-espana-de-motocross/
LOCATION:Circuito Municipal Vía de la Plata\, Mérida
CATEGORIES:Deporte
ATTACH;FMTTYPE=image/jpeg:https://merida.es/wp-content/uploads/2026/02/2026-motocross-cto-nacional-peq.jpeg
END:VEVENT
BEGIN:VEVENT
DTSTART;TZID=Europe/Madrid:20260228T110000
DTEND;TZID=Europe/Madrid:20260228T110000
DTSTAMP:20260420T002439
CREATED:20260226T130342Z
LAST-MODIFIED:20260226T130342Z
UID:146834-1772276400-1772276400@merida.es
SUMMARY:XXXVII Campeonato de Extremadura de Invierno de Piragüismo - XI Memorial Rafael Soriano
DESCRIPTION:El sábado 28 de febrero de 2026 se celebra\, en el Lago de Proserpina\, el XXXVII Campeonato de Extremadura de Invierno – XI Memorial Rafael Soriano. Las pruebas comenzarán a las 11:00 horas. Organiza Federación Extremeña de Piragüismo
URL:https://merida.es/agenda/xxxvii-campeonato-de-extremadura-de-invierno-de-piraguismo-xi-memorial-rafael-soriano/
LOCATION:Embalse de Proserpina\, Mérida
CATEGORIES:Deporte
ATTACH;FMTTYPE=image/jpeg:https://merida.es/wp-content/uploads/2026/02/2026-campeonato-extremadura-piraguismo-rafael-soriano-peq.jpg
END:VEVENT
END:VCALENDAR