﻿BEGIN:VCALENDAR
VERSION:2.0
PRODID:-//Ayuntamiento de Mérida - ECPv6.15.17.1//NONSGML v1.0//EN
CALSCALE:GREGORIAN
METHOD:PUBLISH
X-ORIGINAL-URL:https://merida.es
X-WR-CALDESC:Eventos para Ayuntamiento de Mérida
REFRESH-INTERVAL;VALUE=DURATION:PT1H
X-Robots-Tag:noindex
X-PUBLISHED-TTL:PT1H
BEGIN:VTIMEZONE
TZID:Europe/Madrid
BEGIN:DAYLIGHT
TZOFFSETFROM:+0100
TZOFFSETTO:+0200
TZNAME:CEST
DTSTART:20170326T010000
END:DAYLIGHT
BEGIN:STANDARD
TZOFFSETFROM:+0200
TZOFFSETTO:+0100
TZNAME:CET
DTSTART:20171029T010000
END:STANDARD
BEGIN:DAYLIGHT
TZOFFSETFROM:+0100
TZOFFSETTO:+0200
TZNAME:CEST
DTSTART:20180325T010000
END:DAYLIGHT
BEGIN:STANDARD
TZOFFSETFROM:+0200
TZOFFSETTO:+0100
TZNAME:CET
DTSTART:20181028T010000
END:STANDARD
BEGIN:DAYLIGHT
TZOFFSETFROM:+0100
TZOFFSETTO:+0200
TZNAME:CEST
DTSTART:20190331T010000
END:DAYLIGHT
BEGIN:STANDARD
TZOFFSETFROM:+0200
TZOFFSETTO:+0100
TZNAME:CET
DTSTART:20191027T010000
END:STANDARD
END:VTIMEZONE
BEGIN:VEVENT
DTSTART;VALUE=DATE:20180202
DTEND;VALUE=DATE:20180204
DTSTAMP:20260423T064604
CREATED:20180131T172334Z
LAST-MODIFIED:20180131T172334Z
UID:56012-1517529600-1517702399@merida.es
SUMMARY:XII Trofeo de patinaje artístico e integración 'Ciudad de Mérida'
DESCRIPTION:El 2 y 3 de febrero se celebrará en el pabellón polideportivo Guadiana el XII Trofeo de patinaje artístico e integración Patinox 2018 ‘Ciudad de Mérida’\, que organiza el club Patin de Mérida (Patinox) con la colaboración del Ayuntamiento.\nContará con la la presencia de patinadores de Portugal y Argentina\, además de Barcelona\, Madrid\, Cantabria\, Murcia\, Andalucía o Castilla La Mancha.\nEl torneo se diseña bajo la modalidad artística y de integración\, ya que tiene una triple vertiente\, solidaria\, de competición y lúdico-deportiva.\nEl Patinaje por la integración lo elaboró Patinox en 2010 y\, desde entonces\, está presente en todas sus competiciones.\nLos entrenamientos comenzarán el viernes 2 desde las 16.30 horas; la competición se iniciará el sábado a las 9 horas y sobre las 21 horas será la entrega de trofeos.
URL:https://merida.es/agenda/xii-trofeo-de-patinaje-artistico-e-integracion-ciudad-de-merida/
LOCATION:Complejo Polideportivo Guadiana\, Avenida de la Constitución\, s/n\, Mérida
CATEGORIES:Deporte
ATTACH;FMTTYPE=image/jpeg:https://merida.es/wp-content/uploads/2018/01/patinox-2018-peq.jpg
END:VEVENT
END:VCALENDAR