﻿BEGIN:VCALENDAR
VERSION:2.0
PRODID:-//Ayuntamiento de Mérida - ECPv6.15.17.1//NONSGML v1.0//EN
CALSCALE:GREGORIAN
METHOD:PUBLISH
X-WR-CALNAME:Ayuntamiento de Mérida
X-ORIGINAL-URL:https://merida.es
X-WR-CALDESC:Eventos para Ayuntamiento de Mérida
REFRESH-INTERVAL;VALUE=DURATION:PT1H
X-Robots-Tag:noindex
X-PUBLISHED-TTL:PT1H
BEGIN:VTIMEZONE
TZID:Europe/Madrid
BEGIN:DAYLIGHT
TZOFFSETFROM:+0100
TZOFFSETTO:+0200
TZNAME:CEST
DTSTART:20170326T010000
END:DAYLIGHT
BEGIN:STANDARD
TZOFFSETFROM:+0200
TZOFFSETTO:+0100
TZNAME:CET
DTSTART:20171029T010000
END:STANDARD
BEGIN:DAYLIGHT
TZOFFSETFROM:+0100
TZOFFSETTO:+0200
TZNAME:CEST
DTSTART:20180325T010000
END:DAYLIGHT
BEGIN:STANDARD
TZOFFSETFROM:+0200
TZOFFSETTO:+0100
TZNAME:CET
DTSTART:20181028T010000
END:STANDARD
BEGIN:DAYLIGHT
TZOFFSETFROM:+0100
TZOFFSETTO:+0200
TZNAME:CEST
DTSTART:20190331T010000
END:DAYLIGHT
BEGIN:STANDARD
TZOFFSETFROM:+0200
TZOFFSETTO:+0100
TZNAME:CET
DTSTART:20191027T010000
END:STANDARD
END:VTIMEZONE
BEGIN:VEVENT
DTSTART;TZID=Europe/Madrid:20180304T110000
DTEND;TZID=Europe/Madrid:20180304T110000
DTSTAMP:20260420T060456
CREATED:20171226T115248Z
LAST-MODIFIED:20171226T115248Z
UID:55323-1520161200-1520161200@merida.es
SUMMARY:XII Media Maratón Mérida Patrimonio de la Humanidad
DESCRIPTION:El próximo domingo\, 4 de marzo de 2018\, se disputará la XII Media Maratón Mérida Patrimonio de la Humanidad organizada por Atletas Populares de Mérida y\, este año\, con el patrocinio de Banco Santander. Cuenta\, además\, con la colaboración del Ayuntamiento de Mérida\, la Dirección General de Deportes de la Junta de Extremadura y el Consorcio de la Ciudad Monumental.\nSe trata de una de las carreras más significativas de Extremadura por lo especial de su recorrido. Y es que esta carrera\, de 21 km\, discurre por un trazado íntegramente urbano\, pasando por los lugares y monumentos más emblemáticos de la ciudad romana\nMás información e inscripciones: http://www.mediamaratonmerida.com/
URL:https://merida.es/agenda/xii-media-maraton-merida-patrimonio-de-la-humanidad/
LOCATION:Recorrido Urbano\, Mérida
CATEGORIES:Deporte
ATTACH;FMTTYPE=image/jpeg:https://merida.es/wp-content/uploads/2017/12/media-maraton-2018-peq.jpg
END:VEVENT
END:VCALENDAR