﻿BEGIN:VCALENDAR
VERSION:2.0
PRODID:-//Ayuntamiento de Mérida - ECPv6.15.17.1//NONSGML v1.0//EN
CALSCALE:GREGORIAN
METHOD:PUBLISH
X-ORIGINAL-URL:https://merida.es
X-WR-CALDESC:Eventos para Ayuntamiento de Mérida
REFRESH-INTERVAL;VALUE=DURATION:PT1H
X-Robots-Tag:noindex
X-PUBLISHED-TTL:PT1H
BEGIN:VTIMEZONE
TZID:Europe/Madrid
BEGIN:DAYLIGHT
TZOFFSETFROM:+0100
TZOFFSETTO:+0200
TZNAME:CEST
DTSTART:20170326T010000
END:DAYLIGHT
BEGIN:STANDARD
TZOFFSETFROM:+0200
TZOFFSETTO:+0100
TZNAME:CET
DTSTART:20171029T010000
END:STANDARD
BEGIN:DAYLIGHT
TZOFFSETFROM:+0100
TZOFFSETTO:+0200
TZNAME:CEST
DTSTART:20180325T010000
END:DAYLIGHT
BEGIN:STANDARD
TZOFFSETFROM:+0200
TZOFFSETTO:+0100
TZNAME:CET
DTSTART:20181028T010000
END:STANDARD
BEGIN:DAYLIGHT
TZOFFSETFROM:+0100
TZOFFSETTO:+0200
TZNAME:CEST
DTSTART:20190331T010000
END:DAYLIGHT
BEGIN:STANDARD
TZOFFSETFROM:+0200
TZOFFSETTO:+0100
TZNAME:CET
DTSTART:20191027T010000
END:STANDARD
END:VTIMEZONE
BEGIN:VEVENT
DTSTART;TZID=Europe/Madrid:20180311T100000
DTEND;TZID=Europe/Madrid:20180311T100000
DTSTAMP:20260420T092007
CREATED:20180303T190200Z
LAST-MODIFIED:20180303T190200Z
UID:56809-1520762400-1520762400@merida.es
SUMMARY:Campeonato de España de Campo a Través
DESCRIPTION:Por delegación de la RFEA\, la Federación Extremeña de Atletismo organizará el día 11 de marzo el Campeonato de España Absoluto de Campo a Través que se celebrará en el Circo Romano de Mérida:\n•  C CAMPEONATO DE ESPAÑA ABSOLUTO HOMBRES (13:10 horas)\n•  XLIV CAMPEONATO DE ESPAÑA ABSOLUTO MUJERES (12:20 horas)\n•  XXXII CAMPEONATO DE ESPAÑA SUB23 HOMBRES (11:35 horas)\n•  XXXII CAMPEONATO DE ESPAÑA SUB23 MUJERES (12:20 horas)\n•  LXIII CAMPEONATO DE ESPAÑA SUB20 HOMBRES (11:00 horas)\n•  XLI CAMPEONATO DE ESPAÑA SUB20 MUJERES (10:30 horas)\nSe establecerán clasificaciones individuales\, y por equipos de comunidades autónomas\, en cata categoría. También se entregaran premios a los tres primeros de cada categoría.\nMás información: http://www.rfea.es
URL:https://merida.es/agenda/campeonato-espana-campo-a-traves/
LOCATION:Circo Romano\, Avenida Juan Carlos I\, Mérida
CATEGORIES:Deporte
ATTACH;FMTTYPE=image/jpeg:https://merida.es/wp-content/uploads/2018/03/cto-españa-campo-a-traves-peq.jpg
END:VEVENT
END:VCALENDAR