﻿BEGIN:VCALENDAR
VERSION:2.0
PRODID:-//Ayuntamiento de Mérida - ECPv6.15.17.1//NONSGML v1.0//EN
CALSCALE:GREGORIAN
METHOD:PUBLISH
X-ORIGINAL-URL:https://merida.es
X-WR-CALDESC:Eventos para Ayuntamiento de Mérida
REFRESH-INTERVAL;VALUE=DURATION:PT1H
X-Robots-Tag:noindex
X-PUBLISHED-TTL:PT1H
BEGIN:VTIMEZONE
TZID:Europe/Madrid
BEGIN:DAYLIGHT
TZOFFSETFROM:+0100
TZOFFSETTO:+0200
TZNAME:CEST
DTSTART:20170326T010000
END:DAYLIGHT
BEGIN:STANDARD
TZOFFSETFROM:+0200
TZOFFSETTO:+0100
TZNAME:CET
DTSTART:20171029T010000
END:STANDARD
BEGIN:DAYLIGHT
TZOFFSETFROM:+0100
TZOFFSETTO:+0200
TZNAME:CEST
DTSTART:20180325T010000
END:DAYLIGHT
BEGIN:STANDARD
TZOFFSETFROM:+0200
TZOFFSETTO:+0100
TZNAME:CET
DTSTART:20181028T010000
END:STANDARD
BEGIN:DAYLIGHT
TZOFFSETFROM:+0100
TZOFFSETTO:+0200
TZNAME:CEST
DTSTART:20190331T010000
END:DAYLIGHT
BEGIN:STANDARD
TZOFFSETFROM:+0200
TZOFFSETTO:+0100
TZNAME:CET
DTSTART:20191027T010000
END:STANDARD
END:VTIMEZONE
BEGIN:VEVENT
DTSTART;VALUE=DATE:20180522
DTEND;VALUE=DATE:20180528
DTSTAMP:20260419T190409
CREATED:20180402T113529Z
LAST-MODIFIED:20180402T113529Z
UID:57512-1526947200-1527465599@merida.es
SUMMARY:Mérida City Race. I Trofeo de Orientación Ciudad de Mérida
DESCRIPTION:El Club Alcor y la Federación Extremeña de Orientación organizan\, entre los días 22 y 27 de mayo de 2018\, la segunda prueba de la liga City Race Euro Tour 2018. Durante el fin de semana se ofrecerán tres pruebas por el entorno de Mérida y su comarca. Previamente\, durante la semana habrá entrenamientos preparados para todo el que quiera disfrutar de una semana de orientación.\nMás información: https://www.plan-o.run/
URL:https://merida.es/agenda/merida-city-race-i-trofeo-de-orientacion-ciudad-de-merida/
LOCATION:Recorrido por la comarca de Mérida
CATEGORIES:Convivencia,Deporte
ATTACH;FMTTYPE=image/jpeg:https://merida.es/wp-content/uploads/2018/04/merida-city-race-peq2.jpg
END:VEVENT
BEGIN:VEVENT
DTSTART;TZID=Europe/Madrid:20180527T110000
DTEND;TZID=Europe/Madrid:20180527T110000
DTSTAMP:20260419T190409
CREATED:20180523T110152Z
LAST-MODIFIED:20180523T110152Z
UID:58862-1527418800-1527418800@merida.es
SUMMARY:IV Torneo Solidario de Ajedrez 'Ayuda al pueblo Saharaui'
DESCRIPTION:El próximo 27 de mayo\, a las 11:00 horas\, en las instalaciones del Club de Ajedrez Magic (Fondo Sur del Estadio Romano) se celebra el IV Torneo de Ajedrez Solidario «Ayuda al Pueblo Saharaui» a beneficio de la Asociación Sáhara Mérida. La inscripción es de 3 €.
URL:https://merida.es/agenda/iv-torneo-solidario-de-ajedrez-ayuda-al-pueblo-saharaui/
LOCATION:Sede Club Magic de Ajedrez
CATEGORIES:Benéfico,Deporte
ATTACH;FMTTYPE=image/jpeg:https://merida.es/wp-content/uploads/2018/05/torneo-solidario-magic-peq.jpg
END:VEVENT
END:VCALENDAR