﻿BEGIN:VCALENDAR
VERSION:2.0
PRODID:-//Ayuntamiento de Mérida - ECPv6.15.17.1//NONSGML v1.0//EN
CALSCALE:GREGORIAN
METHOD:PUBLISH
X-WR-CALNAME:Ayuntamiento de Mérida
X-ORIGINAL-URL:https://merida.es
X-WR-CALDESC:Eventos para Ayuntamiento de Mérida
REFRESH-INTERVAL;VALUE=DURATION:PT1H
X-Robots-Tag:noindex
X-PUBLISHED-TTL:PT1H
BEGIN:VTIMEZONE
TZID:Europe/Madrid
BEGIN:DAYLIGHT
TZOFFSETFROM:+0100
TZOFFSETTO:+0200
TZNAME:CEST
DTSTART:20250330T010000
END:DAYLIGHT
BEGIN:STANDARD
TZOFFSETFROM:+0200
TZOFFSETTO:+0100
TZNAME:CET
DTSTART:20251026T010000
END:STANDARD
BEGIN:DAYLIGHT
TZOFFSETFROM:+0100
TZOFFSETTO:+0200
TZNAME:CEST
DTSTART:20260329T010000
END:DAYLIGHT
BEGIN:STANDARD
TZOFFSETFROM:+0200
TZOFFSETTO:+0100
TZNAME:CET
DTSTART:20261025T010000
END:STANDARD
BEGIN:DAYLIGHT
TZOFFSETFROM:+0100
TZOFFSETTO:+0200
TZNAME:CEST
DTSTART:20270328T010000
END:DAYLIGHT
BEGIN:STANDARD
TZOFFSETFROM:+0200
TZOFFSETTO:+0100
TZNAME:CET
DTSTART:20271031T010000
END:STANDARD
END:VTIMEZONE
BEGIN:VEVENT
DTSTART;VALUE=DATE:20260313
DTEND;VALUE=DATE:20260316
DTSTAMP:20260420T003626
CREATED:20260309T123911Z
LAST-MODIFIED:20260309T123911Z
UID:147108-1773360000-1773619199@merida.es
SUMMARY:Campeonato de España Equipos 2ª de Pádel
DESCRIPTION:Del viernes 13 al domingo 15 de marzo se disputa el Campeonato de España por Equipos de Segunda Categoría en las instalaciones del Club Deportivo Padelmérida. Participarán 16 equipos (8 equipos masculinos y 8 femeninos). \nEn cuanto al sistema de competición en cada eliminatoria se disputarán 5 partidos. El equipo que gane al menos 3 de los 5 partidos pasará a la siguiente ronda. El viernes\, 13 de marzo\, desde las 16 horas se disputan los cuartos de final. El sábado\, 14 de marzo\, desde las 11 en adelante se disputan las semifinales y las eliminatorias de descenso y el domingo 15 de marzo por la mañana el tercer y cuarto puesto y las finales.
URL:https://merida.es/agenda/campeonato-de-espana-equipos-2a-de-padel/
LOCATION:Club Deportivo PadelMérida\, Calle Zaragoza\, s/n (Pol. El Prado)\, Mérida
CATEGORIES:Deporte
ATTACH;FMTTYPE=image/jpeg:https://merida.es/wp-content/uploads/2026/03/2026-cto-padel-peq.jpg
END:VEVENT
BEGIN:VEVENT
DTSTART;TZID=Europe/Madrid:20260314T110000
DTEND;TZID=Europe/Madrid:20260314T110000
DTSTAMP:20260420T003626
CREATED:20260310T110308Z
LAST-MODIFIED:20260310T110308Z
UID:147160-1773486000-1773486000@merida.es
SUMMARY:JUDEX Autonómicos Ciclismo
DESCRIPTION:El Velódromo Municipal José María Lozano acogerá el sábado 14 de marzo\, a partir de las 11:00 horas\, los JUDEX Autonómicos de Ciclismo organizado por la Escuela Ciclista Mérida con la colaboración de la Federación Extremeña de Ciclismo y el Ayuntamiento de Mérida.
URL:https://merida.es/agenda/judex-autonomicos-ciclismo/
LOCATION:Velódromo Municipal Jose María Lozano\, Camino Viejo de Mirandilla s/n\, Mérida\, Badajoz\, 06800\, España
CATEGORIES:Deporte
ATTACH;FMTTYPE=image/jpeg:https://merida.es/wp-content/uploads/2026/03/2026-ciclismo-judex-peq.jpg
END:VEVENT
END:VCALENDAR