﻿BEGIN:VCALENDAR
VERSION:2.0
PRODID:-//Ayuntamiento de Mérida - ECPv6.15.17.1//NONSGML v1.0//EN
CALSCALE:GREGORIAN
METHOD:PUBLISH
X-ORIGINAL-URL:https://merida.es
X-WR-CALDESC:Eventos para Ayuntamiento de Mérida
REFRESH-INTERVAL;VALUE=DURATION:PT1H
X-Robots-Tag:noindex
X-PUBLISHED-TTL:PT1H
BEGIN:VTIMEZONE
TZID:Europe/Madrid
BEGIN:DAYLIGHT
TZOFFSETFROM:+0100
TZOFFSETTO:+0200
TZNAME:CEST
DTSTART:20250330T010000
END:DAYLIGHT
BEGIN:STANDARD
TZOFFSETFROM:+0200
TZOFFSETTO:+0100
TZNAME:CET
DTSTART:20251026T010000
END:STANDARD
BEGIN:DAYLIGHT
TZOFFSETFROM:+0100
TZOFFSETTO:+0200
TZNAME:CEST
DTSTART:20260329T010000
END:DAYLIGHT
BEGIN:STANDARD
TZOFFSETFROM:+0200
TZOFFSETTO:+0100
TZNAME:CET
DTSTART:20261025T010000
END:STANDARD
BEGIN:DAYLIGHT
TZOFFSETFROM:+0100
TZOFFSETTO:+0200
TZNAME:CEST
DTSTART:20270328T010000
END:DAYLIGHT
BEGIN:STANDARD
TZOFFSETFROM:+0200
TZOFFSETTO:+0100
TZNAME:CET
DTSTART:20271031T010000
END:STANDARD
END:VTIMEZONE
BEGIN:VEVENT
DTSTART;VALUE=DATE:20260327
DTEND;VALUE=DATE:20260330
DTSTAMP:20260420T004522
CREATED:20260310T230042Z
LAST-MODIFIED:20260310T230042Z
UID:147187-1774569600-1774828799@merida.es
SUMMARY:XV Mérida Master de Pesca
DESCRIPTION:Romera Pesca organiza la XV edición de Mérida Máster de Pesca entre el 27 y el 29 de abril de 2026 en el paso del Río Guadiana cerca del polígono industrial El Prado con la participación de unos 170 pescadores venidos desde todo el territorio nacional y diferentes países europeos
URL:https://merida.es/agenda/xv-merida-master-2026/
LOCATION:Río Guadiana
CATEGORIES:Deporte
ATTACH;FMTTYPE=image/jpeg:https://merida.es/wp-content/uploads/2026/03/2026-merida-master-peq.jpg
END:VEVENT
BEGIN:VEVENT
DTSTART;TZID=Europe/Madrid:20260329T090000
DTEND;TZID=Europe/Madrid:20260329T150000
DTSTAMP:20260420T004522
CREATED:20260309T222552Z
LAST-MODIFIED:20260309T222552Z
UID:147119-1774774800-1774796400@merida.es
SUMMARY:Campeonato de Extremadura de Motocross
DESCRIPTION:El domingo 29 de marzo\, a partir de las 9:00 horas\, el Circuito Municipal Vía de la Plata acoge una Prueba puntuable para el Campeonato de Extremadura de Motocross organizada por el MotoClub Vía de la Plata. Entrada: 5€ (menores de 10 años gratis). \nCategorías Junior\, Senior\, Master\, Aficionados\, 50cc\, 65cc\, 85cc\, Féminas\, Clásicas
URL:https://merida.es/agenda/campeonato-de-extremadura-de-motocross-2026/
LOCATION:Circuito Municipal Vía de la Plata\, Mérida
CATEGORIES:Deporte
ATTACH;FMTTYPE=image/jpeg:https://merida.es/wp-content/uploads/2026/03/2026-motocross-ext-peq.jpg
END:VEVENT
END:VCALENDAR