﻿BEGIN:VCALENDAR
VERSION:2.0
PRODID:-//Ayuntamiento de Mérida - ECPv6.15.17.1//NONSGML v1.0//EN
CALSCALE:GREGORIAN
METHOD:PUBLISH
X-ORIGINAL-URL:https://merida.es
X-WR-CALDESC:Eventos para Ayuntamiento de Mérida
REFRESH-INTERVAL;VALUE=DURATION:PT1H
X-Robots-Tag:noindex
X-PUBLISHED-TTL:PT1H
BEGIN:VTIMEZONE
TZID:Europe/Madrid
BEGIN:DAYLIGHT
TZOFFSETFROM:+0100
TZOFFSETTO:+0200
TZNAME:CEST
DTSTART:20250330T010000
END:DAYLIGHT
BEGIN:STANDARD
TZOFFSETFROM:+0200
TZOFFSETTO:+0100
TZNAME:CET
DTSTART:20251026T010000
END:STANDARD
BEGIN:DAYLIGHT
TZOFFSETFROM:+0100
TZOFFSETTO:+0200
TZNAME:CEST
DTSTART:20260329T010000
END:DAYLIGHT
BEGIN:STANDARD
TZOFFSETFROM:+0200
TZOFFSETTO:+0100
TZNAME:CET
DTSTART:20261025T010000
END:STANDARD
BEGIN:DAYLIGHT
TZOFFSETFROM:+0100
TZOFFSETTO:+0200
TZNAME:CEST
DTSTART:20270328T010000
END:DAYLIGHT
BEGIN:STANDARD
TZOFFSETFROM:+0200
TZOFFSETTO:+0100
TZNAME:CET
DTSTART:20271031T010000
END:STANDARD
END:VTIMEZONE
BEGIN:VEVENT
DTSTART;VALUE=DATE:20260411
DTEND;VALUE=DATE:20260413
DTSTAMP:20260419T162142
CREATED:20251114T100712Z
LAST-MODIFIED:20260227T225645Z
UID:144782-1775865600-1776038399@merida.es
SUMMARY:XX Media Maratón Mérida Patrimonio de la Humanidad y Campeonato de España de Ruta
DESCRIPTION:El sábado 11 de abril tendrá lugar la XX edición de la Media Maratón Mérida Patrimonio de la Humanidad\, organizada el club Atletas Populares de Mérida\, una de las carreras más significativas de Extremadura por lo especial de su recorrido. \nY es que esta carrera\, de 21 km\, discurre por un trazado íntegramente urbano\, pasando por los lugares y monumentos más emblemáticos de la ciudad romana. Además\, en esta edición coincidirá con la celebración del Campeonato de España de Media Maratón Absoluto y Máster. \nEl domingo 12 se celebrarán el campeonato de España 5K y Milla junto a la carrera popular ‘5K Ciudad de Mérida’ \nWeb oficial: https://www.mediamaratonmerida.com/
URL:https://merida.es/agenda/xx-media-maraton-merida-patrimonio-de-la-humanidad/
LOCATION:Recorrido Urbano\, Mérida
CATEGORIES:Deporte
ATTACH;FMTTYPE=image/jpeg:https://merida.es/wp-content/uploads/2025/11/2026-merida-maraton-merida-peq.jpg
END:VEVENT
END:VCALENDAR