﻿BEGIN:VCALENDAR
VERSION:2.0
PRODID:-//Ayuntamiento de Mérida - ECPv6.15.17.1//NONSGML v1.0//EN
CALSCALE:GREGORIAN
METHOD:PUBLISH
X-WR-CALNAME:Ayuntamiento de Mérida
X-ORIGINAL-URL:https://merida.es
X-WR-CALDESC:Eventos para Ayuntamiento de Mérida
REFRESH-INTERVAL;VALUE=DURATION:PT1H
X-Robots-Tag:noindex
X-PUBLISHED-TTL:PT1H
BEGIN:VTIMEZONE
TZID:Europe/Madrid
BEGIN:DAYLIGHT
TZOFFSETFROM:+0100
TZOFFSETTO:+0200
TZNAME:CEST
DTSTART:20230326T010000
END:DAYLIGHT
BEGIN:STANDARD
TZOFFSETFROM:+0200
TZOFFSETTO:+0100
TZNAME:CET
DTSTART:20231029T010000
END:STANDARD
BEGIN:DAYLIGHT
TZOFFSETFROM:+0100
TZOFFSETTO:+0200
TZNAME:CEST
DTSTART:20240331T010000
END:DAYLIGHT
BEGIN:STANDARD
TZOFFSETFROM:+0200
TZOFFSETTO:+0100
TZNAME:CET
DTSTART:20241027T010000
END:STANDARD
BEGIN:DAYLIGHT
TZOFFSETFROM:+0100
TZOFFSETTO:+0200
TZNAME:CEST
DTSTART:20250330T010000
END:DAYLIGHT
BEGIN:STANDARD
TZOFFSETFROM:+0200
TZOFFSETTO:+0100
TZNAME:CET
DTSTART:20251026T010000
END:STANDARD
END:VTIMEZONE
BEGIN:VEVENT
DTSTART;TZID=Europe/Madrid:20240306T103000
DTEND;TZID=Europe/Madrid:20240306T103000
DTSTAMP:20260423T041122
CREATED:20240303T155141Z
LAST-MODIFIED:20240303T155512Z
UID:128655-1709721000-1709721000@merida.es
SUMMARY:IV Muestra de Cortometrajes 'Cambia el rollo'
DESCRIPTION:El miércoles 6 de marzo\, la Biblioteca Pública Jesús Delgado Valhondo acoge la IV edición de la Muestra de Cortometrajes ‘Cambia el rollo’\, Una apuesta por la igualdad de oportunidades entre hombres y mujeres como antesala al Día Internacional de la Mujer 8M\, a través de la proyección de una serie de cortometrajes como muestra audiovisual realizada en las aulas de Extremadura. Entrada libre \nOrganizado por los alumnos de Realización de Audiovisuales y Espectáculos del IES Extremadura Mérida y por Esmérarte Asociación Cultural con en colaboración con el Ayuntamiento de Mérida\, Instituto de la Juventud de Extremadura y la Biblioteca Pública del Estado «Jesús Delgado Valhondo» en Mérida
URL:https://merida.es/agenda/iv-muestra-de-cortometrajes-cambia-el-rollo/
LOCATION:Biblioteca Jesús Delgado Valhondo\, Av. de la Libertad\, s/n\, Mérida
CATEGORIES:Cine,Educación
ATTACH;FMTTYPE=image/jpeg:https://merida.es/wp-content/uploads/2024/03/2024-muestra-cambia-el-rollo-peq.jpg
END:VEVENT
END:VCALENDAR