﻿BEGIN:VCALENDAR
VERSION:2.0
PRODID:-//Ayuntamiento de Mérida - ECPv6.15.17.1//NONSGML v1.0//EN
CALSCALE:GREGORIAN
METHOD:PUBLISH
X-ORIGINAL-URL:https://merida.es
X-WR-CALDESC:Eventos para Ayuntamiento de Mérida
REFRESH-INTERVAL;VALUE=DURATION:PT1H
X-Robots-Tag:noindex
X-PUBLISHED-TTL:PT1H
BEGIN:VTIMEZONE
TZID:Europe/Madrid
BEGIN:DAYLIGHT
TZOFFSETFROM:+0100
TZOFFSETTO:+0200
TZNAME:CEST
DTSTART:20230326T010000
END:DAYLIGHT
BEGIN:STANDARD
TZOFFSETFROM:+0200
TZOFFSETTO:+0100
TZNAME:CET
DTSTART:20231029T010000
END:STANDARD
BEGIN:DAYLIGHT
TZOFFSETFROM:+0100
TZOFFSETTO:+0200
TZNAME:CEST
DTSTART:20240331T010000
END:DAYLIGHT
BEGIN:STANDARD
TZOFFSETFROM:+0200
TZOFFSETTO:+0100
TZNAME:CET
DTSTART:20241027T010000
END:STANDARD
BEGIN:DAYLIGHT
TZOFFSETFROM:+0100
TZOFFSETTO:+0200
TZNAME:CEST
DTSTART:20250330T010000
END:DAYLIGHT
BEGIN:STANDARD
TZOFFSETFROM:+0200
TZOFFSETTO:+0100
TZNAME:CET
DTSTART:20251026T010000
END:STANDARD
END:VTIMEZONE
BEGIN:VEVENT
DTSTART;TZID=Europe/Madrid:20240314T170000
DTEND;TZID=Europe/Madrid:20240314T170000
DTSTAMP:20260422T105934
CREATED:20240306T095034Z
LAST-MODIFIED:20240306T095034Z
UID:128753-1710435600-1710435600@merida.es
SUMMARY:Recogida de Basuraleza Río Albarregas
DESCRIPTION:La Confederación Hidrográfica del Guadiana en alianza con el Proyecto “LIBERA: Unidos contra la Basuraleza” organiza una jornada de sensibilización y participación ciudadana con la recogida de basureleza en el Río Albarregas. El proyecto ‘LIBERA\, unidos contra la basuraleza» de la ONG ambiental SEO/BirdLife nace en el año 2017 para frenar las consecuencias de la basura abandonada en los espacios naturales\, la basuraleza\, en los diferentes ecosistemas españoles. \nPuedes participar en el próximo 1m2 por los ríos\, lagos y embalses\, haciendo ciencia ciudadana para colaborar en la obtención de datos que nos permitan identificar cuáles son los residuos más frecuentes en los entornos fluviales\, qué problemas causan y difundir esta información para evitarlos. \nSerá el jueves 14 de marzo\, a partir de las 17:00 horas\, con el Puente Romano sobre el Albarregas como punto de encuentro. Hay un total de 50 plazas. Inscripciones gratuitas: Aquí
URL:https://merida.es/agenda/recogida-de-basuraleza-rio-albarregas/
LOCATION:Recorrido Urbano\, Mérida
CATEGORIES:Convivencia,Educación
ATTACH;FMTTYPE=image/jpeg:https://merida.es/wp-content/uploads/2024/03/2024-dia-rios-basuraleza-peq.jpg
END:VEVENT
END:VCALENDAR