﻿BEGIN:VCALENDAR
VERSION:2.0
PRODID:-//Ayuntamiento de Mérida - ECPv6.15.17.1//NONSGML v1.0//EN
CALSCALE:GREGORIAN
METHOD:PUBLISH
X-ORIGINAL-URL:https://merida.es
X-WR-CALDESC:Eventos para Ayuntamiento de Mérida
REFRESH-INTERVAL;VALUE=DURATION:PT1H
X-Robots-Tag:noindex
X-PUBLISHED-TTL:PT1H
BEGIN:VTIMEZONE
TZID:Europe/Madrid
BEGIN:DAYLIGHT
TZOFFSETFROM:+0100
TZOFFSETTO:+0200
TZNAME:CEST
DTSTART:20240331T010000
END:DAYLIGHT
BEGIN:STANDARD
TZOFFSETFROM:+0200
TZOFFSETTO:+0100
TZNAME:CET
DTSTART:20241027T010000
END:STANDARD
BEGIN:DAYLIGHT
TZOFFSETFROM:+0100
TZOFFSETTO:+0200
TZNAME:CEST
DTSTART:20250330T010000
END:DAYLIGHT
BEGIN:STANDARD
TZOFFSETFROM:+0200
TZOFFSETTO:+0100
TZNAME:CET
DTSTART:20251026T010000
END:STANDARD
BEGIN:DAYLIGHT
TZOFFSETFROM:+0100
TZOFFSETTO:+0200
TZNAME:CEST
DTSTART:20260329T010000
END:DAYLIGHT
BEGIN:STANDARD
TZOFFSETFROM:+0200
TZOFFSETTO:+0100
TZNAME:CET
DTSTART:20261025T010000
END:STANDARD
END:VTIMEZONE
BEGIN:VEVENT
DTSTART;TZID=Europe/Madrid:20250424T183000
DTEND;TZID=Europe/Madrid:20250424T183000
DTSTAMP:20260420T061910
CREATED:20250422T143646Z
LAST-MODIFIED:20250422T143646Z
UID:139792-1745519400-1745519400@merida.es
SUMMARY:Pasarela Romana
DESCRIPTION:Como parte de las actividades previas a la XV Emerita Lvdica\, se organizará por primera vez el Certamen “Pasarela Romana”\, una iniciativa innovadora que busca promover y difundir las creaciones de diseñadores\, modistos\, artesanos y artistas especializados en moda y artesanía romana. Será el jueves 24 de abril\, a las 18:30 horas\, en el Arco de Trajano.  \nLa ciudadanía tendrá la oportunidad de ver el trabajo de las siguientes empresas: \n18:30 h – Weark Custom Tovar y Terracota Mérida\n18:55 h – Pasarela Tejidos y Brindis detalles (Las Musas)\n19:20 h – Asociación Cultural Protector AvgvstI Nostri\n19:40 h – Artesanía Galadriel\n20:00 h – Mussgo\n20:20 h – Retales Conchi y Nano Escultor \nEstas empresas dispondrán de puestos desde las 17:30 hasta las 22:00 horas\, donde podrán exhibir sus creaciones y atender encargos\, permitiendo a los asistentes adquirir piezas únicas para vestir sus mejores galas en la celebración de Emerita Lvdica. \nEl evento culminará con la participación de los alumnos y alumnas del Centro de Educación Especial Emerita Augusta\, quienes presentarán a las 20:45 horas sus diseños de evocación romana\, elaborados en el módulo de textil y cuero\, reflejando la creatividad y el talento de las nuevas generaciones en un acto que combina tradición e innovación.
URL:https://merida.es/agenda/pasarela-romana/
LOCATION:Arco de Trajano\, Mérida
CATEGORIES:Emerita Lvdica
ATTACH;FMTTYPE=image/jpeg:https://merida.es/wp-content/uploads/2025/04/2025-pasarela-romana-peq.jpg
END:VEVENT
END:VCALENDAR