﻿BEGIN:VCALENDAR
VERSION:2.0
PRODID:-//Ayuntamiento de Mérida - ECPv6.15.17.1//NONSGML v1.0//EN
CALSCALE:GREGORIAN
METHOD:PUBLISH
X-ORIGINAL-URL:https://merida.es
X-WR-CALDESC:Eventos para Ayuntamiento de Mérida
REFRESH-INTERVAL;VALUE=DURATION:PT1H
X-Robots-Tag:noindex
X-PUBLISHED-TTL:PT1H
BEGIN:VTIMEZONE
TZID:Europe/Madrid
BEGIN:DAYLIGHT
TZOFFSETFROM:+0100
TZOFFSETTO:+0200
TZNAME:CEST
DTSTART:20240331T010000
END:DAYLIGHT
BEGIN:STANDARD
TZOFFSETFROM:+0200
TZOFFSETTO:+0100
TZNAME:CET
DTSTART:20241027T010000
END:STANDARD
BEGIN:DAYLIGHT
TZOFFSETFROM:+0100
TZOFFSETTO:+0200
TZNAME:CEST
DTSTART:20250330T010000
END:DAYLIGHT
BEGIN:STANDARD
TZOFFSETFROM:+0200
TZOFFSETTO:+0100
TZNAME:CET
DTSTART:20251026T010000
END:STANDARD
BEGIN:DAYLIGHT
TZOFFSETFROM:+0100
TZOFFSETTO:+0200
TZNAME:CEST
DTSTART:20260329T010000
END:DAYLIGHT
BEGIN:STANDARD
TZOFFSETFROM:+0200
TZOFFSETTO:+0100
TZNAME:CET
DTSTART:20261025T010000
END:STANDARD
END:VTIMEZONE
BEGIN:VEVENT
DTSTART;VALUE=DATE:20250515
DTEND;VALUE=DATE:20250526
DTSTAMP:20260419T203934
CREATED:20250514T210420Z
LAST-MODIFIED:20250514T210807Z
UID:140521-1747267200-1748217599@merida.es
SUMMARY:X Ruta de la Tapa Romana Sentia Amarantis
DESCRIPTION:Coincidiendo con la la celebración de XV Emerita Lvdica\, del 15 al 25 de mayo\, 11 establecimientos hosteleros de la ciudad ofrecerán tapas ‘romanas’\, a un precio fijo de 6€\, en la X edición de Sentia Amarantis. \nEsta Ruta de la Tapa Romana lleva por nombre ‘Sentia Amarantis’ con motivo del Epitafio de la Tabernera Sentia Amarantis\, que se conserva en el Museo Nacional de Arte Romano\, iconografía emeritense que todos conocemos por La Tabernera. \nPara la elaboración de las tapas que componen la ruta se utiliza el libro de recetas de Apicio\, que es el texto de referencia para la gastronomía de la época\, y cuyos productos e ingredientes podemos encontrar en Extremadura. \nLos establecimientos participantes son:\nRestaurante Ayre • Mesón El Lebrel • AlaudaE • Vía de la Tapa • Capriccio Italiano Senso Unico • Agallas Gastro&Food • Barbarossa • Cachicho Casa Benito • De Tripas Corazón • Catalina Plaza • Naturacho GastroTapas \nFolleto X Ruta de la Tapa Sentia Amarantis
URL:https://merida.es/agenda/x-ruta-de-la-tapa-romana-sentia-amarantis/
LOCATION:Varios establecimientos de la ciudad
CATEGORIES:Emerita Lvdica,Gastronomía
ATTACH;FMTTYPE=image/jpeg:https://merida.es/wp-content/uploads/2025/05/2025-sentia-amarantis-tapa-romana-peq.jpg
END:VEVENT
BEGIN:VEVENT
DTSTART;VALUE=DATE:20250519
DTEND;VALUE=DATE:20250526
DTSTAMP:20260419T203934
CREATED:20250110T095618Z
LAST-MODIFIED:20250509T145808Z
UID:137034-1747612800-1748217599@merida.es
SUMMARY:XV Emerita Lvdica
DESCRIPTION:Del 19 al 25 de mayo se celebrará la XV edición de Emerita Lvdica\, una fiesta en la que se ofrece la oportunidad de ser testigos (o preferentemente actores y figurantes) de escenas cotidianas del mundo romano\, aproximándonos a sus modos de vida\, utilizando los escenarios originales que conforman el conjunto arqueológico monumental más completo y mejor conservado de Hispania: Avgvsta Emerita\, declarado Patrimonio de la Humanidad por la UNESCO. \nEsta actividad hace revivir cada año las grandes ruinas de la antigua ciudad\, abrir los monumentos al público y mostrarlos de una forma alternativa a la par que formativa y divertida. Por ello se cuida con todo rigor que las recreaciones sean fidedignas: tramas\, escenas\, indumentarias\, objetos\, mensajes\, aromas\, sabores\, etc. \nSe disputarán luchas de gladiadores\, se harán ritos en el Templo de Diana\, el foro se llenará de vida recreando escenas de la vida cotidiana de Avgusta Emerita\, los legionarios entrarán por el puente romano en la ciudad\, acampando a sus puertas\, donde harán prácticas de entrenamiento\, y habrá constantes recreaciones de la vida cotidiana de una ciudad romana. \nWeb oficial: https://www.emerita-lvdica.es/ \nOrganiza el Ayuntamiento de Mérida con la colaboración del Consorcio de la Ciudad Monumental\, El Museo Nacional de Arte Romano\, la Dirección General de Turismo de la Junta de Extremadura y la Diputación de Badajoz.\n \n\n					Programación XV Emerita Lvdica \nBases Mercado Romano ‘Macellvm Ceres’Bases Mercado Romano Templo de DianaBases Pasarela Romana
URL:https://merida.es/agenda/xv-emerita-lvdica/
LOCATION:Varios puntos de la ciudad\, Mérida
CATEGORIES:Emerita Lvdica,Recreación
ATTACH;FMTTYPE=image/jpeg:https://merida.es/wp-content/uploads/2025/01/2025-emerita-lvdica-peq.jpg
END:VEVENT
END:VCALENDAR