﻿BEGIN:VCALENDAR
VERSION:2.0
PRODID:-//Ayuntamiento de Mérida - ECPv6.15.17.1//NONSGML v1.0//EN
CALSCALE:GREGORIAN
METHOD:PUBLISH
X-ORIGINAL-URL:https://merida.es
X-WR-CALDESC:Eventos para Ayuntamiento de Mérida
REFRESH-INTERVAL;VALUE=DURATION:PT1H
X-Robots-Tag:noindex
X-PUBLISHED-TTL:PT1H
BEGIN:VTIMEZONE
TZID:Europe/Madrid
BEGIN:DAYLIGHT
TZOFFSETFROM:+0100
TZOFFSETTO:+0200
TZNAME:CEST
DTSTART:20150329T010000
END:DAYLIGHT
BEGIN:STANDARD
TZOFFSETFROM:+0200
TZOFFSETTO:+0100
TZNAME:CET
DTSTART:20151025T010000
END:STANDARD
BEGIN:DAYLIGHT
TZOFFSETFROM:+0100
TZOFFSETTO:+0200
TZNAME:CEST
DTSTART:20160327T010000
END:DAYLIGHT
BEGIN:STANDARD
TZOFFSETFROM:+0200
TZOFFSETTO:+0100
TZNAME:CET
DTSTART:20161030T010000
END:STANDARD
BEGIN:DAYLIGHT
TZOFFSETFROM:+0100
TZOFFSETTO:+0200
TZNAME:CEST
DTSTART:20170326T010000
END:DAYLIGHT
BEGIN:STANDARD
TZOFFSETFROM:+0200
TZOFFSETTO:+0100
TZNAME:CET
DTSTART:20171029T010000
END:STANDARD
BEGIN:DAYLIGHT
TZOFFSETFROM:+0100
TZOFFSETTO:+0200
TZNAME:CEST
DTSTART:20180325T010000
END:DAYLIGHT
BEGIN:STANDARD
TZOFFSETFROM:+0200
TZOFFSETTO:+0100
TZNAME:CET
DTSTART:20181028T010000
END:STANDARD
END:VTIMEZONE
BEGIN:VEVENT
DTSTART;VALUE=DATE:20161222
DTEND;VALUE=DATE:20180101
DTSTAMP:20260420T064715
CREATED:20161223T103719Z
LAST-MODIFIED:20161223T103719Z
UID:46692-1482364800-1514764799@merida.es
SUMMARY:Exposición 'Momentos y Monumentos'
DESCRIPTION:La exposición ‘Momentos y Monumentos’ repasa los veinte años de historia del Consorcio de la Ciudad Monumental de Mérida\, sus gentes y sus métodos de trabajo\, así como de dos décadas de dedicación al patrimonio histórico y arqueológico de Mérida. Se trata de una de las principales actividades del programa conmemorativo de este vigésimo aniversario\, junto al proyecto ‘20 años\, 20 monumentos’\, que ha ofrecido durante este año visitas guiadas a espacios normalmente menos accesibles para el público; y el congreso internacional que se celebrará el próximo marzo.\nEl Consorcio de la Ciudad Monumental Histórica Artística y Arqueológica de Mérida se creó en 1996\, sucesor del antiguo Patronato. Su puesta en marcha estuvo vinculada a la entonces reciente inclusión de Mérida en la lista de Patrimonio Mundial de la UNESCO o el interés de la Junta de Extremadura por impulsar la gestión arqueológica del yacimiento emeritense.\nEl organismo nació a partir del acuerdo entre las principales instituciones con competencias en materia de gestión del patrimonio histórico\, como son el Gobierno extremeño\, el Ayuntamiento de Mérida\, el Ministerio de Cultura y la Diputación de Badajoz. Posteriormente\, se unieron la Asamblea y la Diputación de Cáceres.\nLa exposición se podrá ver en la Sala Decumanus durante todo el año 2017. El horario es de 10 a 14 horas y de 18 a 20 horas los lunes\, jueves\, viernes\, sábados y domingos.
URL:https://merida.es/agenda/exposicion-momentos-y-monumentos/
LOCATION:Sala Decumanus\, Puerta de la Villa\, Mérida
CATEGORIES:Exposición
ATTACH;FMTTYPE=image/jpeg:https://merida.es/wp-content/uploads/2016/12/momentos-monumentos-peq.jpg
END:VEVENT
BEGIN:VEVENT
DTSTART;VALUE=DATE:20170411
DTEND;VALUE=DATE:20180101
DTSTAMP:20260420T064715
CREATED:20170411T083515Z
LAST-MODIFIED:20170411T083515Z
UID:49351-1491868800-1514764799@merida.es
SUMMARY:Exposición 'Arrecifes del tiempo. Arqueología\, fotografía y literatura en Mérida'
DESCRIPTION:Con esta Exposición\, que permanecerá abierta desde el 11 de abril hasta el 31 de diciembre de 2017\, se pretende mostrar a los visitantes la incidencia que el paso del tiempo ha tenido sobre los monumentos emeritenses y sobre la propia ciudad que los acogió y que aprendió a convivir con ellos.\nLa línea de tiempo del discurso expositivo comprende desde los testimonios literarios más antiguos de los que se tiene constancia (s. IV d.C.) hasta la contemporaneidad.\nFotografías a gran escala de monumentos emeritenses\, piezas arqueológicas de nuestra colección y documentos históricos entran en fluido diálogo para mostrar al visitante la incidencia que el paso del tiempo ha tenido en el conjunto monumental de Mérida\, modificando sustancialmente su fisonomía externa o\, en el peor de los casos\, haciéndolo desaparecer parcial o totalmente.
URL:https://merida.es/agenda/exposicion-arrecifes-del-tiempo-arqueologia-fotografia-y-literatura-en-merida/
LOCATION:Museo Nacional de Arte Romano\, Calle José Ramón Mélida\, Mérida\, Badajoz\, 06800\, España
CATEGORIES:Exposición
ATTACH;FMTTYPE=image/jpeg:https://merida.es/wp-content/uploads/2017/04/expo-arrecifes-museo.jpg
END:VEVENT
BEGIN:VEVENT
DTSTART;VALUE=DATE:20170701
DTEND;VALUE=DATE:20180101
DTSTAMP:20260420T064715
CREATED:20170710T063736Z
LAST-MODIFIED:20170710T063736Z
UID:51706-1498867200-1514764799@merida.es
SUMMARY:Exposición 'Mulieres. Mujeres en Augusta Emerita'
DESCRIPTION:El Museo Nacional de Arte Romano presenta en esta exposición\, de manera visual y documentada\, una importante colección de piezas y textos que nos recuerdan el papel de las mujeres romanas en una capital provincial del occidente del Imperio\, Augusta Emerita. Las piezas nos permiten realizar una narración\, destinada a acompañar al espectador\, que le ilustre sobre las diversas facetas vitales de las mujeres romanas.\nLa vida pública\, roles y cargos institucionales desempeñados por mujeres asociadas al poder. La vida privada\, un universo donde la mujer cumplía su principal función de esposa y madre. La vida religiosa\, con cargos dedicados al mundo de los cultos como expresión de ascenso social. La via cultural\, un marco donde la mujer era tanto fuente de inspiración como elemento de creación. Y todo ello se articulará en las salas del MNAR para acercar el pasado al presente.\nSe podrá visitar en el Museo hasta el mes de diciembre.
URL:https://merida.es/agenda/exposicion-mulieres-mujeres-en-augusta-emerita/
LOCATION:Museo Nacional de Arte Romano\, Calle José Ramón Mélida\, Mérida\, Badajoz\, 06800\, España
CATEGORIES:Exposición
ATTACH;FMTTYPE=image/jpeg:https://merida.es/wp-content/uploads/2017/07/mulieres-peq.jpg
END:VEVENT
BEGIN:VEVENT
DTSTART;VALUE=DATE:20171103
DTEND;VALUE=DATE:20171201
DTSTAMP:20260420T064715
CREATED:20171103T102025Z
LAST-MODIFIED:20171103T102025Z
UID:53996-1509667200-1512086399@merida.es
SUMMARY:Exposición 'Vía Pintura' de Diego Carmona
DESCRIPTION:Durante el mes de noviembre se podrá visitar\, en el Centro Cultural Santo Domingo de la Fundación Caja Badajoz\, la exposición ‘Vía Pintura’ del pintor segoviano Diego Carmona Roldán\, una colección de obras que resume su trayectoria y evolución en el género del paisaje.\nLas piezas son óleos que representan diversos territorios\, despojados de figuras humanas\, donde el pintor fija su mirada en la geografía del lugar\, la iluminación y el color. Su interés pictórico aspira sobre todo en construir un estilo propio\, basado en la síntesis\, armonía cromática y una factura rica en matices. El hecho de representar el paisaje es la inspiración y la motivación necesarias en el pintor para elaborar una imagen plástica.\nDiego Carmona es licenciado en Bellas Artes por la Universidad de Salamanca en el año 2011. Un año más tarde\, realiza el Máster de Producción Artística por la Facultad de BBAA de San Carlos en Valencia.\nDurante su vida artística ha llevado a cabo varias exposiciones tanto colectivas como individuales y ha cosechado numerosos premios en diferentes certámenes de pintura al aire libre. Ahora presenta la que sería su cuarta exposición individual\, “VÍA PINTURA”.
URL:https://merida.es/agenda/exposicion-via-pintura-de-diego-carmona/
LOCATION:Centro Cultural Santo Domingo Fundación CB\, Plaza de Santo Domingo\, s/n\, Mérida
CATEGORIES:Exposición
ATTACH;FMTTYPE=image/jpeg:https://merida.es/wp-content/uploads/2017/11/expo-diego-carmona-peq.jpg
END:VEVENT
BEGIN:VEVENT
DTSTART;VALUE=DATE:20171109
DTEND;VALUE=DATE:20171113
DTSTAMP:20260420T064715
CREATED:20170918T111901Z
LAST-MODIFIED:20170918T111901Z
UID:52872-1510185600-1510531199@merida.es
SUMMARY:II Encuentro Iberoamericano de Vinos Espumosos (ECIBE)
DESCRIPTION:Mérida\, ex-Capital Iberoamericana de la Cultura Gastronómica 2016\, acogerá el II Encuentro y Concurso Iberoamericano de Vinos Espumosos del 9 al 12 de noviembre de 2017 en IFEME.\nDurante cuatro días convivirán en Mérida los vinos espumosos de Andorra\, Argentina\, Bolivia\, Brasil\, California\, Chile\, España\, México\, Perú\, Portugal\, Uruguay y Venezuela\, además de Francia como país invitado\, en una manifestación cultural\, técnica\, gastronómica\, enoturística y con un claro objetivo de promoción\, divulgación y encuentro empresarial de los productores\, técnicos\, elaboradores\, comercializadores\, comunicadores y consumidores.\nTendrá lugar un Concurso Internacional siguiendo la normativa vigente\, reconocido por el Ministerio de Agricultura y un Encuentro con múltiples actividades para todos los sectores implicados.\nDestinado al desarrollo empresarial de los espumosos\, se darán cita productores\, elaboradores\, técnicos\, industria auxiliar\, importadores y exportadores y en general todo aquel interesado en las relaciones comerciales del sector de los espumosos.\nSe realizarán concursos\, catas\, degustaciones\, showcooking\, talleres y diversas conferencias relacionadas con el sector de los vinos espumosos.\nMás información en www.ecibe.es
URL:https://merida.es/agenda/ii-encuentro-iberoamericano-de-vinos-espumosos-ecibe/
LOCATION:Instituto Ferial de Mérida IFEME\, C/ Manuel Nuñez (Urbanización El Prado)\, Mérida\, 06800\, España
CATEGORIES:Charla-Conferencia,Concurso,Exposición,Gastronomía
ATTACH;FMTTYPE=image/jpeg:https://merida.es/wp-content/uploads/2017/09/ecibe-peq-1.jpg
END:VEVENT
BEGIN:VEVENT
DTSTART;VALUE=DATE:20171117
DTEND;VALUE=DATE:20171130
DTSTAMP:20260420T064715
CREATED:20171116T093153Z
LAST-MODIFIED:20171116T093153Z
UID:54252-1510876800-1511999999@merida.es
SUMMARY:Exposición 'Todos los nombres'
DESCRIPTION:Después de visitar distintos puntos de la geografía española\, la exposición ‘Todos los nombres’ recala en Mérida con el objetivo de divulgar los contenidos de la Web www.todoslosnombres.org sobre las injusticias acaecidas durante el golpe de estado\, la guerra civil y la posterior dictadura franquista.\nLa muestra está compuesta por 25 paneles verticales de 2\,00m x 1\,00m organizados temáticamente: desaparecidos y fusilados\, cárceles y campos de concentración\, exilios\, consejos de guerra y robos generalizados\, la guerrilla\, depurados y despedidos de sus puestos de trabajo\, deportados a campos de exterminio nazis\, represión a la mujer (vejaciones\, rapados y aceite de ricino) y el Tribunal de Orden Público (TOP).\nLa exposición que trae la Asamblea Local de Izquierda Unida en Mérida\, estará en el Centro Cultural Alcazaba desde el viernes 17 al 29 de noviembre y contará con un acto público inaugural en el que participaran Cecilio Gordillo coordinador de la exposición y Eugenio Rodríguez del Área de Memoria Histórica de Izquierda Unida Extremadura.\nLa Exposición forma parte de la iniciativa «todos (…) los nombres» promovida por el grupo RMHSA de CGT.A y la Asociación «Nuestra Memoria» y tiene como objeto fundamental servir de divulgación de la Recuperación de la Memoria Histórica en general y particularmente de los contenidos de www.todoslosnombres.org así como para la captación de nuevos colaboradores (entidades\, organizaciones\, instituciones y expertos) para el suministro de nuevas informaciones y datos de víctimas a la página web.
URL:https://merida.es/agenda/exposicion-todos-los-nombres/
LOCATION:Centro Cultural Alcazaba\, Calle John Lennon\, 5\, Mérida
CATEGORIES:Exposición
ATTACH;FMTTYPE=image/jpeg:https://merida.es/wp-content/uploads/2017/11/todos-los-nombres-expo-peq.jpg
END:VEVENT
BEGIN:VEVENT
DTSTART;VALUE=DATE:20171122
DTEND;VALUE=DATE:20171201
DTSTAMP:20260420T064715
CREATED:20171124T115514Z
LAST-MODIFIED:20171124T115514Z
UID:54517-1511308800-1512086399@merida.es
SUMMARY:Exposición de fotografías 'África con rostro de mujer'
DESCRIPTION:Hasta el próximo 30 de noviembre permanecerá expuesto\, en el Pasillo de Cristal de la Asamblea de Extremadura\, la exposición de fotografías “África con rostro de mujer” de Jesús López Santana. Se trata de una colección de fotografías en blanco y negro protagonizadas por mujeres y tomadas por López Santana en sendos viajes a Monzambique\, Malí y Burkina Faso\, durante los años 2013 y 2014\, en el transcurso de una serie de documentales para la Agencia Extremeña de Cooperación Internacional y Cruz Roja Española.\nLa muestra\, en la que ha participado\, además\, el fotógrafo Rodián González\, tratan de reflejar cómo la cooperación para el desarrollo es realmente un motor para el cambio y para que la gente pueda vivir con un mínimo de dignidad. Además\, el autor también quiere reflejar “la lucha por sobrevivir cada día en unas condiciones complicadas en la mayoría de los casos\, con falta de acceso al agua potable o al saneamiento\, con una alimentación inadecuada y con una estabilidad política no siempre garantizada”.
URL:https://merida.es/agenda/exposicion-de-fotografias-africa-con-rostro-de-mujer/
LOCATION:Asamblea de Extremadura\, Plaza San Juan de Dios s/n\, Mérida
CATEGORIES:Exposición
ATTACH;FMTTYPE=image/png:https://merida.es/wp-content/uploads/2017/11/exposicion-cooperacion-peq.png
END:VEVENT
BEGIN:VEVENT
DTSTART;VALUE=DATE:20171127
DTEND;VALUE=DATE:20171216
DTSTAMP:20260420T064715
CREATED:20171127T125837Z
LAST-MODIFIED:20171127T125837Z
UID:54589-1511740800-1513382399@merida.es
SUMMARY:Exposición Décimo Aniversario Creaciones Artísticas Las 4 Esquinas
DESCRIPTION:Desde el 27 de noviembre al 15 de diciembre se podrá visitar\, en el Patio del Ayuntamiento\, la exposición que conmemora el décimo aniversario de la compañía emeritense de teatro ‘Las 4 Esquinas’ que cumple diez años proporcionando ilusión\, entretenimiento\, reflexión\, emociones\, diversión… y todo esto de la mano de los y las mejores profesionales de la escena extremeña. Dramas como ‘El Jardín del Mundo’\, ‘La Maleta’; comedias como ‘Hermanos’\, ‘Criminal’\, o ‘Madrecita del Alma querida’; teatro familiar como ‘Yla y Lía\, El Hilo Rojo del Destino’… obras (muchas de ellas premiadas por la crítica y el público) que encierran la esencia del ser humano concentrada en unos instantes sobre las tablas del teatro de cada pueblo o ciudad.
URL:https://merida.es/agenda/exposicion-decimo-aniversario-creaciones-artisticas-las-4-esquinas/
LOCATION:Patio Central Ayuntamiento de Mérida\, Plaza de España\, 1\, Mérida
CATEGORIES:Exposición
ATTACH;FMTTYPE=image/jpeg:https://merida.es/wp-content/uploads/2017/11/cuatro-esquinas-exposicion-peq.jpg
END:VEVENT
END:VCALENDAR