﻿BEGIN:VCALENDAR
VERSION:2.0
PRODID:-//Ayuntamiento de Mérida - ECPv6.15.17.1//NONSGML v1.0//EN
CALSCALE:GREGORIAN
METHOD:PUBLISH
X-ORIGINAL-URL:https://merida.es
X-WR-CALDESC:Eventos para Ayuntamiento de Mérida
REFRESH-INTERVAL;VALUE=DURATION:PT1H
X-Robots-Tag:noindex
X-PUBLISHED-TTL:PT1H
BEGIN:VTIMEZONE
TZID:Europe/Madrid
BEGIN:DAYLIGHT
TZOFFSETFROM:+0100
TZOFFSETTO:+0200
TZNAME:CEST
DTSTART:20190331T010000
END:DAYLIGHT
BEGIN:STANDARD
TZOFFSETFROM:+0200
TZOFFSETTO:+0100
TZNAME:CET
DTSTART:20191027T010000
END:STANDARD
BEGIN:DAYLIGHT
TZOFFSETFROM:+0100
TZOFFSETTO:+0200
TZNAME:CEST
DTSTART:20200329T010000
END:DAYLIGHT
BEGIN:STANDARD
TZOFFSETFROM:+0200
TZOFFSETTO:+0100
TZNAME:CET
DTSTART:20201025T010000
END:STANDARD
BEGIN:DAYLIGHT
TZOFFSETFROM:+0100
TZOFFSETTO:+0200
TZNAME:CEST
DTSTART:20210328T010000
END:DAYLIGHT
BEGIN:STANDARD
TZOFFSETFROM:+0200
TZOFFSETTO:+0100
TZNAME:CET
DTSTART:20211031T010000
END:STANDARD
END:VTIMEZONE
BEGIN:VEVENT
DTSTART;VALUE=DATE:20201204
DTEND;VALUE=DATE:20201222
DTSTAMP:20260423T121201
CREATED:20201207T224417Z
LAST-MODIFIED:20201207T224417Z
UID:78350-1607040000-1608595199@merida.es
SUMMARY:Exposición 'Miradas de Barrio'
DESCRIPTION:La exposición se compone de 60 fotografías de distintas zonas de las barriadas de Mérida de la margen izquierda del río Guadiana. Algunas de ellas son antiguas (cedidas por el Archivo Histórico Municipal) y otras actuales\, realizadas o cedidas vecinas y vecinos de la zona y distintas asociaciones.\nEl objetivo principal de esta exposición es potenciar las redes sociales e institucionales\, los sentimientos de pertenencia e identificación con las barriadas y dinamizar la participación de los vecinos y vecinas que han formado parte del programa CRISOL. Se trata de una actividad cultural en la que se ve reflejada la evolución del barrio a través de las imágenes.\nPuede verse en la Biblioteca Pública Jesús Delgado Valhondo\, del 4 al 21 de diciembre.
URL:https://merida.es/agenda/exposicion-miradas-de-barrio/
LOCATION:Biblioteca Jesús Delgado Valhondo\, Av. de la Libertad\, s/n\, Mérida
CATEGORIES:Exposición
ATTACH;FMTTYPE=image/jpeg:https://merida.es/wp-content/uploads/2020/12/miradas-barrio-crisol-peq.jpg
END:VEVENT
BEGIN:VEVENT
DTSTART;VALUE=DATE:20201204
DTEND;VALUE=DATE:20210101
DTSTAMP:20260423T121201
CREATED:20201203T225023Z
LAST-MODIFIED:20201203T225023Z
UID:78259-1607040000-1609459199@merida.es
SUMMARY:Exposición 'Exitus' de Mai Saki
DESCRIPTION:La fotógrafa nacida en Barcelona y asentada en Badajoz\, Mai Saki\, presenta su obra más personal; una muestra de fotografías en blanco y negro que reviven momentos íntimos familiares en torno a la figura de su padre y sus últimas experiencias.\nSe podrá visitar en el Centro Cultural Santo Domingo de la Fundación CB del 4 al 31 de diciembre.
URL:https://merida.es/agenda/exposicion-exitus-de-mai-saki/
LOCATION:Centro Cultural Santo Domingo Fundación CB\, Plaza de Santo Domingo\, s/n\, Mérida
CATEGORIES:Exposición
ATTACH;FMTTYPE=image/jpeg:https://merida.es/wp-content/uploads/2020/12/expo-mai-saki-peq.jpg
END:VEVENT
END:VCALENDAR