﻿BEGIN:VCALENDAR
VERSION:2.0
PRODID:-//Ayuntamiento de Mérida - ECPv6.15.17.1//NONSGML v1.0//EN
CALSCALE:GREGORIAN
METHOD:PUBLISH
X-ORIGINAL-URL:https://merida.es
X-WR-CALDESC:Eventos para Ayuntamiento de Mérida
REFRESH-INTERVAL;VALUE=DURATION:PT1H
X-Robots-Tag:noindex
X-PUBLISHED-TTL:PT1H
BEGIN:VTIMEZONE
TZID:Europe/Madrid
BEGIN:DAYLIGHT
TZOFFSETFROM:+0100
TZOFFSETTO:+0200
TZNAME:CEST
DTSTART:20160327T010000
END:DAYLIGHT
BEGIN:STANDARD
TZOFFSETFROM:+0200
TZOFFSETTO:+0100
TZNAME:CET
DTSTART:20161030T010000
END:STANDARD
BEGIN:DAYLIGHT
TZOFFSETFROM:+0100
TZOFFSETTO:+0200
TZNAME:CEST
DTSTART:20170326T010000
END:DAYLIGHT
BEGIN:STANDARD
TZOFFSETFROM:+0200
TZOFFSETTO:+0100
TZNAME:CET
DTSTART:20171029T010000
END:STANDARD
BEGIN:DAYLIGHT
TZOFFSETFROM:+0100
TZOFFSETTO:+0200
TZNAME:CEST
DTSTART:20180325T010000
END:DAYLIGHT
BEGIN:STANDARD
TZOFFSETFROM:+0200
TZOFFSETTO:+0100
TZNAME:CET
DTSTART:20181028T010000
END:STANDARD
BEGIN:DAYLIGHT
TZOFFSETFROM:+0100
TZOFFSETTO:+0200
TZNAME:CEST
DTSTART:20190331T010000
END:DAYLIGHT
BEGIN:STANDARD
TZOFFSETFROM:+0200
TZOFFSETTO:+0100
TZNAME:CET
DTSTART:20191027T010000
END:STANDARD
END:VTIMEZONE
BEGIN:VEVENT
DTSTART;VALUE=DATE:20171205
DTEND;VALUE=DATE:20180129
DTSTAMP:20260423T013235
CREATED:20171215T172742Z
LAST-MODIFIED:20171215T172742Z
UID:55114-1512432000-1517183999@merida.es
SUMMARY:Exposición 'Pasión por la vida' de Enrique Jiménez
DESCRIPTION:La exposición de pintura ‘Pasión por la vida’\, del artista extremeño Enrique Jiménez Carrero\, recoge el trabajo de los últimos 15 años del pintor y la cual está dedicada a «todas las personas que se mueren por vivir la vida». Dicha exposición\, la cual destaca por sus colores entre los que sobresale el rojo\, cuenta con una serie de temáticas como son los retratos del carnaval\, a lo que se suma otra de danza\, una serie de caballos y otra de reinventando a los clásicos.\nHasta el 28 de enero se podrá visitar en la Asamblea de Extremadura.
URL:https://merida.es/agenda/exposicion-pasion-por-la-vida-de-enrique-jimenez/
LOCATION:Asamblea de Extremadura\, Plaza San Juan de Dios s/n\, Mérida
CATEGORIES:Exposición
ATTACH;FMTTYPE=image/jpeg:https://merida.es/wp-content/uploads/2017/12/expo-enrique-jimenez-peq.jpg
END:VEVENT
BEGIN:VEVENT
DTSTART;VALUE=DATE:20180112
DTEND;VALUE=DATE:20180201
DTSTAMP:20260423T013235
CREATED:20180110T125804Z
LAST-MODIFIED:20180110T125804Z
UID:55523-1515715200-1517443199@merida.es
SUMMARY:Exposición 'Phantasmata. Laboratorio de texto e imagen'
DESCRIPTION:La Escuela de Arte y Superior de Diseño de Mérida ESAD\, acogerá del 12 al 31 de enero (de 9 a 14 h.) la exposición “Phantasmata. Laboratorio de texto e imagen” de la periodista Teresa Chaparro Yedro y el escritor Jaime Covarsí Carbonero.\nLa muestra\, que se inaugurará el viernes\, 12 de enero\, a las 20:00 h.\, nos invita a experimentar con la imagen y la palabra. Quince fotografías y textos buscándose para ver qué ocurre al mezclarse. “Phantasmata” nos ofrece una construcción particular entre imagen y discurso. La fotografía se constituye en materia para el texto y se ofrece como una oportunidad ilimitada para la palabra. Ese es su arte: construir un marco en el que la expresión lingüística despliegue toda su capacidad de sugerencia.
URL:https://merida.es/agenda/exposicion-phantasmata-laboratorio-de-texto-e-imagen/
LOCATION:Escuela de Arte y Superior de Diseño de Mérida\, Paseo de Artes y Oficios\, s/n\, Mérida
CATEGORIES:Exposición
ATTACH;FMTTYPE=image/jpeg:https://merida.es/wp-content/uploads/2018/01/phantasmata-peq.jpg
END:VEVENT
BEGIN:VEVENT
DTSTART;VALUE=DATE:20180112
DTEND;VALUE=DATE:20180324
DTSTAMP:20260423T013236
CREATED:20180129T111831Z
LAST-MODIFIED:20180129T111831Z
UID:55908-1515715200-1521849599@merida.es
SUMMARY:Exposición "Bichos\, mangrias y otras sabandijas. La Historia de los enemigos de nuestros cultivos"
DESCRIPTION:La exposición «Bichos\, mangrias y otras sabandijas. La Historia de los enemigos de nuestros cultivos»\, acerca al público un recorrido didáctico sobre las plagas y enfermedades de las plantas y los medios que los humanos hemos empleado a lo largo de la historia\, con mayor o menor fortuna\, para combatirlos.\nSe mantendrá en la sede central de la Consejería de Medio Ambiente en Mérida\, hasta el 23 de marzo.
URL:https://merida.es/agenda/exposicion-bichos-mangrias-y-otras-sabandijas-la-historia-de-los-enemigos-de-nuestros-cultivos/
CATEGORIES:Exposición
ATTACH;FMTTYPE=image/jpeg:https://merida.es/wp-content/uploads/2018/01/expo-bichos-peq.jpg
END:VEVENT
END:VCALENDAR