﻿BEGIN:VCALENDAR
VERSION:2.0
PRODID:-//Ayuntamiento de Mérida - ECPv6.15.17.1//NONSGML v1.0//EN
CALSCALE:GREGORIAN
METHOD:PUBLISH
X-ORIGINAL-URL:https://merida.es
X-WR-CALDESC:Eventos para Ayuntamiento de Mérida
REFRESH-INTERVAL;VALUE=DURATION:PT1H
X-Robots-Tag:noindex
X-PUBLISHED-TTL:PT1H
BEGIN:VTIMEZONE
TZID:Europe/Madrid
BEGIN:DAYLIGHT
TZOFFSETFROM:+0100
TZOFFSETTO:+0200
TZNAME:CEST
DTSTART:20230326T010000
END:DAYLIGHT
BEGIN:STANDARD
TZOFFSETFROM:+0200
TZOFFSETTO:+0100
TZNAME:CET
DTSTART:20231029T010000
END:STANDARD
BEGIN:DAYLIGHT
TZOFFSETFROM:+0100
TZOFFSETTO:+0200
TZNAME:CEST
DTSTART:20240331T010000
END:DAYLIGHT
BEGIN:STANDARD
TZOFFSETFROM:+0200
TZOFFSETTO:+0100
TZNAME:CET
DTSTART:20241027T010000
END:STANDARD
BEGIN:DAYLIGHT
TZOFFSETFROM:+0100
TZOFFSETTO:+0200
TZNAME:CEST
DTSTART:20250330T010000
END:DAYLIGHT
BEGIN:STANDARD
TZOFFSETFROM:+0200
TZOFFSETTO:+0100
TZNAME:CET
DTSTART:20251026T010000
END:STANDARD
BEGIN:DAYLIGHT
TZOFFSETFROM:+0100
TZOFFSETTO:+0200
TZNAME:CEST
DTSTART:20260329T010000
END:DAYLIGHT
BEGIN:STANDARD
TZOFFSETFROM:+0200
TZOFFSETTO:+0100
TZNAME:CET
DTSTART:20261025T010000
END:STANDARD
END:VTIMEZONE
BEGIN:VEVENT
DTSTART;VALUE=DATE:20241204
DTEND;VALUE=DATE:20250201
DTSTAMP:20260420T090240
CREATED:20241212T093211Z
LAST-MODIFIED:20241212T093211Z
UID:136442-1733270400-1738367999@merida.es
SUMMARY:Exposición fotográfica 'Wàiguó rén. Los rincones del dragón fuera del este' de Tricia González
DESCRIPTION:«Wàiguó rén»\, cuyo significado es «extranjeros»\, es la exposición de la fotógrafa Tricia González\, que estará expuesta en el Centro Cultural «Santo Domingo» hasta el 31 de enero. \nEsta muestra nace de la idea de documentar la cotidianidad de las diferentes comunidades asiáticas fuera de su país\, haciendo un contraste entre el modelo “tradicional” del inmigrante procedente del extremo oriente y las segundas generaciones nacidas en España.
URL:https://merida.es/agenda/exposicion-fotografica-tricia-gonzalez/
LOCATION:Centro Cultural Santo Domingo Fundación CB\, Plaza de Santo Domingo\, s/n\, Mérida
CATEGORIES:Exposición
ATTACH;FMTTYPE=image/jpeg:https://merida.es/wp-content/uploads/2024/12/2024-expo-tricia-gonzalez-peq.jpg
END:VEVENT
BEGIN:VEVENT
DTSTART;VALUE=DATE:20250103
DTEND;VALUE=DATE:20250129
DTSTAMP:20260420T090240
CREATED:20250108T081824Z
LAST-MODIFIED:20250108T081824Z
UID:136950-1735862400-1738108799@merida.es
SUMMARY:Exposición "StreetPortrait" de Sasha Asensio
DESCRIPTION:La exposición fotográfica «StreetPortrait» de Sasha Asensio estará en el Centro Cultural Santo Domingo del 3 al 28 de enero de la mano del Club Negativo Foto. Esta muestra invita a los espectadores a sumergirse en la riqueza visual y humana. Cada imagen exhibida refleja la autenticidad y la diversidad de las personas que conforman el tejido social fuera del circuito convencional\, explorando la conexión íntima entre el retratista y el retratado.
URL:https://merida.es/agenda/exposicion-streetportrait-de-sasha-asensio/
LOCATION:Centro Cultural Santo Domingo Fundación CB\, Plaza de Santo Domingo\, s/n\, Mérida
CATEGORIES:Exposición
ATTACH;FMTTYPE=image/jpeg:https://merida.es/wp-content/uploads/2025/01/2025-expo-asensio-peq.jpg
END:VEVENT
BEGIN:VEVENT
DTSTART;VALUE=DATE:20250114
DTEND;VALUE=DATE:20250227
DTSTAMP:20260420T090240
CREATED:20250114T130807Z
LAST-MODIFIED:20250221T075211Z
UID:137121-1736812800-1740614399@merida.es
SUMMARY:Exposición 'Reflejos de un Imperio'
DESCRIPTION:Del 14 de enero al 26 de febrero se puede visitar\, en la Asamblea de Extremadura\, la exposición ‘Reflejos de un Imperio’ que muestra un extraordinario conjunto de piezas arqueológicas en mármol\, procedentes de los edificios públicos de la antigua Augusta Emerita. Muchas de estas obras\, de incalculable valor histórico y cultural\, se exponen al público por primera vez\, otorgando a la exposición un carácter único. \nLas 12 piezas seleccionadas destacan por su maestría artística y por el profundo simbolismo asociado a las imágenes imperiales\, utilizadas tanto para exaltar el poder como para reforzar la divinidad de los emperadores. \nEstas piezas formaban parte de espacios destinados a la representación del Imperio y servían como herramientas clave de propaganda y legitimación política. \nEsta cuidadosa selección de piezas ofrece una visión rica y compleja sobre el papel del Imperio Romano en la creación de símbolos de poder y en el desarrollo de un lenguaje iconográfico propio\, que perdura como testimonio del esplendor de aquella época. \nLa exposición se podrá visitar en el horario de apertura de la Asamblea\, de 10:00 a 14:00 h\, y de 16:00 a 20:00 h\, de lunes a viernes. \nOrganiza el Consorcio de la Ciudad Monumental de Mérida.
URL:https://merida.es/agenda/exposicion-reflejos-de-un-imperio/
LOCATION:Asamblea de Extremadura\, Plaza San Juan de Dios s/n\, Mérida
CATEGORIES:Exposición
ATTACH;FMTTYPE=image/jpeg:https://merida.es/wp-content/uploads/2025/01/2025-expo-reflejos-imperio-peq.jpg
END:VEVENT
BEGIN:VEVENT
DTSTART;VALUE=DATE:20250124
DTEND;VALUE=DATE:20250414
DTSTAMP:20260420T090240
CREATED:20250203T082037Z
LAST-MODIFIED:20250203T082037Z
UID:137605-1737676800-1744588799@merida.es
SUMMARY:Exposición 'Uno x uno' de Lourdes Murillo
DESCRIPTION:Lourdes Murillo realiza en ‘Uno x uno’ una intervención site specific en el claustro de Santa Clara en Mérida donde\, teniendo en cuenta que este espacio\, de alguna manera\, rinde homenaje a la antigua ciudad imperial Augusta Emérita\, desde una perspectiva absolutamente contemporánea. \nA través de la pintura\, la artista reflexiona sobre la tecnología digital y ofrece otra perspectiva de nuestro entorno\, analizando cómo el píxel ha transformado el sistema de proporciones que ha existido desde la época antigua\, pero a la vez\, estableciendo conexiones con este mismo periodo. \nMediante ocho piezas\, la artista consigue hacerse con el espacio\, envolviendo al espectador en una atmósfera relajante que contrasta con la velocidad del mundo actual. Sin utilizar ningún elemento tecnológico para realizar su obra\, a pesar de la temática\, todas las piezas son hechas a mano\, con técnicas artesanales y reivindicando los procesos manuales.
URL:https://merida.es/agenda/exposicion-uno-x-uno-de-lourdes-murillo/
LOCATION:Convento de Santa Clara (Sede del Consorcio y Festival de Mérida)\, Calle Santa Julia\, 5\, Mérida
CATEGORIES:Exposición
ATTACH;FMTTYPE=image/jpeg:https://merida.es/wp-content/uploads/2025/02/2025-lourdes-murillo-expo-peq.jpg
END:VEVENT
END:VCALENDAR