﻿BEGIN:VCALENDAR
VERSION:2.0
PRODID:-//Ayuntamiento de Mérida - ECPv6.15.17.1//NONSGML v1.0//EN
CALSCALE:GREGORIAN
METHOD:PUBLISH
X-ORIGINAL-URL:https://merida.es
X-WR-CALDESC:Eventos para Ayuntamiento de Mérida
REFRESH-INTERVAL;VALUE=DURATION:PT1H
X-Robots-Tag:noindex
X-PUBLISHED-TTL:PT1H
BEGIN:VTIMEZONE
TZID:Europe/Madrid
BEGIN:DAYLIGHT
TZOFFSETFROM:+0100
TZOFFSETTO:+0200
TZNAME:CEST
DTSTART:20240331T010000
END:DAYLIGHT
BEGIN:STANDARD
TZOFFSETFROM:+0200
TZOFFSETTO:+0100
TZNAME:CET
DTSTART:20241027T010000
END:STANDARD
BEGIN:DAYLIGHT
TZOFFSETFROM:+0100
TZOFFSETTO:+0200
TZNAME:CEST
DTSTART:20250330T010000
END:DAYLIGHT
BEGIN:STANDARD
TZOFFSETFROM:+0200
TZOFFSETTO:+0100
TZNAME:CET
DTSTART:20251026T010000
END:STANDARD
BEGIN:DAYLIGHT
TZOFFSETFROM:+0100
TZOFFSETTO:+0200
TZNAME:CEST
DTSTART:20260329T010000
END:DAYLIGHT
BEGIN:STANDARD
TZOFFSETFROM:+0200
TZOFFSETTO:+0100
TZNAME:CET
DTSTART:20261025T010000
END:STANDARD
END:VTIMEZONE
BEGIN:VEVENT
DTSTART;VALUE=DATE:20250124
DTEND;VALUE=DATE:20250414
DTSTAMP:20260420T023625
CREATED:20250203T082037Z
LAST-MODIFIED:20250203T082037Z
UID:137605-1737676800-1744588799@merida.es
SUMMARY:Exposición 'Uno x uno' de Lourdes Murillo
DESCRIPTION:Lourdes Murillo realiza en ‘Uno x uno’ una intervención site specific en el claustro de Santa Clara en Mérida donde\, teniendo en cuenta que este espacio\, de alguna manera\, rinde homenaje a la antigua ciudad imperial Augusta Emérita\, desde una perspectiva absolutamente contemporánea. \nA través de la pintura\, la artista reflexiona sobre la tecnología digital y ofrece otra perspectiva de nuestro entorno\, analizando cómo el píxel ha transformado el sistema de proporciones que ha existido desde la época antigua\, pero a la vez\, estableciendo conexiones con este mismo periodo. \nMediante ocho piezas\, la artista consigue hacerse con el espacio\, envolviendo al espectador en una atmósfera relajante que contrasta con la velocidad del mundo actual. Sin utilizar ningún elemento tecnológico para realizar su obra\, a pesar de la temática\, todas las piezas son hechas a mano\, con técnicas artesanales y reivindicando los procesos manuales.
URL:https://merida.es/agenda/exposicion-uno-x-uno-de-lourdes-murillo/
LOCATION:Convento de Santa Clara (Sede del Consorcio y Festival de Mérida)\, Calle Santa Julia\, 5\, Mérida
CATEGORIES:Exposición
ATTACH;FMTTYPE=image/jpeg:https://merida.es/wp-content/uploads/2025/02/2025-lourdes-murillo-expo-peq.jpg
END:VEVENT
BEGIN:VEVENT
DTSTART;VALUE=DATE:20250303
DTEND;VALUE=DATE:20250329
DTSTAMP:20260420T023625
CREATED:20250313T123127Z
LAST-MODIFIED:20250313T123127Z
UID:138713-1740960000-1743206399@merida.es
SUMMARY:Exposición “Feedback” de Óliver Sáenz
DESCRIPTION:“Feedback” es la exposición de Óliver Sáenz compuesta de treinta dibujos realizados con la técnica de grafito y carboncillo\, que muestra retratos en su mayoría de músicos contemporáneos en un estilo realista con tendencia al hiperrealismo\, y que son el resultado del intimo proceso de retroalimentación que se produce en la comunicación tácita que mantienen el artista y el retratado\, entre trazos y mutua observación a largo de muchas horas. \nSe puede visitar de lunes a viernes\, de 17:30 a 21:00 horas. Sábados\, de 10:30 a 14:00 horas.
URL:https://merida.es/agenda/exposicion-feedback-de-oliver-saenz/
LOCATION:Centro Cultural Santo Domingo Fundación CB\, Plaza de Santo Domingo\, s/n\, Mérida
CATEGORIES:Exposición
ATTACH;FMTTYPE=image/jpeg:https://merida.es/wp-content/uploads/2025/03/2025-expo-feedback-peq.jpg
END:VEVENT
BEGIN:VEVENT
DTSTART;VALUE=DATE:20250303
DTEND;VALUE=DATE:20250330
DTSTAMP:20260420T023625
CREATED:20250311T084814Z
LAST-MODIFIED:20250311T084814Z
UID:138629-1740960000-1743292799@merida.es
SUMMARY:Exposición “Life is a glitch” de Conor Jones
DESCRIPTION:“Life is a Glitch” es el último y más significativo autorretrato del autor y da nombre a la exposición\, invitándonos a profundizar en las distintas emociones y etapas que el autor experimentó desde su primera obra realizada en 2016 hasta la última en 2023. Lápiz y carboncillo dan forma a dieciséis obras en las cuales se combinan autorretratos\, retratos de personajes de cine y composiciones de diferentes motivos\, junto con tres óleos inéditos. \nSe puede visitar de lunes a viernes\, de 17:30 a 21:00 horas\, y sábados\, de 10:30 a 14:00 horas.
URL:https://merida.es/agenda/exposicion-life-is-a-glitch-de-conor-jones/
LOCATION:Centro Cultural Santo Domingo Fundación CB\, Plaza de Santo Domingo\, s/n\, Mérida
CATEGORIES:Exposición
ATTACH;FMTTYPE=image/jpeg:https://merida.es/wp-content/uploads/2025/03/2025-expo-conor-jones-peq.jpg
END:VEVENT
END:VCALENDAR