﻿BEGIN:VCALENDAR
VERSION:2.0
PRODID:-//Ayuntamiento de Mérida - ECPv6.15.17.1//NONSGML v1.0//EN
CALSCALE:GREGORIAN
METHOD:PUBLISH
X-WR-CALNAME:Ayuntamiento de Mérida
X-ORIGINAL-URL:https://merida.es
X-WR-CALDESC:Eventos para Ayuntamiento de Mérida
REFRESH-INTERVAL;VALUE=DURATION:PT1H
X-Robots-Tag:noindex
X-PUBLISHED-TTL:PT1H
BEGIN:VTIMEZONE
TZID:Europe/Madrid
BEGIN:DAYLIGHT
TZOFFSETFROM:+0100
TZOFFSETTO:+0200
TZNAME:CEST
DTSTART:20240331T010000
END:DAYLIGHT
BEGIN:STANDARD
TZOFFSETFROM:+0200
TZOFFSETTO:+0100
TZNAME:CET
DTSTART:20241027T010000
END:STANDARD
BEGIN:DAYLIGHT
TZOFFSETFROM:+0100
TZOFFSETTO:+0200
TZNAME:CEST
DTSTART:20250330T010000
END:DAYLIGHT
BEGIN:STANDARD
TZOFFSETFROM:+0200
TZOFFSETTO:+0100
TZNAME:CET
DTSTART:20251026T010000
END:STANDARD
BEGIN:DAYLIGHT
TZOFFSETFROM:+0100
TZOFFSETTO:+0200
TZNAME:CEST
DTSTART:20260329T010000
END:DAYLIGHT
BEGIN:STANDARD
TZOFFSETFROM:+0200
TZOFFSETTO:+0100
TZNAME:CET
DTSTART:20261025T010000
END:STANDARD
END:VTIMEZONE
BEGIN:VEVENT
DTSTART;VALUE=DATE:20250124
DTEND;VALUE=DATE:20250414
DTSTAMP:20260419T212755
CREATED:20250203T082037Z
LAST-MODIFIED:20250203T082037Z
UID:137605-1737676800-1744588799@merida.es
SUMMARY:Exposición 'Uno x uno' de Lourdes Murillo
DESCRIPTION:Lourdes Murillo realiza en ‘Uno x uno’ una intervención site specific en el claustro de Santa Clara en Mérida donde\, teniendo en cuenta que este espacio\, de alguna manera\, rinde homenaje a la antigua ciudad imperial Augusta Emérita\, desde una perspectiva absolutamente contemporánea. \nA través de la pintura\, la artista reflexiona sobre la tecnología digital y ofrece otra perspectiva de nuestro entorno\, analizando cómo el píxel ha transformado el sistema de proporciones que ha existido desde la época antigua\, pero a la vez\, estableciendo conexiones con este mismo periodo. \nMediante ocho piezas\, la artista consigue hacerse con el espacio\, envolviendo al espectador en una atmósfera relajante que contrasta con la velocidad del mundo actual. Sin utilizar ningún elemento tecnológico para realizar su obra\, a pesar de la temática\, todas las piezas son hechas a mano\, con técnicas artesanales y reivindicando los procesos manuales.
URL:https://merida.es/agenda/exposicion-uno-x-uno-de-lourdes-murillo/
LOCATION:Convento de Santa Clara (Sede del Consorcio y Festival de Mérida)\, Calle Santa Julia\, 5\, Mérida
CATEGORIES:Exposición
ATTACH;FMTTYPE=image/jpeg:https://merida.es/wp-content/uploads/2025/02/2025-lourdes-murillo-expo-peq.jpg
END:VEVENT
BEGIN:VEVENT
DTSTART;VALUE=DATE:20250401
DTEND;VALUE=DATE:20250429
DTSTAMP:20260419T212755
CREATED:20250402T063320Z
LAST-MODIFIED:20250402T063320Z
UID:139310-1743465600-1745884799@merida.es
SUMMARY:Exposición “Lo que ves no es lo que hay” de Abintage
DESCRIPTION:“Lo que ves no es lo que hay” es la segunda colección cápsula realizada en 2021 por Abintage \, la artista y diseñadora Abi PG\, en colaboración con la firma Visori Studio\, diseñada como acompañamiento para performance y exposición. Esta obra deconstruye el concepto de “apariencia” poética y visualmente mediante upcycling\, a partir de prendas de segunda mano y vintage de donaciones y mercadillos locales. \nCada tejido y tipología de prenda hace referencia a una escala social\, la pirámide\, una jerarquía que al romperse y unirse en piezas distintas se equilibran formando parte de un todo y al mismo tiempo dotan de exclusividad\, looks inspirados en una problemática actual: capitalismo\, patriarcado\, violencia\, consumismo\, apariencia y contaminación. Sin olvidar que la moda es arte en sí. Llevamos ropa cargada de estereotipos\, prejuicios\, gustos\, tendencias… pero ¿qué vemos? ¿quiénes somos? Eso no puede verse con los ojos… \nDe lunes a viernes de 17:30 a 21:00 horas. Sábados de 10:30 a 14:00 horas. Centro Cultural Santo Domingo de la Fundación CB
URL:https://merida.es/agenda/exposicion-lo-que-ves-no-es-lo-que-hay-de-abintage/
LOCATION:Centro Cultural Santo Domingo Fundación CB\, Plaza de Santo Domingo\, s/n\, Mérida
CATEGORIES:Exposición
ATTACH;FMTTYPE=image/jpeg:https://merida.es/wp-content/uploads/2025/04/2025-expo-abintage-peq.jpg
END:VEVENT
END:VCALENDAR