﻿BEGIN:VCALENDAR
VERSION:2.0
PRODID:-//Ayuntamiento de Mérida - ECPv6.15.17.1//NONSGML v1.0//EN
CALSCALE:GREGORIAN
METHOD:PUBLISH
X-ORIGINAL-URL:https://merida.es
X-WR-CALDESC:Eventos para Ayuntamiento de Mérida
REFRESH-INTERVAL;VALUE=DURATION:PT1H
X-Robots-Tag:noindex
X-PUBLISHED-TTL:PT1H
BEGIN:VTIMEZONE
TZID:Europe/Madrid
BEGIN:DAYLIGHT
TZOFFSETFROM:+0100
TZOFFSETTO:+0200
TZNAME:CEST
DTSTART:20180325T010000
END:DAYLIGHT
BEGIN:STANDARD
TZOFFSETFROM:+0200
TZOFFSETTO:+0100
TZNAME:CET
DTSTART:20181028T010000
END:STANDARD
BEGIN:DAYLIGHT
TZOFFSETFROM:+0100
TZOFFSETTO:+0200
TZNAME:CEST
DTSTART:20190331T010000
END:DAYLIGHT
BEGIN:STANDARD
TZOFFSETFROM:+0200
TZOFFSETTO:+0100
TZNAME:CET
DTSTART:20191027T010000
END:STANDARD
BEGIN:DAYLIGHT
TZOFFSETFROM:+0100
TZOFFSETTO:+0200
TZNAME:CEST
DTSTART:20200329T010000
END:DAYLIGHT
BEGIN:STANDARD
TZOFFSETFROM:+0200
TZOFFSETTO:+0100
TZNAME:CET
DTSTART:20201025T010000
END:STANDARD
END:VTIMEZONE
BEGIN:VEVENT
DTSTART;VALUE=DATE:20191031
DTEND;VALUE=DATE:20191202
DTSTAMP:20260420T065121
CREATED:20191024T095048Z
LAST-MODIFIED:20221103T111929Z
UID:68892-1572480000-1575244799@merida.es
SUMMARY:Ruta de la Tapa Gourmet 2019
DESCRIPTION:Del 31 de octubre al 1 de diciembre de 2019 (de jueves a domingo) se desarrollará una nueva edición de la Ruta de la Tapa Gourmet de Mérida en la que participarán 21 establecimientos de diferentes puntos de la ciudad.\nLos establecimientos son Arrocería Cala Proserpina\, Callejón\, Columnata\, Como siempre Salmorejo\, Damajuana\, De Tripas Corazón\, El Trasiego Tapas\, Entrecañas\, Kiosco Emperatriz\, La Tahona\, Malabar\, Marisquería Restaurante Lusitania\, Mesón El Lebrel\, Natura\, Parador de Mérida\, Serendipity\, The Kraft Bar\, Trece Uvas\, Vía de la Tapa\, VII Sillas y Volterra. \nDichos establecimientos ofrecerán una “Tapa de la ruta” por 2 € y una “Tapa Gourmet” por 3\,50 €. Participar en la Ruta de la tapa tendrá un aliciente para todas las personas que la quieran realizar ya que tendrán la posibilidad de entrar en el sorteo de más de 70 premios. Para ello\, como ediciones anteriores\, deberán rellenar el pasaporte con 4 sellos de distintos establecimientos\, que podrán conseguir en los establecimientos participantes\, y depositarlos en la urna que se encontrará en la Oficina de Turismo de la Puerta de la Villa hasta las 14:00 horas del 2 de diciembre. \nLos premios constan\, entre otros\, de estancia para dos personas en régimen de alojamiento y desayuno en destino nacional\, sesión de Spa privada para dos personas con cava\, experiencias gastronómicas\, recorridos guiados por Mérida Secreta\, lotes de Vinos y Cavas\, lotes de cervezas\, cenas y comidas en Mérida\, etc. \nLa Ruta de la Tapa contará con una APP llamada ‘RUTAPPA’ con toda la información de los participantes\, fotografía y descripción de todas las tapas. Cuenta con un Mapa interactivo con la ubicación exacta de todos los negocios participantes y los participantes podrán votar por la ‘Mejor Tapa Popular’. \nPasaporte \nListado de Premios
URL:https://merida.es/agenda/ruta-de-la-tapa-gourmet-2019/
LOCATION:Varios establecimientos de la ciudad
CATEGORIES:Gastronomía
ATTACH;FMTTYPE=image/jpeg:https://merida.es/wp-content/uploads/2019/10/ruta-tapa-banner2.jpg
END:VEVENT
BEGIN:VEVENT
DTSTART;VALUE=DATE:20191206
DTEND;VALUE=DATE:20191209
DTSTAMP:20260420T065121
CREATED:20191128T133410Z
LAST-MODIFIED:20191128T133410Z
UID:70027-1575590400-1575849599@merida.es
SUMMARY:IV Feria del Dulce Artesano de Navidad
DESCRIPTION:Del 6 al 8 de diciembre se celebra\, en el Parque López de Ayala\, la IV Feria del Dulce Artesano de Navidad en la que se podrá disfrutar de dulces artesanos procedentes de distintos puntos de España y Portugal. La feria estará abierta de manera ininterrumpida el viernes 6 y el sábado 7 de diciembre\, de 11.30 horas a 22.00 horas\, y el domingo 8\, de 11:30 a 19:00 horas.
URL:https://merida.es/agenda/iv-feria-del-dulce-artesano-de-navidad/
LOCATION:Parque López de Ayala\, Mérida
CATEGORIES:Gastronomía,Navidad
ATTACH;FMTTYPE=image/jpeg:https://merida.es/wp-content/uploads/2019/11/2019-feria-dulce-navidad-peq.jpg
END:VEVENT
END:VCALENDAR