﻿BEGIN:VCALENDAR
VERSION:2.0
PRODID:-//Ayuntamiento de Mérida - ECPv6.15.17.1//NONSGML v1.0//EN
CALSCALE:GREGORIAN
METHOD:PUBLISH
X-WR-CALNAME:Ayuntamiento de Mérida
X-ORIGINAL-URL:https://merida.es
X-WR-CALDESC:Eventos para Ayuntamiento de Mérida
REFRESH-INTERVAL;VALUE=DURATION:PT1H
X-Robots-Tag:noindex
X-PUBLISHED-TTL:PT1H
BEGIN:VTIMEZONE
TZID:Europe/Madrid
BEGIN:DAYLIGHT
TZOFFSETFROM:+0100
TZOFFSETTO:+0200
TZNAME:CEST
DTSTART:20190331T010000
END:DAYLIGHT
BEGIN:STANDARD
TZOFFSETFROM:+0200
TZOFFSETTO:+0100
TZNAME:CET
DTSTART:20191027T010000
END:STANDARD
BEGIN:DAYLIGHT
TZOFFSETFROM:+0100
TZOFFSETTO:+0200
TZNAME:CEST
DTSTART:20200329T010000
END:DAYLIGHT
BEGIN:STANDARD
TZOFFSETFROM:+0200
TZOFFSETTO:+0100
TZNAME:CET
DTSTART:20201025T010000
END:STANDARD
BEGIN:DAYLIGHT
TZOFFSETFROM:+0100
TZOFFSETTO:+0200
TZNAME:CEST
DTSTART:20210328T010000
END:DAYLIGHT
BEGIN:STANDARD
TZOFFSETFROM:+0200
TZOFFSETTO:+0100
TZNAME:CET
DTSTART:20211031T010000
END:STANDARD
END:VTIMEZONE
BEGIN:VEVENT
DTSTART;VALUE=DATE:20200221
DTEND;VALUE=DATE:20200226
DTSTAMP:20260420T003619
CREATED:20200221T101446Z
LAST-MODIFIED:20200221T101446Z
UID:72215-1582243200-1582675199@merida.es
SUMMARY:V Ruta de la Tapa Carnavalesca
DESCRIPTION:  \n\nDel 21 al 25 de febrero tendrá lugar la V Ruta de la Tapa Carnavalesca  en donde 10 establecimientos\, que estarán ambientados durante la Ruta\, han elaborado una tapa\, apetitosa y divertida\, con un nombre carnavalero\, producto de la imaginación y buen hacer de los restauradores de la ciudad. \nParticipan: Natura GastroArt – Columnata – Restaurante Lusitania – Las Extremañas – Como Siempre Salmorejo – Restaurante La Extremeña – Mesón El Lebrel – Serendipity – The KRAFT Bar y Vía de la Tapa\n[list]\n[li type=»glyphicon-arrow-right»]Díptico[/li]\n[/list]
URL:https://merida.es/agenda/v-ruta-de-la-tapa-carnavalesca/
LOCATION:Varios establecimientos de la ciudad
CATEGORIES:Carnaval,Gastronomía
ATTACH;FMTTYPE=image/jpeg:https://merida.es/wp-content/uploads/2020/02/2020-ruta-tapa-carnavalesca-peq-1.jpg
END:VEVENT
BEGIN:VEVENT
DTSTART;TZID=Europe/Madrid:20200223T123000
DTEND;TZID=Europe/Madrid:20200223T123000
DTSTAMP:20260420T003619
CREATED:20200212T170140Z
LAST-MODIFIED:20200212T170140Z
UID:71989-1582461000-1582461000@merida.es
SUMMARY:JamonADA solidaria a favor de 'El Mundo de Álex'
DESCRIPTION:  \nEl domingo 23 de febrero\, coincidiendo con el Domingo de Adas del Carnaval Romano\, se celebrará\, en la Plaza de España\, una JamonADA Solidaria a favor de El Mundo de Alex\nDesde las 12.30 horas una veintena de cortadores de jamón ofrecerán sus platos de jamón a un precio de cinco euros en una actividad festiva que pretende recaudar fondos para Álex\, un emeritenses de siete años que padece el denominado Síndrome de Cach.\nEste enfermedad rara es de tipo neurodegenerativo. Es una dolencia que afecta a la sustancia blanca o mielina que recubre nuestras neuronas y da la información a los músculos para realizar cualquier movimiento. Se presenta por brotes debido a un estrés celular provocado por caídas con golpe en la cabeza\, sustos\, miedos\, fiebres altas o enfermedades infecciosas. No tiene cura ni tratamiento aunque se vienen desarrollando investigaciones en algunas universidades\, como la de Tel Aviv.\nLa JamonADA Solidaria está organizada por el Ayuntamiento y el Grupo de Cortadores José Manuel Yuste.
URL:https://merida.es/agenda/jamonada-solidaria-a-favor-de-el-mundo-de-alex/
LOCATION:Plaza de España\, Mérida
CATEGORIES:Benéfico,Carnaval,Gastronomía
ATTACH;FMTTYPE=image/jpeg:https://merida.es/wp-content/uploads/2020/02/jamonada-peq2.jpg
END:VEVENT
END:VCALENDAR