﻿BEGIN:VCALENDAR
VERSION:2.0
PRODID:-//Ayuntamiento de Mérida - ECPv6.15.17.1//NONSGML v1.0//EN
CALSCALE:GREGORIAN
METHOD:PUBLISH
X-WR-CALNAME:Ayuntamiento de Mérida
X-ORIGINAL-URL:https://merida.es
X-WR-CALDESC:Eventos para Ayuntamiento de Mérida
REFRESH-INTERVAL;VALUE=DURATION:PT1H
X-Robots-Tag:noindex
X-PUBLISHED-TTL:PT1H
BEGIN:VTIMEZONE
TZID:Europe/Madrid
BEGIN:DAYLIGHT
TZOFFSETFROM:+0100
TZOFFSETTO:+0200
TZNAME:CEST
DTSTART:20210328T010000
END:DAYLIGHT
BEGIN:STANDARD
TZOFFSETFROM:+0200
TZOFFSETTO:+0100
TZNAME:CET
DTSTART:20211031T010000
END:STANDARD
BEGIN:DAYLIGHT
TZOFFSETFROM:+0100
TZOFFSETTO:+0200
TZNAME:CEST
DTSTART:20220327T010000
END:DAYLIGHT
BEGIN:STANDARD
TZOFFSETFROM:+0200
TZOFFSETTO:+0100
TZNAME:CET
DTSTART:20221030T010000
END:STANDARD
BEGIN:DAYLIGHT
TZOFFSETFROM:+0100
TZOFFSETTO:+0200
TZNAME:CEST
DTSTART:20230326T010000
END:DAYLIGHT
BEGIN:STANDARD
TZOFFSETFROM:+0200
TZOFFSETTO:+0100
TZNAME:CET
DTSTART:20231029T010000
END:STANDARD
BEGIN:DAYLIGHT
TZOFFSETFROM:+0100
TZOFFSETTO:+0200
TZNAME:CEST
DTSTART:20240331T010000
END:DAYLIGHT
BEGIN:STANDARD
TZOFFSETFROM:+0200
TZOFFSETTO:+0100
TZNAME:CET
DTSTART:20241027T010000
END:STANDARD
END:VTIMEZONE
BEGIN:VEVENT
DTSTART;VALUE=DATE:20221124
DTEND;VALUE=DATE:20230109
DTSTAMP:20260423T092431
CREATED:20221109T104957Z
LAST-MODIFIED:20221207T173109Z
UID:116282-1669248000-1673222399@merida.es
SUMMARY:Navidad en Mérida
DESCRIPTION:La Navidad se inaugura en Mérida el jueves\, 24 de noviembre\, con el acto oficial de encendido de la iluminación extraordinaria\, en la Plaza de España\, a las 19:00 horas. Habrá un gran espectáculo de luz y sonido (19:00 y 20:30 horas) y la batucada navideña de Los Danzarines Emeritenses. \nCada día habrá dos pases de este espectáculo\, de lunes a jueves\, a las 18:30 y a las 20:00 horas\, y de viernes a domingo habrá tres pases\, los dos anteriores y uno más a las 21.30 horas. \nLa programación de Navidad en Mérida va a ofrecer más de ciento veinte actividades para todos los públicos\, con dos macro espectáculos en la plaza de España: el 23 de diciembre viernes\, a las 19 horas será el concierto de Raya Real\, grupo referente en el flamenco y los villancicos de este país\, y el 30 de diciembre viernes\, la fiesta infantil de fin de año a las doce de la mañana en la Plaza de España\, y las Preuvas multitudinarias por la noche en un macro evento organizado por Megastar que traerá figuras nacionales de la música\, djs y muchas sorpresas. \nLa Festividad de la Mártir Santa Eulalia contará con las habituales procesiones los días 9 y 10 de diciembre. \nSigue la programación con la Cabalgata de Reyes que este año contará con 17 colectivos y “el día de Reyes tendremos la actuación del grupo Derby Motoreta Burrito Cachimba en el Palacio de Congresos\, grupo cuyo vocalista\, Miguel\, es emeritense y fue el pregonero del carnaval romano de este año. Junto a esto volverán los pajes y carteros reales a recibir en el Ayuntamiento las cartas de los niños y niñas emeritenses días antes de la llegada de sus majestades. \nAdemás tendremos el Ciclo de música de cámara del Grupo de Ciudades Patrimonio en Mérida y las zambombadas flamencas. También se llevará la navidad a todas las barriadas con talleres infantiles y cuentacuentos que recorrerán la ciudad. \nTambién se podrá disfrutar de los Jueves de Cuento en la biblioteca\, talleres de Navidad en la Zona Sur\, dos showcooking de Peque Chef en el Alcazaba y otras actividades para público juvenil como un festival de peleas de gallos en el Parque de las VII Sillas. \nSe contará con la presencia de la Asociación Folklórica Nuestra Señora de La Antigua\, las actuaciones de la Banda de Música\, el tablao flamenco en el Templo de Diana\, el 2 de diciembre\, y el espectáculo Raíces\, a cargo de Mérida Flamenca\, el 18 de diciembre. \nDe otro lado\, se ha convocado los tradicionales concursos de escaparates y decoración de establecimientos y de fotografía\, cuyo ganador ilustrará la programación navideña del año próximo. \nProgramación Navidad y Mártir Santa Eulalia 2022/23 \nProgramación Navidad y Mártir Santa Eulalia 2022/23 (Lectura Fácil) \n\n					MERCADO NAVIDEÑO\nMérida contará este año con una nueva edición del Mercado de Navidad\, del 2 diciembre al 5 de enero\, ambos inclusive\, en el Parque López de Ayala. Con veinte puestos de artesanía\, numerosos talleres y actividades infantiles\, actuaciones musicales\, la visita de Papá Noel y los Pajes de los Reyes Magos así como atracciones infantiles y pista de hielo. \nProgramación Mérida\, Ciudad de la Navidad (Mercado Navideño) \n 
URL:https://merida.es/agenda/navidad-2022/
LOCATION:Varios puntos de la ciudad\, Mérida
CATEGORIES:Infantil,Música,Navidad,Ocio
ATTACH;FMTTYPE=image/jpeg:https://merida.es/wp-content/uploads/2022/11/2022-navidad-en-merida-peq.jpg
END:VEVENT
BEGIN:VEVENT
DTSTART;TZID=Europe/Madrid:20221201T183000
DTEND;TZID=Europe/Madrid:20221201T183000
DTSTAMP:20260423T092431
CREATED:20221130T133008Z
LAST-MODIFIED:20221130T133008Z
UID:116996-1669919400-1669919400@merida.es
SUMMARY:Los jueves te cuento
DESCRIPTION:El programa ‘Los jueves te cuento’ se celebrará de forma sucesiva\, todos los jueves\, desde el 17 de noviembre hasta el 26 de enero en ‘El rincón de los cuentos’ de la Biblioteca Municipal Juan Pablo Forner\, a las 18.30 horas\, y está dirigido a niños a partir de cuatro años. Juan Ramón Muñoz Cruz contará historias divertidas y atractivas para fomentar el hábito de la lectura entre los más pequeños.
URL:https://merida.es/agenda/los-jueves-te-cuento-5/
LOCATION:Centro Cultural Alcazaba\, Calle John Lennon\, 5\, Mérida
CATEGORIES:Infantil
ATTACH;FMTTYPE=image/jpeg:https://merida.es/wp-content/uploads/2022/11/cuentacuentos-peq.jpg
END:VEVENT
BEGIN:VEVENT
DTSTART;VALUE=DATE:20221202
DTEND;VALUE=DATE:20230109
DTSTAMP:20260423T092431
CREATED:20221202T132903Z
LAST-MODIFIED:20230105T094838Z
UID:117089-1669939200-1673222399@merida.es
SUMMARY:Mérida\, Ciudad de la Navidad (Mercado Navideño)
DESCRIPTION:Desde el 2 de diciembre hasta el 8 de enero\, se podrá disfrutar del Mercado Navideño de Mérida que\, este año\, se presenta con el nombre ‘Mérida\, Ciudad de la Navidad’. \nEn esta edición\, el Mercado de Navidad cuenta con 20 casetas de artesanía\, casi el doble que el año pasado\, una de ellas destinada a colectivos y organizaciones solidarias que necesitan un espacio como éste para llegar al público. El Mercado abre sus puertas a las 11:00 de la mañana los fines de semana\, y a partir del 22 de diciembre lo hará de forma ininterrumpida una vez que los escolares tengan vacaciones. De esta forma\, la primera semana las tardes del Parque López de Ayala se llenarán de actividades para todos los públicos. \nAdemás\, el Mercado contará con hilo musical\, pista de hielo de 400 metros cuadrados y una zona de pequeñas atracciones infantiles\, junto a la cual se ha instalado una zona con carpa multiusos donde se realizarán los diferentes conciertos y espectáculos programados. \nEste espacio acogerá el buzón es de Papá Noel (quien visitará en persona el espacio) para que los más pequeños puedan dejarles sus cartas de regalos y deseos. \nCofinanciado al 80 % por el Fondo Europeo de Desarrollo Regional (FEDER)\, Programa Operativo Pluriregional de España 2014-2020\, a cargo de la Estrategia de Desarrollo Urbano Sostenible e Integrado de Mérida\, “Mérida Central”\, dentro de la Línea de Actuación 6 de regeneración Económica\, Cultural y Plan de Acción Social para Derribar Barreras. \nProgramación Mérida\, Ciudad de la Navidad (Mercado Navideño)
URL:https://merida.es/agenda/merida-ciudad-de-la-navidad-mercado-navideno/
LOCATION:Parque López de Ayala\, Mérida
CATEGORIES:Comercio,Curso-Taller,Infantil,Navidad,Ocio
ATTACH;FMTTYPE=image/jpeg:https://merida.es/wp-content/uploads/2022/12/2022-mercado-navidad-peq.jpg
END:VEVENT
BEGIN:VEVENT
DTSTART;TZID=Europe/Madrid:20221206T123000
DTEND;TZID=Europe/Madrid:20221206T123000
DTSTAMP:20260423T092431
CREATED:20221201T153532Z
LAST-MODIFIED:20221205T115447Z
UID:117049-1670329800-1670329800@merida.es
SUMMARY:Cuentos y Divertimento con Coco
DESCRIPTION:El Centro Cultural Alcazaba (en lugar de la Plaza de las Méridas del Mundo como inicialmente estaba previsto) acogerá\, el martes 6 de diciembre\, a partir de las 12:30 horas\, la actividad ‘Cuentos y Divertimento con Coco’\, cuentos de animales\, ogros\, historias de brujas\, fábulas y adivinanzas narradas y teatralizadas que harán que los niños y niñas se internen en un mundo de valores\, emociones y fantasía. \nLa actividad está financiada por la Estrategia de Desarrollo Urbano Sostenible e Integrado de la ciudad de Mérida “EDUSI Mérida Central”\, fue aprobada con un presupuesto total de 12’5 millones de euros\, cofinanciados en un 80% por el Fondo Europeo de Desarrollo Regional (FEDER)\, en el marco del Programa Operativo Plurirregional de España 2014-2020.
URL:https://merida.es/agenda/cuentos-y-divertimento-con-coco/
LOCATION:Centro Cultural Alcazaba\, Calle John Lennon\, 5\, Mérida
CATEGORIES:Infantil
ATTACH;FMTTYPE=image/jpeg:https://merida.es/wp-content/uploads/2022/12/2022-navidad-cuentos-coco-peq.jpg
END:VEVENT
BEGIN:VEVENT
DTSTART;TZID=Europe/Madrid:20221208T123000
DTEND;TZID=Europe/Madrid:20221208T123000
DTSTAMP:20260423T092431
CREATED:20221201T153819Z
LAST-MODIFIED:20221205T115553Z
UID:117053-1670502600-1670502600@merida.es
SUMMARY:Cuentos y Divertimento con Coco
DESCRIPTION:El Centro Cultural Alcazaba (en lugar de la Plaza de España como inicialmente estaba previsto) acogerá\, el jueves 8 de diciembre\, a partir de las 12:30 horas\, la actividad ‘Cuentos y Divertimento con Coco’\, cuentos de animales\, ogros\, historias de brujas\, fábulas y adivinanzas narradas y teatralizadas que harán que los niños y niñas se internen en un mundo de valores\, emociones y fantasía. \nLa actividad está financiada por la Estrategia de Desarrollo Urbano Sostenible e Integrado de la ciudad de Mérida “EDUSI Mérida Central”\, fue aprobada con un presupuesto total de 12’5 millones de euros\, cofinanciados en un 80% por el Fondo Europeo de Desarrollo Regional (FEDER)\, en el marco del Programa Operativo Plurirregional de España 2014-2020.
URL:https://merida.es/agenda/cuentos-y-divertimento-con-coco-2/
LOCATION:Centro Cultural Alcazaba\, Calle John Lennon\, 5\, Mérida
CATEGORIES:Infantil
ATTACH;FMTTYPE=image/jpeg:https://merida.es/wp-content/uploads/2022/12/2022-navidad-cuentos-coco-peq.jpg
END:VEVENT
BEGIN:VEVENT
DTSTART;TZID=Europe/Madrid:20221215T183000
DTEND;TZID=Europe/Madrid:20221215T183000
DTSTAMP:20260423T092431
CREATED:20221214T123121Z
LAST-MODIFIED:20221214T123121Z
UID:117390-1671129000-1671129000@merida.es
SUMMARY:Los jueves te cuento
DESCRIPTION:El programa ‘Los jueves te cuento’ se celebrará de forma sucesiva\, todos los jueves\, desde el 17 de noviembre hasta el 26 de enero en ‘El rincón de los cuentos’ de la Biblioteca Municipal Juan Pablo Forner\, a las 18.30 horas\, y está dirigido a niños a partir de cuatro años. Juan Ramón Muñoz Cruz contará historias divertidas y atractivas para fomentar el hábito de la lectura entre los más pequeños.
URL:https://merida.es/agenda/los-jueves-te-cuento-15-diciembre/
LOCATION:Centro Cultural Alcazaba\, Calle John Lennon\, 5\, Mérida
CATEGORIES:Infantil
ATTACH;FMTTYPE=image/jpeg:https://merida.es/wp-content/uploads/2022/11/cuentacuentos-peq.jpg
END:VEVENT
BEGIN:VEVENT
DTSTART;TZID=Europe/Madrid:20221216T200000
DTEND;TZID=Europe/Madrid:20221216T200000
DTSTAMP:20260423T092431
CREATED:20221019T160408Z
LAST-MODIFIED:20221019T160408Z
UID:115708-1671220800-1671220800@merida.es
SUMMARY:¡Qué Festín! El Musical de los Grandes Musicales
DESCRIPTION:Adéntrate en un mundo mágico con las canciones y los personajes fantásticos de los principales cuentos infantiles de los últimos tiempos: FROZEN\, VAIANA\, REY LEÓN\, SIRENITA\, COCO\, TARZÁN\, TOY STORY\, BELLA Y BESTIA\, ALADÍN\, POCAHONTAS\, HÉRCULES\, ENCANTO… y muchos más\, todo unido en una trama protagonizada por el dúo cómico de Lumiere y Dindon\, que nos llevará a emocionar al niño que tenemos en nuestro interior. \nEntradas: https://zonaentradas.com
URL:https://merida.es/agenda/que-festin-el-musical-de-los-grandes-musicales/
LOCATION:Palacio de Congresos\, Avda. del Rio s/n\, Mérida
CATEGORIES:Infantil,Música
ATTACH;FMTTYPE=image/jpeg:https://merida.es/wp-content/uploads/2022/10/2022-que-festin-peq.jpg
END:VEVENT
BEGIN:VEVENT
DTSTART;TZID=Europe/Madrid:20221222T160000
DTEND;TZID=Europe/Madrid:20221222T183000
DTSTAMP:20260423T092431
CREATED:20221218T192412Z
LAST-MODIFIED:20221218T192412Z
UID:117469-1671724800-1671733800@merida.es
SUMMARY:Satvrnalia Infantil
DESCRIPTION:El Museo Nacional de Arte Romano ofrece un taller en donde los más pequeños conocerán y experimentarán los ritos relacionados con la Satvrnalia Romana. Será el 22 de diciembre\, de 16:00 a 18:30 horas. \nInscripción previa en programadifusion.museomerida@gmail.com con nombre completo y número de contacto.
URL:https://merida.es/agenda/satvrnalia-infantil/
LOCATION:Museo Nacional de Arte Romano\, Calle José Ramón Mélida\, Mérida\, Badajoz\, 06800\, España
CATEGORIES:Infantil
ATTACH;FMTTYPE=image/jpeg:https://merida.es/wp-content/uploads/2022/12/2022-saturnalia-infantil-peq.jpg
END:VEVENT
BEGIN:VEVENT
DTSTART;TZID=Europe/Madrid:20221223T170000
DTEND;TZID=Europe/Madrid:20221223T170000
DTSTAMP:20260423T092431
CREATED:20221202T093115Z
LAST-MODIFIED:20221216T133851Z
UID:117085-1671814800-1671814800@merida.es
SUMMARY:Showcooking infantil 'Peque Chef'
DESCRIPTION:Peque Chef es una actividad en la que los más pequeños elaboraran y degustarán recetas dulces típicas de navideñas y se divertirán haciendo manualidades típicas de la Navidad\, dirigidos por el chef de la empresa ‘Quienleponeelcascabelalchef’. \nEl día 23 de noviembre\, a las 17:00 horas\, cocinarán un tronco de Navidad y de manualidad harán un servilletero de un reno para adornar la mesa en estas fiestas. El día 3 de enero\, a las 12:00 horas\, tocará elaborar un dulce de reyes y harán una corona. Una actividad para convertirte en el rey y la reina de la concina en estas fiestas. El Centro Cultural Alcazaba es el lugar elegido para los talleres. \nInscripción gratuita previa a partir del 19 de diciembre\, a las 10:00 horas: \nFormulario de Inscripción
URL:https://merida.es/agenda/showcooking-infantil-peque-chef/
LOCATION:Centro Cultural Alcazaba\, Calle John Lennon\, 5\, Mérida
CATEGORIES:Gastronomía,Infantil
ATTACH;FMTTYPE=image/jpeg:https://merida.es/wp-content/uploads/2022/12/2022-pequechef-peq.jpg
END:VEVENT
BEGIN:VEVENT
DTSTART;VALUE=DATE:20221226
DTEND;VALUE=DATE:20230104
DTSTAMP:20260423T092431
CREATED:20221222T123213Z
LAST-MODIFIED:20230103T110724Z
UID:117640-1672012800-1672790399@merida.es
SUMMARY:Talleres infantiles 'Sombras de Navidad'
DESCRIPTION:La delegación de Participación Ciudadana ha programado para los días de Navidad una serie de talleres-espectáculo que llevará a cabo “Yörik\, artes escénicas” y que se celebrarán en 10 barriadas de la ciudad bajo el nombre de ‘Sombras de Navidad’. \nEl objetivo es llevar la navidad a los barrios a través de estos talleres-espectáculo de pequeño formato teatral que sirven para introducir a los niños y niñas en el mundo de la fantasía a través de los cuentos navideños a través de marionetas en las que las sombras cobran protagonismo. \nDe esta manera\, se les enseña otra forma de contar historias a través del teatro de sombras. Al finalizar el taller\, los participantes realizarán todo lo que acaban de ver en el espectáculo y realizarán su pequeña marioneta para que puedan contar las historias que se les ocurran. \nSombras de Navidad se celebrará en las siguientes fechas y horarios: \n\n26 de diciembre – 12:00h. Local social de La Calzada\n26 de diciembre – 17:00h. Local social de San Juan\n27 de diciembre – 12:00h. Local social de La Antigua\n28 de diciembre – 12:00h. Local social de San Andrés\n29 de diciembre – 12:00h. Local social de Plantonal de Vera\n29 de diciembre – 17:00h. Local social de Bellavista\n30 de diciembre – 17:00h. Local social de María Auxiliadora\n2 de enero  – 12:00h. Local social de la Zona Sur\n2 de enero  – 17:00h. Local social de La Corchera\n3 de enero  – 12:00h. Local social de Nueva Ciudad\n\nLas plazas están limitadas a 20 niños y niñas por taller y las inscripciones podrán realizarse desde las 14:00 horas del jueves 22 de diciembre a través del formulario de más abajo y podrán participar niños y niñas entre los 4 y los 12 años. Solo se permite que cada niño o niña se inscriba en un único taller. En caso de más de una inscripción se tendrá en cuenta la que se haya realizado por última vez. \nFormulario de Inscripción
URL:https://merida.es/agenda/talleres-infantiles-sombras-de-navidad/
LOCATION:Varios puntos de la ciudad\, Mérida
CATEGORIES:Curso-Taller,Infantil,Navidad
ATTACH;FMTTYPE=image/jpeg:https://merida.es/wp-content/uploads/2022/12/2022-talleres-sombras-navidad-peq.jpg
END:VEVENT
BEGIN:VEVENT
DTSTART;TZID=Europe/Madrid:20221226T130000
DTEND;TZID=Europe/Madrid:20221226T130000
DTSTAMP:20260423T092431
CREATED:20221206T122834Z
LAST-MODIFIED:20221206T122834Z
UID:117215-1672059600-1672059600@merida.es
SUMMARY:Cartero Real Cofradía Ferroviaria
DESCRIPTION:El lunes 26 de diciembre\, a las 13:00 horas\, llegará a la Basílica Santa Eulalia el Cartero Real para que todos los niños y niñas puedan entregar sus cartas a los Reyes Magos. Se contará con hinchables\, talleres infantiles y muchas sorpresas. También\, habrá recogida de alimentos y\, a partir de las 14:00 horas\, se degustará una garbanzada. Organiza la Cofradía Ferroviaria
URL:https://merida.es/agenda/cartero-real-cofradia-ferroviaria-2022/
LOCATION:Basílica de Santa Eulalia
CATEGORIES:Convivencia,Infantil,Navidad
ATTACH;FMTTYPE=image/jpeg:https://merida.es/wp-content/uploads/2022/12/2022-cartero-real-ferroviaria-peq.jpg
END:VEVENT
BEGIN:VEVENT
DTSTART;VALUE=DATE:20221227
DTEND;VALUE=DATE:20221229
DTSTAMP:20260423T092431
CREATED:20221201T230745Z
LAST-MODIFIED:20221201T230745Z
UID:117069-1672099200-1672271999@merida.es
SUMMARY:Cuentacuentos: "Shinny\, el duende de la Navidad"
DESCRIPTION:Al caer la noche\, cuando los niños y los ancianos se van a dormir\, los duendes se encargan de cuidarles y protegerles. Pero\, mientras los humanos duermen plácidamente me encanta hacer bromas y trastadas para que cuando despierten empiecen el día con una sonrisa… …\nShinny es Elfo de Navidad. Un ser extremadamente inteligente y trabajador\, que ayuda a Santa con la máquina mágica de hacer juguetes.\nShinny es un elfo muy especial pues tiene la misión de acercar a los niños y niñas\, de una forma divertida y didáctica\, los valores de la época navideña tales como generosidad\, humildad\, solidaridad\, ilusión\, paz\, amor… A través de cuentos e historias teatralizadas para introducir a los más pequeños en un mundo de fantasía ambientados en Navidad. \nPara niños y niñas a partir de 4 años
URL:https://merida.es/agenda/cuentacuentos-shinny-el-duende-de-la-navidad/
LOCATION:Centro Cultural Alcazaba\, Calle John Lennon\, 5\, Mérida
CATEGORIES:Infantil
ATTACH;FMTTYPE=image/jpeg:https://merida.es/wp-content/uploads/2022/12/2022-cuentos-chimenea-peq.jpg
END:VEVENT
BEGIN:VEVENT
DTSTART;VALUE=DATE:20221227
DTEND;VALUE=DATE:20230106
DTSTAMP:20260423T092431
CREATED:20221223T150252Z
LAST-MODIFIED:20221223T150252Z
UID:117669-1672099200-1672963199@merida.es
SUMMARY:En Navidad Te Cuento
DESCRIPTION:La Biblioteca Municipal Juan Pablo Forner organiza la actividad infantil ‘En Navidad Te Cuento’ en donde Juan Ramón Muñoz (JuanRa) y Eva la Farandulera nos traerán cuentos infantiles de Navidad en el Rincón de los Cuentos del Centro Cultural Alcazaba los días 27\, 28 y 30 de diciembre y 3\,4 y 5 de enero\, a partir de las 12:00 horas.
URL:https://merida.es/agenda/en-navidad-te-cuento/
LOCATION:Centro Cultural Alcazaba\, Calle John Lennon\, 5\, Mérida
CATEGORIES:Infantil,Literatura,Navidad
ATTACH;FMTTYPE=image/jpeg:https://merida.es/wp-content/uploads/2022/12/2022-cuentos-navidad-biblioteca-peq.jpg
END:VEVENT
BEGIN:VEVENT
DTSTART;TZID=Europe/Madrid:20221229T120000
DTEND;TZID=Europe/Madrid:20221229T120000
DTSTAMP:20260423T092431
CREATED:20221228T124258Z
LAST-MODIFIED:20221228T124346Z
UID:117731-1672315200-1672315200@merida.es
SUMMARY:Presentación del libro infantil 'Alejandra y la pulsera del tiempo' de José Ramón Samada
DESCRIPTION:El autor José Ramón Samada presentará su libro infantil ‘Alejandra y la pulsera del tiempo’ en la Sección Infantil de la Biblioteca Municipal Juan Pablo Forner el jueves 29 de diciembre\, a las 12:00 horas.
URL:https://merida.es/agenda/presentacion-del-libro-infantil-alejandra-y-la-pulsera-del-tiempo-de-jose-ramon-samada/
LOCATION:Biblioteca Municipal Juan Pablo Forner\, Calle John Lennon\, 5\, Mérida
CATEGORIES:Infantil,Literatura
ATTACH;FMTTYPE=image/jpeg:https://merida.es/wp-content/uploads/2022/12/2022-cuento-alejandra-peq.jpg
END:VEVENT
BEGIN:VEVENT
DTSTART;TZID=Europe/Madrid:20221230T113000
DTEND;TZID=Europe/Madrid:20221230T113000
DTSTAMP:20260423T092431
CREATED:20221227T113125Z
LAST-MODIFIED:20221227T134856Z
UID:117693-1672399800-1672399800@merida.es
SUMMARY:Fiesta Infantil Fin de Año
DESCRIPTION:La fiesta infantil de Fin de Año congregará a los más jóvenes en una cita en la que\, desde las 11:30 horas del próximo 30 de diciembre\, en la Plaza de España\, podrán disfrutar de animación\, chucherías y una recreación de las Doce Uvas\, a las 12 de la mañana\, y con gusanitos.
URL:https://merida.es/agenda/fiesta-infantil-fin-de-ano/
LOCATION:Plaza de España\, Mérida
CATEGORIES:Infantil,Navidad
ATTACH;FMTTYPE=image/jpeg:https://merida.es/wp-content/uploads/2022/12/2022-fiesta-infantil-fin-ano-peq.jpg
END:VEVENT
END:VCALENDAR