﻿BEGIN:VCALENDAR
VERSION:2.0
PRODID:-//Ayuntamiento de Mérida - ECPv6.15.17.1//NONSGML v1.0//EN
CALSCALE:GREGORIAN
METHOD:PUBLISH
X-ORIGINAL-URL:https://merida.es
X-WR-CALDESC:Eventos para Ayuntamiento de Mérida
REFRESH-INTERVAL;VALUE=DURATION:PT1H
X-Robots-Tag:noindex
X-PUBLISHED-TTL:PT1H
BEGIN:VTIMEZONE
TZID:Europe/Madrid
BEGIN:DAYLIGHT
TZOFFSETFROM:+0100
TZOFFSETTO:+0200
TZNAME:CEST
DTSTART:20220327T010000
END:DAYLIGHT
BEGIN:STANDARD
TZOFFSETFROM:+0200
TZOFFSETTO:+0100
TZNAME:CET
DTSTART:20221030T010000
END:STANDARD
BEGIN:DAYLIGHT
TZOFFSETFROM:+0100
TZOFFSETTO:+0200
TZNAME:CEST
DTSTART:20230326T010000
END:DAYLIGHT
BEGIN:STANDARD
TZOFFSETFROM:+0200
TZOFFSETTO:+0100
TZNAME:CET
DTSTART:20231029T010000
END:STANDARD
BEGIN:DAYLIGHT
TZOFFSETFROM:+0100
TZOFFSETTO:+0200
TZNAME:CEST
DTSTART:20240331T010000
END:DAYLIGHT
BEGIN:STANDARD
TZOFFSETFROM:+0200
TZOFFSETTO:+0100
TZNAME:CET
DTSTART:20241027T010000
END:STANDARD
END:VTIMEZONE
BEGIN:VEVENT
DTSTART;TZID=Europe/Madrid:20230416T120000
DTEND;TZID=Europe/Madrid:20230416T120000
DTSTAMP:20260420T035225
CREATED:20230410T165540Z
LAST-MODIFIED:20230410T165631Z
UID:120640-1681646400-1681646400@merida.es
SUMMARY:Teatro infantil: "La ciudad inventada"
DESCRIPTION:Espectáculo: ‘La ciudad inventada’\nCompañía: Panduro Producciones y Marmore \nSinopsis:\nHa nacido una nueva Ciudad en la geografía de la imaginación. Las ciudades están en constante movimiento\, cada vez acogen a más personas que llegan de otras culturas\, de otras formas de ver y entender la vida\, de otras literaturas\, de otros cuentos… \nEn La ciudad inventada cohabitan diferentes cuentos tradicionales de lugares y procedencias diversas. Como ocurre con las personas\, se relacionan entre sí\, se entremezclan y enriquecen\, dando lugar a una historia mestiza\, como lo es este mundo… \nAutoría: Jokin Oregui\nDirección: Alex Díaz\nIntérpretes: Beatriz Solís\, Virginia Campón y Pilar Contreras \nDuración: 50 m.\nPúblico: a partir de 6 años. \nEntrada única: 3€\nHorario de taquilla: A partir del lunes 10 de abril en el Centro Cultural Alcazaba (lunes a viernes\, de 10 a 14 y de 17 a 20 horas) y Centro Cultural Nueva Ciudad (lunes a viernes\, de 10 a 14 horas y mismo día del evento desde una hora antes) \nEl espectáculo cuenta con las Ayudas a la Programación de Artes Escénicas y de Música de la Red de Teatros y Otros Espacios Escénicos de Extremadura de la Consejería de Cultura\, Turismo y Deportes\, cofinanciado en un 70%.
URL:https://merida.es/agenda/teatro-la-ciudad-inventada/
LOCATION:Centro Cultural de Nueva Ciudad\, Calle Antonio Rodríguez Moñino s/n\, Mérida\, 06800\, Spain
CATEGORIES:Infantil,Teatro
ATTACH;FMTTYPE=image/jpeg:https://merida.es/wp-content/uploads/2023/04/2023-ciudad-inventada-teatro-peq.jpg
END:VEVENT
BEGIN:VEVENT
DTSTART;TZID=Europe/Madrid:20230422T120000
DTEND;TZID=Europe/Madrid:20230422T233000
DTSTAMP:20260420T035225
CREATED:20230419T130555Z
LAST-MODIFIED:20230419T130555Z
UID:120947-1682164800-1682206200@merida.es
SUMMARY:Talleres infantiles 'Consume + tiempo para ti'
DESCRIPTION:Las actividades de ‘Consume + tiempo para ti’ tendrán lugar el próximo sábado\, 22 de abril\, en el Parque López de Ayala. Será un jornada lúdica dirigida al público infantil para que los más pequeños puedan disfrutar de los talleres programados mientras que los mayores puedan aprovechar para hacer sus compras en los comercios de proximidad\, tomar algo o pasear nuestra ciudad\, un aliciente más para Consumir Mérida de manera sostenible e integradora. \nLas actividades programadas son aire libre y gratuitas\, con un horario de 12 a 15 horas y de 17 a 24 horas. Los niños se inscribirán junto con sus padres o tutores dejando un teléfono de contacto y sabiendo que por cada ticket de compra en cualquier pequeño comercio de la ciudad\, pueden disfrutar de 2 horas de actividades y atracciones gratuitas. \nSe organizarán talleres de desarrollo cognitivo\, medio ambiente\, manualidades\, deporte\, equilibrio y pompología. \nEste evento está financiado por la Estrategia de Desarrollo Urbano Sostenible e Integrado de la ciudad de Mérida “EDUSI Mérida Central”\, aprobada con un presupuesto total de 12’5 millones de euros\, cofinanciados en un 80% por el Fondo Europeo de Desarrollo Regional (FEDER)\, en el marco del Programa Operativo Plurirregional de España 2014-2020.
URL:https://merida.es/agenda/talleres-infantiles-consume-tiempo-para-ti/
LOCATION:Parque López de Ayala\, Mérida
CATEGORIES:Infantil,Ocio
ATTACH;FMTTYPE=image/jpeg:https://merida.es/wp-content/uploads/2023/04/2023-consume-parque-lopez-ayala-peq2.jpg
END:VEVENT
BEGIN:VEVENT
DTSTART;TZID=Europe/Madrid:20230423T190000
DTEND;TZID=Europe/Madrid:20230423T190000
DTSTAMP:20260420T035225
CREATED:20230418T225727Z
LAST-MODIFIED:20230418T225727Z
UID:120904-1682276400-1682276400@merida.es
SUMMARY:Teatro familiar: "Ridi Pagliacci"
DESCRIPTION:Espectáculo: Ridi Pagliacci\nCompañía: Asaco Producciones \nSinopsis: Este clásico duo de payasos se inspiran en el Aria Vesti la giubba de la obra il Pagliacci. Dos hermanos\, carablanca y augusto\, que en su intento de hacer ópera\, descubren el destino trágico del clown: hacer reír\, aún teniendo el corazón\nroto. Risas\, lágrimas\, música\, amor\, canto y muchas payasadas para toda la familia \nInterpretación: Jose A. Maestro\, Francisco Javier Ceballos\nDirección: Jaume Mateu \nDuración: 55 min.\nPúblico:  Público familiar \nTaquilla: Entrada única 3€\nHorario de taquilla: Días 23 y 24 de abril de 11.00 a 13:00h y de 17:00 a 19:00h\nReservas: salatrajanomerida@gmail.com (No se podrán reservar por email más de 4 entradas. La hora límite de reserva por email son las 12.00 horas del mismo día en el que está programado el espectáculo)
URL:https://merida.es/agenda/teatro-ridi-pagliacci/
LOCATION:Sala Trajano\, Calle Muza\, 50\, Mérida
CATEGORIES:Infantil,Teatro
ATTACH;FMTTYPE=image/jpeg:https://merida.es/wp-content/uploads/2023/04/teatro-ridi-plagiaccio-peq.jpg
END:VEVENT
END:VCALENDAR