﻿BEGIN:VCALENDAR
VERSION:2.0
PRODID:-//Ayuntamiento de Mérida - ECPv6.15.17.1//NONSGML v1.0//EN
CALSCALE:GREGORIAN
METHOD:PUBLISH
X-WR-CALNAME:Ayuntamiento de Mérida
X-ORIGINAL-URL:https://merida.es
X-WR-CALDESC:Eventos para Ayuntamiento de Mérida
REFRESH-INTERVAL;VALUE=DURATION:PT1H
X-Robots-Tag:noindex
X-PUBLISHED-TTL:PT1H
BEGIN:VTIMEZONE
TZID:Europe/Madrid
BEGIN:DAYLIGHT
TZOFFSETFROM:+0100
TZOFFSETTO:+0200
TZNAME:CEST
DTSTART:20220327T010000
END:DAYLIGHT
BEGIN:STANDARD
TZOFFSETFROM:+0200
TZOFFSETTO:+0100
TZNAME:CET
DTSTART:20221030T010000
END:STANDARD
BEGIN:DAYLIGHT
TZOFFSETFROM:+0100
TZOFFSETTO:+0200
TZNAME:CEST
DTSTART:20230326T010000
END:DAYLIGHT
BEGIN:STANDARD
TZOFFSETFROM:+0200
TZOFFSETTO:+0100
TZNAME:CET
DTSTART:20231029T010000
END:STANDARD
BEGIN:DAYLIGHT
TZOFFSETFROM:+0100
TZOFFSETTO:+0200
TZNAME:CEST
DTSTART:20240331T010000
END:DAYLIGHT
BEGIN:STANDARD
TZOFFSETFROM:+0200
TZOFFSETTO:+0100
TZNAME:CET
DTSTART:20241027T010000
END:STANDARD
END:VTIMEZONE
BEGIN:VEVENT
DTSTART;TZID=Europe/Madrid:20230806T120000
DTEND;TZID=Europe/Madrid:20230806T120000
DTSTAMP:20260420T002451
CREATED:20230707T130104Z
LAST-MODIFIED:20230707T130104Z
UID:123008-1691323200-1691323200@merida.es
SUMMARY:Cuentacuentos 'Héroes y Heroínas'
DESCRIPTION:En esta edición los cuentos presentan personajes vulnerables que se han visto acosados\, perseguidos o humillados\, pero con la ayuda de una nueva sociedad en construcción consiguen señalar a los culpables y recuperar el respeto que merecen. Una vez más\, y de manera sutil y lúdica\, la Mitología grecolatina sirve de conexión para mostrar la problemática social de nuestro presente: el ciberacoso\, el bullying\, la violencia de género o las fobias a las distintas diversidades se presentan a través de tres fábulas con finales esperanzadores donde el amor y la justicia imperan gracias al hacer de nuestros Héroes y Heroínas. Todos los domingos de julio y agosto\, a las 12:00 horas\, en la Plaza de España\, se contará alguna de estas tres historias: \nMomo y el muro azul de las mentiras\nMomo viaja por lugares peligrosos y se enfrenta a seres mitológicos para evitar que su hermano entre en el Reino de Hades. Su hermano sufre acoso desde que hace años instalaron en su ciudad un gran muro azul donde la gente cuelga mensajes. Estos mensajes se han vuelto cada vez más hirientes atemorizando y humillando a todos sus vecinos y vecinas. Pero Momo tiene la solución para acabar con esta amenaza. \nEra y la caja misteriosa\nEra\, un semidiós\, no es feliz porque se encuentra obligado a seguir las normas ancestrales de su reino. Para cambiarlas\, Era busca el origen de estas leyes en otros reinos con otras normas no menos flexibles. En uno de ellos\, un sabio le regala una caja que encierra un misterio: la solución para su felicidad\, aunque abrirla suponga un drástico cambio para toda la humanidad. \nEco\, la ninfa sin voz\nEco\, la mujer que ha enamorado con su belleza y su prodigiosa voz al mismísimo Zeus se siente acosada y perseguida por el Dios. Zeus\, celoso de Narciso\, amigo de Eco\, decide castigarla dejándola sin voz y encerrada en una cueva\, donde solo podrá repetir lo que escuche. Narciso teje un plan para salvar a Eco y devolverle la voz que le fue arrebatada. \nFICHA ARTÍSTICA\nReparto: Lola Sánchez\, Lourdes Gallardo y Ana Gutiérrez.\nMúsica: Francisco Barjola\nFotografía: Jesús Casillas\nVídeo: Diego Casillas\nTexto: Francisco Barjola\nDirección: Esteban G. Ballesteros\nUna producción de Las 4 Esquinas Producciones
URL:https://merida.es/agenda/cuentacuentos-heroes-y-heroinas-2023-6/
LOCATION:Plaza de España\, Mérida
CATEGORIES:Infantil,Teatro
ATTACH;FMTTYPE=image/jpeg:https://merida.es/wp-content/uploads/2023/07/2023-heroes-y-heroinas-peq.jpg
END:VEVENT
BEGIN:VEVENT
DTSTART;TZID=Europe/Madrid:20230813T120000
DTEND;TZID=Europe/Madrid:20230813T120000
DTSTAMP:20260420T002451
CREATED:20230707T130116Z
LAST-MODIFIED:20230707T130116Z
UID:123009-1691928000-1691928000@merida.es
SUMMARY:Cuentacuentos 'Héroes y Heroínas'
DESCRIPTION:En esta edición los cuentos presentan personajes vulnerables que se han visto acosados\, perseguidos o humillados\, pero con la ayuda de una nueva sociedad en construcción consiguen señalar a los culpables y recuperar el respeto que merecen. Una vez más\, y de manera sutil y lúdica\, la Mitología grecolatina sirve de conexión para mostrar la problemática social de nuestro presente: el ciberacoso\, el bullying\, la violencia de género o las fobias a las distintas diversidades se presentan a través de tres fábulas con finales esperanzadores donde el amor y la justicia imperan gracias al hacer de nuestros Héroes y Heroínas. Todos los domingos de julio y agosto\, a las 12:00 horas\, en la Plaza de España\, se contará alguna de estas tres historias: \nMomo y el muro azul de las mentiras\nMomo viaja por lugares peligrosos y se enfrenta a seres mitológicos para evitar que su hermano entre en el Reino de Hades. Su hermano sufre acoso desde que hace años instalaron en su ciudad un gran muro azul donde la gente cuelga mensajes. Estos mensajes se han vuelto cada vez más hirientes atemorizando y humillando a todos sus vecinos y vecinas. Pero Momo tiene la solución para acabar con esta amenaza. \nEra y la caja misteriosa\nEra\, un semidiós\, no es feliz porque se encuentra obligado a seguir las normas ancestrales de su reino. Para cambiarlas\, Era busca el origen de estas leyes en otros reinos con otras normas no menos flexibles. En uno de ellos\, un sabio le regala una caja que encierra un misterio: la solución para su felicidad\, aunque abrirla suponga un drástico cambio para toda la humanidad. \nEco\, la ninfa sin voz\nEco\, la mujer que ha enamorado con su belleza y su prodigiosa voz al mismísimo Zeus se siente acosada y perseguida por el Dios. Zeus\, celoso de Narciso\, amigo de Eco\, decide castigarla dejándola sin voz y encerrada en una cueva\, donde solo podrá repetir lo que escuche. Narciso teje un plan para salvar a Eco y devolverle la voz que le fue arrebatada. \nFICHA ARTÍSTICA\nReparto: Lola Sánchez\, Lourdes Gallardo y Ana Gutiérrez.\nMúsica: Francisco Barjola\nFotografía: Jesús Casillas\nVídeo: Diego Casillas\nTexto: Francisco Barjola\nDirección: Esteban G. Ballesteros\nUna producción de Las 4 Esquinas Producciones
URL:https://merida.es/agenda/cuentacuentos-heroes-y-heroinas-2023-7/
LOCATION:Plaza de España\, Mérida
CATEGORIES:Infantil,Teatro
ATTACH;FMTTYPE=image/jpeg:https://merida.es/wp-content/uploads/2023/07/2023-heroes-y-heroinas-peq.jpg
END:VEVENT
BEGIN:VEVENT
DTSTART;TZID=Europe/Madrid:20230820T120000
DTEND;TZID=Europe/Madrid:20230820T120000
DTSTAMP:20260420T002451
CREATED:20230707T130127Z
LAST-MODIFIED:20230707T130127Z
UID:123010-1692532800-1692532800@merida.es
SUMMARY:Cuentacuentos 'Héroes y Heroínas'
DESCRIPTION:En esta edición los cuentos presentan personajes vulnerables que se han visto acosados\, perseguidos o humillados\, pero con la ayuda de una nueva sociedad en construcción consiguen señalar a los culpables y recuperar el respeto que merecen. Una vez más\, y de manera sutil y lúdica\, la Mitología grecolatina sirve de conexión para mostrar la problemática social de nuestro presente: el ciberacoso\, el bullying\, la violencia de género o las fobias a las distintas diversidades se presentan a través de tres fábulas con finales esperanzadores donde el amor y la justicia imperan gracias al hacer de nuestros Héroes y Heroínas. Todos los domingos de julio y agosto\, a las 12:00 horas\, en la Plaza de España\, se contará alguna de estas tres historias: \nMomo y el muro azul de las mentiras\nMomo viaja por lugares peligrosos y se enfrenta a seres mitológicos para evitar que su hermano entre en el Reino de Hades. Su hermano sufre acoso desde que hace años instalaron en su ciudad un gran muro azul donde la gente cuelga mensajes. Estos mensajes se han vuelto cada vez más hirientes atemorizando y humillando a todos sus vecinos y vecinas. Pero Momo tiene la solución para acabar con esta amenaza. \nEra y la caja misteriosa\nEra\, un semidiós\, no es feliz porque se encuentra obligado a seguir las normas ancestrales de su reino. Para cambiarlas\, Era busca el origen de estas leyes en otros reinos con otras normas no menos flexibles. En uno de ellos\, un sabio le regala una caja que encierra un misterio: la solución para su felicidad\, aunque abrirla suponga un drástico cambio para toda la humanidad. \nEco\, la ninfa sin voz\nEco\, la mujer que ha enamorado con su belleza y su prodigiosa voz al mismísimo Zeus se siente acosada y perseguida por el Dios. Zeus\, celoso de Narciso\, amigo de Eco\, decide castigarla dejándola sin voz y encerrada en una cueva\, donde solo podrá repetir lo que escuche. Narciso teje un plan para salvar a Eco y devolverle la voz que le fue arrebatada. \nFICHA ARTÍSTICA\nReparto: Lola Sánchez\, Lourdes Gallardo y Ana Gutiérrez.\nMúsica: Francisco Barjola\nFotografía: Jesús Casillas\nVídeo: Diego Casillas\nTexto: Francisco Barjola\nDirección: Esteban G. Ballesteros\nUna producción de Las 4 Esquinas Producciones
URL:https://merida.es/agenda/cuentacuentos-heroes-y-heroinas-2023-8/
LOCATION:Plaza de España\, Mérida
CATEGORIES:Infantil,Teatro
ATTACH;FMTTYPE=image/jpeg:https://merida.es/wp-content/uploads/2023/07/2023-heroes-y-heroinas-peq.jpg
END:VEVENT
BEGIN:VEVENT
DTSTART;TZID=Europe/Madrid:20230827T120000
DTEND;TZID=Europe/Madrid:20230827T120000
DTSTAMP:20260420T002451
CREATED:20230707T130140Z
LAST-MODIFIED:20230707T130140Z
UID:123011-1693137600-1693137600@merida.es
SUMMARY:Cuentacuentos 'Héroes y Heroínas'
DESCRIPTION:En esta edición los cuentos presentan personajes vulnerables que se han visto acosados\, perseguidos o humillados\, pero con la ayuda de una nueva sociedad en construcción consiguen señalar a los culpables y recuperar el respeto que merecen. Una vez más\, y de manera sutil y lúdica\, la Mitología grecolatina sirve de conexión para mostrar la problemática social de nuestro presente: el ciberacoso\, el bullying\, la violencia de género o las fobias a las distintas diversidades se presentan a través de tres fábulas con finales esperanzadores donde el amor y la justicia imperan gracias al hacer de nuestros Héroes y Heroínas. Todos los domingos de julio y agosto\, a las 12:00 horas\, en la Plaza de España\, se contará alguna de estas tres historias: \nMomo y el muro azul de las mentiras\nMomo viaja por lugares peligrosos y se enfrenta a seres mitológicos para evitar que su hermano entre en el Reino de Hades. Su hermano sufre acoso desde que hace años instalaron en su ciudad un gran muro azul donde la gente cuelga mensajes. Estos mensajes se han vuelto cada vez más hirientes atemorizando y humillando a todos sus vecinos y vecinas. Pero Momo tiene la solución para acabar con esta amenaza. \nEra y la caja misteriosa\nEra\, un semidiós\, no es feliz porque se encuentra obligado a seguir las normas ancestrales de su reino. Para cambiarlas\, Era busca el origen de estas leyes en otros reinos con otras normas no menos flexibles. En uno de ellos\, un sabio le regala una caja que encierra un misterio: la solución para su felicidad\, aunque abrirla suponga un drástico cambio para toda la humanidad. \nEco\, la ninfa sin voz\nEco\, la mujer que ha enamorado con su belleza y su prodigiosa voz al mismísimo Zeus se siente acosada y perseguida por el Dios. Zeus\, celoso de Narciso\, amigo de Eco\, decide castigarla dejándola sin voz y encerrada en una cueva\, donde solo podrá repetir lo que escuche. Narciso teje un plan para salvar a Eco y devolverle la voz que le fue arrebatada. \nFICHA ARTÍSTICA\nReparto: Lola Sánchez\, Lourdes Gallardo y Ana Gutiérrez.\nMúsica: Francisco Barjola\nFotografía: Jesús Casillas\nVídeo: Diego Casillas\nTexto: Francisco Barjola\nDirección: Esteban G. Ballesteros\nUna producción de Las 4 Esquinas Producciones
URL:https://merida.es/agenda/cuentacuentos-heroes-y-heroinas-2023-9/
LOCATION:Plaza de España\, Mérida
CATEGORIES:Infantil,Teatro
ATTACH;FMTTYPE=image/jpeg:https://merida.es/wp-content/uploads/2023/07/2023-heroes-y-heroinas-peq.jpg
END:VEVENT
END:VCALENDAR