﻿BEGIN:VCALENDAR
VERSION:2.0
PRODID:-//Ayuntamiento de Mérida - ECPv6.15.17.1//NONSGML v1.0//EN
CALSCALE:GREGORIAN
METHOD:PUBLISH
X-ORIGINAL-URL:https://merida.es
X-WR-CALDESC:Eventos para Ayuntamiento de Mérida
REFRESH-INTERVAL;VALUE=DURATION:PT1H
X-Robots-Tag:noindex
X-PUBLISHED-TTL:PT1H
BEGIN:VTIMEZONE
TZID:Europe/Madrid
BEGIN:DAYLIGHT
TZOFFSETFROM:+0100
TZOFFSETTO:+0200
TZNAME:CEST
DTSTART:20220327T010000
END:DAYLIGHT
BEGIN:STANDARD
TZOFFSETFROM:+0200
TZOFFSETTO:+0100
TZNAME:CET
DTSTART:20221030T010000
END:STANDARD
BEGIN:DAYLIGHT
TZOFFSETFROM:+0100
TZOFFSETTO:+0200
TZNAME:CEST
DTSTART:20230326T010000
END:DAYLIGHT
BEGIN:STANDARD
TZOFFSETFROM:+0200
TZOFFSETTO:+0100
TZNAME:CET
DTSTART:20231029T010000
END:STANDARD
BEGIN:DAYLIGHT
TZOFFSETFROM:+0100
TZOFFSETTO:+0200
TZNAME:CEST
DTSTART:20240331T010000
END:DAYLIGHT
BEGIN:STANDARD
TZOFFSETFROM:+0200
TZOFFSETTO:+0100
TZNAME:CET
DTSTART:20241027T010000
END:STANDARD
END:VTIMEZONE
BEGIN:VEVENT
DTSTART;VALUE=DATE:20230907
DTEND;VALUE=DATE:20230911
DTSTAMP:20260420T065120
CREATED:20230905T143217Z
LAST-MODIFIED:20230905T143217Z
UID:124204-1694044800-1694390399@merida.es
SUMMARY:Campeonato del Mundo de FoodTrucks
DESCRIPTION:Del jueves 7 al domingo 10 de septiembre\, el Acueducto de Los Milagros acogerá una vuelta al mundo gastronómica con el Campeonato de FoodTrucks\, un evento en el que se podrá degustar la mejor comida local e internacional y que también tendrá música en vivo y actividades infantiles.
URL:https://merida.es/agenda/campeonato-del-mundo-de-foodtrucks/
LOCATION:Acueducto de Los Milagros\, Av. de Via de la Plata s/n\, Mérida
CATEGORIES:Gastronomía,Infantil,Música
ATTACH;FMTTYPE=image/jpeg:https://merida.es/wp-content/uploads/2023/09/2023-foodtruks-peq.jpg
END:VEVENT
BEGIN:VEVENT
DTSTART;TZID=Europe/Madrid:20230923T110000
DTEND;TZID=Europe/Madrid:20230923T220000
DTSTAMP:20260420T065120
CREATED:20230920T081344Z
LAST-MODIFIED:20230920T081602Z
UID:124534-1695466800-1695506400@merida.es
SUMMARY:10º Encuentro para la Solidaridad y Participación Social
DESCRIPTION:El sábado 23 de septiembre se celebra el X Encuentro para la Solidaridad y Participación Social en el Parque López de Ayala de 11.00h a 21.00h. Participarán 46 entidades de la Plataforma del Voluntariado de Mérida en una jornada en la que se han organizado diferentes actividades. Presenta: Gonzalo Aleson \nEl acto de inauguración será a las 11:00 hora\, por parte de las autoridades asistentes donde se procederá a la lectura del manifiesto por parte de AFAM\, AOEX y de ADABA por el Día Internacional de las personas con Discapacidad Auditiva. La jornada estará llena de actividades\, juegos\, exhibiciones\, teatro\, comida\, postres\, música y un sorteo solidario que este año consistirá en tarjetas de rasca y gana. \nPROGRAMACIÓN DE LA JORNADA: \n11:00h: Inauguración\n11:30h: Visita Stand autoridades.\n12:00h: Desfile moda. CONFERENCIAS S.V.\n12:30h: Canta manos o similar. ADABA.\n13:00h: Actuación Show de magia\, Dani Dan.\n14:00h: Actuación de taller música de AFADISCOP\n14:30h: Comida Solidaria\n16:00h: Concurso «El Postre más Solidario».\n17:00h: Taller defensa personal femenina. Escuela Taekwondo Arroyo San Serván\n18:00h: Academia Wabi Sabi.\n18:45h: Ceremonia del té y Danza Saharaui.\n19:15h: Actuación musical Dúo Aura.\n20:00h: Cierre de la jornada y casetas.\n20:00h: “Artesanos”\, grupo de RAP.\n21:00h. Daniel Doncía\, joven bailarín y cantante extremeño \nDurante toda la jornada se instalará una barra a precios asequibles y paella al módico precio de 3€ el plato y después de la comida habrá un concurso «El Postre más Solidario”\, se valorará tanto el sabor\, como la presentación y la originalidad. Una vez finalizado el concurso y entregado el premio ganador\, habrá una degustación entre el público
URL:https://merida.es/agenda/encuentro-para-la-solidaridad-y-participacion-social-2023/
LOCATION:Badajoz
CATEGORIES:Benéfico,Convivencia,Gala,Gastronomía,Infantil,Música
ATTACH;FMTTYPE=image/jpeg:https://merida.es/wp-content/uploads/2023/09/2023-jornada-voluntariado-peq.jpg
END:VEVENT
END:VCALENDAR