﻿BEGIN:VCALENDAR
VERSION:2.0
PRODID:-//Ayuntamiento de Mérida - ECPv6.15.17.1//NONSGML v1.0//EN
CALSCALE:GREGORIAN
METHOD:PUBLISH
X-ORIGINAL-URL:https://merida.es
X-WR-CALDESC:Eventos para Ayuntamiento de Mérida
REFRESH-INTERVAL;VALUE=DURATION:PT1H
X-Robots-Tag:noindex
X-PUBLISHED-TTL:PT1H
BEGIN:VTIMEZONE
TZID:Europe/Madrid
BEGIN:DAYLIGHT
TZOFFSETFROM:+0100
TZOFFSETTO:+0200
TZNAME:CEST
DTSTART:20220327T010000
END:DAYLIGHT
BEGIN:STANDARD
TZOFFSETFROM:+0200
TZOFFSETTO:+0100
TZNAME:CET
DTSTART:20221030T010000
END:STANDARD
BEGIN:DAYLIGHT
TZOFFSETFROM:+0100
TZOFFSETTO:+0200
TZNAME:CEST
DTSTART:20230326T010000
END:DAYLIGHT
BEGIN:STANDARD
TZOFFSETFROM:+0200
TZOFFSETTO:+0100
TZNAME:CET
DTSTART:20231029T010000
END:STANDARD
BEGIN:DAYLIGHT
TZOFFSETFROM:+0100
TZOFFSETTO:+0200
TZNAME:CEST
DTSTART:20240331T010000
END:DAYLIGHT
BEGIN:STANDARD
TZOFFSETFROM:+0200
TZOFFSETTO:+0100
TZNAME:CET
DTSTART:20241027T010000
END:STANDARD
BEGIN:DAYLIGHT
TZOFFSETFROM:+0100
TZOFFSETTO:+0200
TZNAME:CEST
DTSTART:20250330T010000
END:DAYLIGHT
BEGIN:STANDARD
TZOFFSETFROM:+0200
TZOFFSETTO:+0100
TZNAME:CET
DTSTART:20251026T010000
END:STANDARD
END:VTIMEZONE
BEGIN:VEVENT
DTSTART;VALUE=DATE:20231128
DTEND;VALUE=DATE:20240108
DTSTAMP:20260420T065041
CREATED:20231128T141436Z
LAST-MODIFIED:20240107T203030Z
UID:126525-1701129600-1704671999@merida.es
SUMMARY:Navidad en Mérida
DESCRIPTION:La Navidad en Mérida arrancará oficialmente el viernes\, 1 de diciembre\, a las 19:00 horas con el Encendido Oficial en la Plaza de España. \nUna vez encendida la iluminación recorrerá las calles del centro el Pasacalles ‘Los Duendes de la Navidad’ con música\, charanga\, cabezudos y un gran buzón para que los más pequeños y pequeñas de la ciudad comiencen a vivir el ambiente navideño. Además\, se repartirán detalles y juegos para los más pequeños en la plaza España. \nEl mismo viernes se inaugura también el Mercado de Navidad en el Parque López de Ayala\, con la presencia de artesanas y artesanos\, atracciones infantiles y una pista de hielo para vivir las tardes y noches de estas fiestas de la mejor manera. Además\, ofrecerá talleres y actuaciones durante toda la navidad como como las de Tigu y Luna (1 de diciembre)\, Al Son del Cajón (8 de diciembre)\, Coro La Dehesa Extremeña (23 de diciembre) o Inés Alhaja (26 de diciembre). Este espacio acogerá la Casita de Papá Noel (quien visitará en persona el espacio)\, para que los más pequeños puedan dejarles sus cartas de regalos y deseos\, y también la visita de los Pajes Reales. \nEl martes 5 de diciembre\, se celebrará un Concierto de Navidad en la Plaza de España a cargo del grupo portugués Lucky Duckies\, una banda “revival” que parece sacada de algún casino de Las Vegas en los años 50 o 60. Los músicos forman una mezcla inigualable de jazz que incluye piano\, bajo\, guitarra y batería. \nEntre la intensa programación de la Festividad de la Mártir Santa Eulalia que abre el Año Jubilar Eulaliense\, el 10 de diciembre será especial con una gran alfombra de flores que realizará la Asociación de Alfombristas do Corpus Christi de Ponteareas\, una petalada pirotécnica\, una pitarra popular\, conciertos y un videomaping especial en la plaza de la basílica de santa Eulalia.\n\n					\n					Plaza de España\n				\n					Templo de Diana\n				 \nEl lunes 11 de diciembre\, a las 12:30 horas\, habrá un acto institucional en el Teatro María Luisa con motivo del 30 aniversario de Mérida como ciudad Patrimonio de la Humanidad junto al espectáculo Folkmænia (Saminodúo & Nerses Avakimyan) . Esa misma mañana\, a las 11:00 horas\, las Legiones fundacionales de Emerita Augusta harán un recorrido por la ciudad y\, por la tarde\, la Plaza de España acogerá el concierto de No me Pises que Llevo Chanclas y Los Inhumanos. \nDe la programación también hay que destacar el domingo 17 de diciembre\, a las 19:00 horas\, una Zambombá a cargo de Carmen la Parreña con su espectáculo en el Templo de Diana. El 22 de diciembre\, el espectáculo familiar: «Princesas & Sombras» en Nueva Ciudad y la «Gala Lírica» en el Centro Cultural Alcazaba\, el espectáculo infantil «Vega\, la estrella» el día 26 de diciembre o los «Trazos Mágicos» del 29 de diciembre son otros espectáculos destacados. No podrá faltar el tradicional Concierto de Año Nuevo de la Orquesta de Extremadura el 2 de enero.\n\n					\n					Pista de hielo\n				\n					Mercado Navideño\n				 \nDe entras las muchas actividades también se instalará una exposición de la Fundación de La Caixa\,\, el Belén Municipal en la Asamblea de Extremadura\, un Belén de Playmobil en el Convento de Santa Clara\, espectáculos de copla\, diversas obras teatrales\, talleres y cuentacuentos para los más pequeños\, no faltando las tradicionales visitas de los pajes reales al patio del ayuntamiento para recoger las cartas de nuestros peques. \nLa programación se completa con pasacalles navideños\,  la Pastorada de la Cofradía Infantil\, el Belén viviente de San José\, diferentes talleres para jóvenes en “El Economato” y\, el viernes 29 de diciembre\, la plaza de España albergará la Fiesta de PREUVAS\, la única de Extremadura\, que organiza MEGASTAR FM\, y el sábado 30 por la mañana el Fin de Fiesta Infantil donde esperamos más de 2.000 niños y niñas para despedir el año. \nAdemás hay que sumar la Gran Cabalgata de Reyes Magos que este año tendrá 15 carrozas más las de empresas privadas siendo el primer año que el ayuntamiento asumirá los 3 Reyes Magos y que volverá a contar con tramo sin ruido. \nProgramación Navidad y Mártir Santa Eulalia 2023 \nProgramación Navidad y Mártir Santa Eulalia 2023 (Lectura Fácil) \n 
URL:https://merida.es/agenda/navidad-2023/
LOCATION:Varios puntos de la ciudad\, Mérida
CATEGORIES:Infantil,Música,Navidad,Ocio,Teatro
ATTACH;FMTTYPE=image/jpeg:https://merida.es/wp-content/uploads/2023/11/2023-navidad-en-merida-peq.jpg
END:VEVENT
BEGIN:VEVENT
DTSTART;VALUE=DATE:20231201
DTEND;VALUE=DATE:20240107
DTSTAMP:20260420T065041
CREATED:20231130T082723Z
LAST-MODIFIED:20240102T101623Z
UID:126608-1701388800-1704585599@merida.es
SUMMARY:Mérida\, Ciudad de la Navidad (Mercado Navideño)
DESCRIPTION:Desde el 1 de diciembre de 2023 hasta el 6 de enero de 2024\, se podrá disfrutar del Mercado Navideño de Mérida bajo el nombre ‘Mérida\, Ciudad de la Navidad’. \nEl Mercado cuenta con cerca de una veintena de casetas de artesanía entre las que se incluye una caseta que irá destinada a ONGs y abre sus puertas de 11:00 a 14:00 horas y de 17:30 a 21:00 horas (21:30 fines de semana). Estas casetas permanecerán cerradas los días 12\, 13\, 18\, 19 y 20 de diciembre. \nAdemás\, el Mercado contará con hilo musical\, pista de hielo de 400 metros cuadrados y una zona de pequeñas atracciones infantiles\, junto a la cual se ha instalado una zona con carpa multiusos donde se realizarán los diferentes conciertos y espectáculos programados. Tiene diferentes horarios según los días. Todos los martes (a excepción del 5 de diciembre) será el Día del Patinador/a: 2×1 en entradas para pista de hielo. \nHabrá numerosas actividades y talleres infantiles para los más pequeños y también algún taller para adultos. Tampoco faltarán las actuaciones musicales y espectáculos infantiles como las de Tigu y Luna (1 de diciembre)\, Al Son del Cajón (8 de diciembre)\, Master Class Flamenco Navideño con Julia Báez y Yolanda Burgos (22 de diciembre)\, Coro La Dehesa Extremeña (23 de diciembre) o Inés Alhaja (26 de diciembre).  \nEste espacio acogerá la Casita de Papá Noel (quien visitará en persona el espacio)\, para que los más pequeños puedan dejarles sus cartas de regalos y deseos\, y también la visita de los Pajes Reales. \nCofinanciado al 80 % por el Fondo Europeo de Desarrollo Regional (FEDER)\, Programa Operativo Pluriregional de España 2014-2020\, a cargo de la Estrategia de Desarrollo Urbano Sostenible e Integrado de Mérida\, “Mérida Central”\, dentro de la Línea de Actuación 6 de regeneración Económica\, Cultural y Plan de Acción Social para Derribar Barreras. \nProgramación Mérida\, Ciudad de la Navidad (Mercado Navideño) \n \n\n					\n					Pista de hielo\n				\n					Mercado Navideño\n				 \n\n					\n					Atracciones infantiles\n				\n					Vista general
URL:https://merida.es/agenda/mercado-navidad-2023/
LOCATION:Parque López de Ayala\, Mérida
CATEGORIES:Comercio,Curso-Taller,Infantil,Música,Navidad,Ocio
ATTACH;FMTTYPE=image/jpeg:https://merida.es/wp-content/uploads/2023/11/2023-ciudad-navidad-mercado-peq.jpg
END:VEVENT
BEGIN:VEVENT
DTSTART;TZID=Europe/Madrid:20231203T170000
DTEND;TZID=Europe/Madrid:20231203T170000
DTSTAMP:20260420T065041
CREATED:20231103T231556Z
LAST-MODIFIED:20231106T201626Z
UID:125764-1701622800-1701622800@merida.es
SUMMARY:Musical: "Los tres cerditos"
DESCRIPTION:El espectáculo musical «Los Tres Cerditos» llega al Palacio de Congresos de Mérida el próximo 3 de diciembre\, a partir de las 17:00 horas\, y promete encantar a niños y familias por igual. \nEsta obra musical con muñecos a tamaño real es una moderna adaptación de la clásica fábula de los tres cerditos. A través de la historia\, los jóvenes exploradores Xan y Xiana se aventuran en el bosque para conocer a los personajes de sus cuentos favoritos. En este viaje\, los niños no solo descubrirán una versión fresca y emocionante de la fábula\, sino que también aprenderán conceptos educativos clave\, como números\, colores y prendas de vestir\, a través de canciones pegajosas interpretadas en vivo. \nEntradas: https://pago.ataquilla.com
URL:https://merida.es/agenda/musical-los-tres-cerditos/
LOCATION:Palacio de Congresos\, Avda. del Rio s/n\, Mérida
CATEGORIES:Infantil,Música
ATTACH;FMTTYPE=image/jpeg:https://merida.es/wp-content/uploads/2023/11/2023-los-tres-cerditos-peq.jpg
END:VEVENT
BEGIN:VEVENT
DTSTART;TZID=Europe/Madrid:20231214T183000
DTEND;TZID=Europe/Madrid:20231214T183000
DTSTAMP:20260420T065041
CREATED:20231213T221411Z
LAST-MODIFIED:20231213T221411Z
UID:126885-1702578600-1702578600@merida.es
SUMMARY:Cuentos en Navidad
DESCRIPTION:La Biblioteca Municipal Juan Pablo Forner organiza la actividad para toda la familia ‘CUENTOS EN NAVIDAD’ los jueves 14\, 21 y 28 de diciembre\, en el Pasillo Central del Centro Cultural Alcazaba (Entrada por Calle Romero Leal).
URL:https://merida.es/agenda/cuentos-en-navidad/
LOCATION:Centro Cultural Alcazaba\, Calle John Lennon\, 5\, Mérida
CATEGORIES:Infantil,Navidad
ATTACH;FMTTYPE=image/jpeg:https://merida.es/wp-content/uploads/2023/12/2023-cuentos-navidad-biblioteca-peq.jpg
END:VEVENT
BEGIN:VEVENT
DTSTART;TZID=Europe/Madrid:20231216T113000
DTEND;TZID=Europe/Madrid:20231216T123000
DTSTAMP:20260420T065041
CREATED:20231214T001847Z
LAST-MODIFIED:20231214T001847Z
UID:126907-1702726200-1702729800@merida.es
SUMMARY:'Magia en Navidad' por Tigu & Luna
DESCRIPTION:Dentro de las actividades para fomentar el comercio local\, el sábado 16 de diciembre\, a las 11:30 y 12:30 horas (dos pases)\, el Centro Social de La Antigua acogerá el espectáculo familiar ‘Magia en Navidad’ por Tigu & Luna
URL:https://merida.es/agenda/magia-en-navidad-por-tigu-luna/
LOCATION:Centro Asociación Vecinos La Antigua
CATEGORIES:Infantil,Teatro
ATTACH;FMTTYPE=image/jpeg:https://merida.es/wp-content/uploads/2023/12/2023-magia-en-navidad-peq.jpg
END:VEVENT
BEGIN:VEVENT
DTSTART;TZID=Europe/Madrid:20231216T163000
DTEND;TZID=Europe/Madrid:20231216T163000
DTSTAMP:20260420T065041
CREATED:20231214T001123Z
LAST-MODIFIED:20231214T001123Z
UID:126904-1702744200-1702744200@merida.es
SUMMARY:Cuentacuentos de Navidad
DESCRIPTION:Dentro de las actividades para fomentar el comercio local\, el sábado 16 de diciembre\, a partir de las 16:30 horas\, la Parroquia del Perpetuo Socorro (La Antigua) acogerá los Cuentacuentos de Navidad a cargo de Juan Ramón Muñoz.
URL:https://merida.es/agenda/cuentacuentos-de-navidad/
LOCATION:Parroquia del Perpetuo Socorro\, Calle Veracruz\, 2\, Mérida\, Badajoz\, 06800\, España
CATEGORIES:Infantil,Navidad
ATTACH;FMTTYPE=image/jpeg:https://merida.es/wp-content/uploads/2023/12/2023-cuentacuentos-navidad-antigua-peq.jpg
END:VEVENT
BEGIN:VEVENT
DTSTART;TZID=Europe/Madrid:20231220T170000
DTEND;TZID=Europe/Madrid:20231220T190000
DTSTAMP:20260420T065041
CREATED:20231128T212155Z
LAST-MODIFIED:20231218T124908Z
UID:126538-1703091600-1703098800@merida.es
SUMMARY:Showcooking infantil 'Peque Chef'
DESCRIPTION:‘Peque Chef’ es una actividad en la que los más pequeños elaborarán y degustarán recetas dulces típicas de navideñas y se divertirán haciendo manualidades típicas de la Navidad\, dirigidos por el chef de ‘Quienleponeelcascabelalchef’. Cocinarán un tronco de Navidad y de manualidad harán un servilletero de un reno para adornar la mesa en estas fiestas. \nLa actividad se realizará el miércoles 20 y el martes 26 de diciembre en dos pases cada día de una hora y media de duración y que comenzarán a las 17:00 y a las 19:00 horas. \nEstá dirigida a niños y niñas de 5 a 12 años. Plazas limitadas. Inscripción previa a partir del martes 19 de diciembre\, a las 10.00 horas\, a través del siguiente formulario\nFormulario de Inscripción\n \nEl programa está incluido en la operación “Impulso de Mérida Cultural\, como palanca de desarrollo\, proyección y cohesión social” financiado por la Estrategia de Desarrollo Urbano Sostenible e Integrado de la ciudad de Mérida “EDUSI Mérida Central”\, aprobada con un presupuesto total de 12’5 millones de euros\, cofinanciados en un 80% por el Fondo Europeo de Desarrollo Regional (FEDER)\, en el marco del Programa Operativo Plurirregional de España 2014-2020.
URL:https://merida.es/agenda/peque-chef-dia1/
LOCATION:Centro Cultural Alcazaba\, Calle John Lennon\, 5\, Mérida
CATEGORIES:Gastronomía,Infantil,Navidad
ATTACH;FMTTYPE=image/jpeg:https://merida.es/wp-content/uploads/2023/11/2023-peque-chef-peq.jpg
END:VEVENT
BEGIN:VEVENT
DTSTART;TZID=Europe/Madrid:20231221T183000
DTEND;TZID=Europe/Madrid:20231221T183000
DTSTAMP:20260420T065041
CREATED:20231213T222234Z
LAST-MODIFIED:20231213T222234Z
UID:126888-1703183400-1703183400@merida.es
SUMMARY:Cuentos en Navidad
DESCRIPTION:La Biblioteca Municipal Juan Pablo Forner organiza la actividad para toda la familia ‘CUENTOS EN NAVIDAD’ los jueves 14\, 21 y 28 de diciembre\, en el Pasillo Central del Centro Cultural Alcazaba (Entrada por Calle Romero Leal).
URL:https://merida.es/agenda/cuentos-en-navidad-2/
LOCATION:Centro Cultural Alcazaba\, Calle John Lennon\, 5\, Mérida
CATEGORIES:Infantil,Navidad
ATTACH;FMTTYPE=image/jpeg:https://merida.es/wp-content/uploads/2023/12/2023-cuentos-navidad-biblioteca-peq.jpg
END:VEVENT
BEGIN:VEVENT
DTSTART;VALUE=DATE:20231222
DTEND;VALUE=DATE:20240105
DTSTAMP:20260420T065041
CREATED:20231207T081128Z
LAST-MODIFIED:20231207T081128Z
UID:126805-1703203200-1704412799@merida.es
SUMMARY:Cuentitis Aguda
DESCRIPTION:Del 24 de diciembre al 4 de enero\, distintos centros sociales de las barriadas acogen la actividad ‘Cuentitis Aguda’ dirigida a niños de entre 4 y 10 años que contiene talleres navideños y cuentacuentos. El límite máximo es de 40 participantes por sesión.
URL:https://merida.es/agenda/cuentitis-aguda/
LOCATION:Varios puntos de la ciudad\, Mérida
CATEGORIES:Curso-Taller,Infantil,Navidad
ATTACH;FMTTYPE=image/jpeg:https://merida.es/wp-content/uploads/2023/12/2023-cuentitis-aguda-peq.jpg
END:VEVENT
BEGIN:VEVENT
DTSTART;TZID=Europe/Madrid:20231222T180000
DTEND;TZID=Europe/Madrid:20231222T180000
DTSTAMP:20260420T065041
CREATED:20231129T114942Z
LAST-MODIFIED:20231218T165132Z
UID:126560-1703268000-1703268000@merida.es
SUMMARY:Espectáculo familiar: "Princesas & Sombras"
DESCRIPTION:Espectáculo: Princesas & Sombras\nCompañía: Circa Arts & Shows \nSinopsis: Un espectáculo para toda la familia en el que confluyen literatura\, arte y música. Los cuentos clásicos\, inspirados en jóvenes heroínas\, nos servirán de hilo conductor para disfrutar del trabajo visual de la pionera del cine de animación Lotte Reinigger y los films que creaba artesanalmente empleando las técnicas inspiradas en el teatro de sombras chino. \nUn encuentro extraordinario de expresiones culturales diversas y un deleite para recrear emociones y estimular los sentidos\, acompañado de la belleza onírica que aporta la música de piano de Claude Debussy interpretada en vivo. La mayor parte del repertorio que se presenta\, todavía asequible a un público diverso\, incluye una selección de las obras del compositor y son parte de la literatura pianística más conocida de principios del siglo XX: «Children Corner’s»\, los «Preludes»\, las «Deux Arabesques»\, «Reverie»\, la «Suite Bergamasque» o las canciones de juventud de Claude Debussy para voz y piano. \nEl grupo Circa está compuesto por Sergio Thuiller\, músico sevillano que compagina su amor y dedicación a la música con su afición a las artes y el cine\, y Laura García Cáceres\, actriz y productora teatral natural de Plasencia. \nEntrada única: 3€\nHorario de taquilla: A partir del lunes 18 de diciembre en el Centro Cultural Nueva Ciudad (lunes a viernes\, de 10 a 14 horas y de 17 a 20 y mismo día del evento desde una hora antes).
URL:https://merida.es/agenda/espetaculo-familiar-princesas-sombras/
LOCATION:Centro Cultural de Nueva Ciudad\, Calle Antonio Rodríguez Moñino s/n\, Mérida\, 06800\, Spain
CATEGORIES:Infantil,Teatro
ATTACH;FMTTYPE=image/jpeg:https://merida.es/wp-content/uploads/2023/11/2023-princesas-sombras-peq.jpg
END:VEVENT
BEGIN:VEVENT
DTSTART;TZID=Europe/Madrid:20231223T110000
DTEND;TZID=Europe/Madrid:20231223T123000
DTSTAMP:20260420T065041
CREATED:20231128T213442Z
LAST-MODIFIED:20231218T131539Z
UID:126540-1703329200-1703334600@merida.es
SUMMARY:Visitas guiadas por Mérida para toda la familia
DESCRIPTION:Mérida posee una rica historia y extenso patrimonio digno de ser disfrutados por todos. En esta actividad nos centraremos en los más jóvenes de la casa\, donde haremos un recorrido por alguno de los enclaves más reconocidos de la ciudad. De una forma lúdica y mediante juegos y algunas pistas\, haremos que la historia de nuestra ciudad esté al alcance de todos. \nEsta actividad está orientada a niños y niñas de entre 5 y 10 años. También tienen que inscribirse los padres\, madres o tutores que acompañen a los menores \nPrimer pase: 11.00 h. Segundo pase: 12.30 h.\nPunto de encuentro: Plaza de las Méridas del Mundo\nPlazas limitadas. \nInscripción previa a partir del martes 19 de diciembre\, a las 10.00 horas\, en el siguiente formulario.\nFormulario de Inscripción\n \nEl programa está incluido en la operación “Impulso de Mérida Cultural\, como palanca de desarrollo\, proyección y cohesión social” financiado por la Estrategia de Desarrollo Urbano Sostenible e Integrado de la ciudad de Mérida “EDUSI Mérida Central”\, aprobada con un presupuesto total de 12’5 millones de euros\, cofinanciados en un 80% por el Fondo Europeo de Desarrollo Regional (FEDER)\, en el marco del Programa Operativo Plurirregional de España 2014-2020.
URL:https://merida.es/agenda/visitas-guiadas-por-merida-para-toda-la-familia/
LOCATION:Recorrido Urbano\, Mérida
CATEGORIES:Infantil,Visita Guiada
ATTACH;FMTTYPE=image/jpeg:https://merida.es/wp-content/uploads/2023/11/2023-visitas-guiadas-familia-peq.jpg
END:VEVENT
BEGIN:VEVENT
DTSTART;TZID=Europe/Madrid:20231223T190000
DTEND;TZID=Europe/Madrid:20231223T190000
DTSTAMP:20260420T065041
CREATED:20231128T110350Z
LAST-MODIFIED:20231128T110648Z
UID:126470-1703358000-1703358000@merida.es
SUMMARY:Cuentos de la Ciudad Volante Mel-Abín
DESCRIPTION:La Escuela de Teatro de TAPTC teatro nos presenta cuentos de diferentes culturas del planeta Tierra\, seleccionados por su valor en conceptos tales como Solidaridad\, Equidad\, Respeto y comunicación intergeneracional. Serán dramatizados por un amplio elenco\, integrado por jóvenes de edades comprendidas entres los 11 y los 17 años\, y mayores\, con edades cercanas a los 80 años. \nEn el Centro Cultural de La Antigua\, el sábado 23 de diciembre\, a las 19:00 horas. Entrada libre hasta completar aforo.
URL:https://merida.es/agenda/cuentos-de-la-ciudad-volante-mel-abin-2023/
LOCATION:Centro Cultural La Antigua\, Calle Nerja s/n\, Mérida\, Badajoz\, 06800\, Spain
CATEGORIES:Infantil,Navidad,Teatro
ATTACH;FMTTYPE=image/jpeg:https://merida.es/wp-content/uploads/2023/11/2023-cuentos-mel-abin-peq2.jpg
END:VEVENT
BEGIN:VEVENT
DTSTART;TZID=Europe/Madrid:20231226T170000
DTEND;TZID=Europe/Madrid:20231226T190000
DTSTAMP:20260420T065041
CREATED:20231128T212417Z
LAST-MODIFIED:20231218T124902Z
UID:126539-1703610000-1703617200@merida.es
SUMMARY:Showcooking infantil 'Peque Chef'
DESCRIPTION:‘Peque Chef’ es una actividad en la que los más pequeños elaborarán y degustarán recetas dulces típicas de navideñas y se divertirán haciendo manualidades típicas de la Navidad\, dirigidos por el chef de ‘Quienleponeelcascabelalchef’. Cocinarán un tronco de Navidad y de manualidad harán un servilletero de un reno para adornar la mesa en estas fiestas. \nLa actividad se realizará el miércoles 20 y el martes 26 de diciembre en dos pases cada día de una hora y media de duración y que comenzarán a las 17:00 y a las 19:00 horas. \nEstá dirigida a niños y niñas de 5 a 12 años. Plazas limitadas. Inscripción previa a partir del martes 19 de diciembre\, a las 10.00 horas\, a través del siguiente formulario\nFormulario de Inscripción\n \nEl programa está incluido en la operación “Impulso de Mérida Cultural\, como palanca de desarrollo\, proyección y cohesión social” financiado por la Estrategia de Desarrollo Urbano Sostenible e Integrado de la ciudad de Mérida “EDUSI Mérida Central”\, aprobada con un presupuesto total de 12’5 millones de euros\, cofinanciados en un 80% por el Fondo Europeo de Desarrollo Regional (FEDER)\, en el marco del Programa Operativo Plurirregional de España 2014-2020.
URL:https://merida.es/agenda/peque-chef-dia2/
LOCATION:Centro Cultural Alcazaba\, Calle John Lennon\, 5\, Mérida
CATEGORIES:Gastronomía,Infantil,Navidad
ATTACH;FMTTYPE=image/jpeg:https://merida.es/wp-content/uploads/2023/11/2023-peque-chef-peq.jpg
END:VEVENT
BEGIN:VEVENT
DTSTART;TZID=Europe/Madrid:20231226T183000
DTEND;TZID=Europe/Madrid:20231226T183000
DTSTAMP:20260420T065041
CREATED:20231128T210552Z
LAST-MODIFIED:20231225T153749Z
UID:126532-1703615400-1703615400@merida.es
SUMMARY:Espectáculo infantil: "Vega la estrella"
DESCRIPTION:Espectáculo: Vega la estrella\nProducción: Literal\, artes escénicas y eventos culturales \nSinopsis: Cada año\, el milagro o la casualidad\, o ambos a la vez\, haciendo algún trato caprichoso que nosotros\, torpes humanos\, no acertamos a averiguar\, nacen siete estrellas en La Vía Láctea\, aunque solo la más brillante se dotará de nombre propio\, un nombre\, que se instalará en la memoria de los locos contadores de estrellas\, o de los enamorados regalando trocitos de cielo\, o de los niños pidiendo deseos a las que se ven desde su ventana. Y así\, entre nebulosas y calorcito universal\, nació Vega\, una estrella muy peculiar\, que deseaba contar su historia a todos los que muy atentos y con alma de niño\, observarán al cielo ardientes de sueños. \nEl universo\, La Vía Láctea …Es ahí donde se desarrolla la obra. Nuestra escenografía continua\, entre suelo y fondo escénico\, nos adentra en el mundo de Vega. La bola del mundo y la nube de la escenografía\, son elementos practicables\, con los que Vega la estrella\, en su forma de marioneta\, interactúa junto con las actrices que la acompañan al contar sus historias. Y la lira\, constelación de Vega\, sonará como cajita de música\, para envolvernos a todos en esta magia espacial\, así como todo el espacio sonoro que flota al ritmo de la historia. \nAutora/Dirección: MariFé Suárez\nReparto: Pilar Contreras\, Esmeralda Suárez \nEntrada única: 3€\nHorario de taquilla: A partir del lunes 18 de diciembre en el Centro Cultural Nueva Ciudad (lunes a viernes\, de 10 a 14 horas y de 17 a 20 y mismo día del evento desde una hora antes).
URL:https://merida.es/agenda/espectaculo-infantil-vega-la-estrella/
LOCATION:Centro Cultural de Nueva Ciudad\, Calle Antonio Rodríguez Moñino s/n\, Mérida\, 06800\, Spain
CATEGORIES:Infantil,Navidad,Teatro
ATTACH;FMTTYPE=image/jpeg:https://merida.es/wp-content/uploads/2023/11/2023-vega-la-estrella-peq.jpg
END:VEVENT
BEGIN:VEVENT
DTSTART;TZID=Europe/Madrid:20231228T120000
DTEND;TZID=Europe/Madrid:20231228T120000
DTSTAMP:20260420T065041
CREATED:20231213T232237Z
LAST-MODIFIED:20231213T232237Z
UID:126894-1703764800-1703764800@merida.es
SUMMARY:Cuentos en Navidad
DESCRIPTION:La Biblioteca Municipal Juan Pablo Forner organiza la actividad para toda la familia ‘CUENTOS EN NAVIDAD’ los jueves 14\, 21 y 28 de diciembre\, en el Pasillo Central del Centro Cultural Alcazaba (Entrada por Calle Romero Leal).
URL:https://merida.es/agenda/cuentos-en-navidad-3/
LOCATION:Centro Cultural Alcazaba\, Calle John Lennon\, 5\, Mérida
CATEGORIES:Infantil,Navidad
ATTACH;FMTTYPE=image/jpeg:https://merida.es/wp-content/uploads/2023/12/2023-cuentos-navidad-biblioteca-peq.jpg
END:VEVENT
BEGIN:VEVENT
DTSTART;TZID=Europe/Madrid:20231229T180000
DTEND;TZID=Europe/Madrid:20231229T180000
DTSTAMP:20260420T065041
CREATED:20231128T112431Z
LAST-MODIFIED:20231128T112644Z
UID:126477-1703872800-1703872800@merida.es
SUMMARY:Espectáculo 'Trazos Mágicos'
DESCRIPTION:Trazos mágicos es un espectáculo protagonizado por Sergio Barquilla en el que cada detalle cuenta\, y esto es\, precisamente\, lo que hace que esta experiencia sea única. Pero… ¿por qué Trazos Mágicos? Pues porque todas las películas de animación comienzan con un trazo\, y son estos trazos los que le dan vida al espectáculo. Cada número parte de un personaje de animación\, perteneciente tanto a clásicos como Kung Fu Panda o Madagascar\, como a películas más recientes como Encanto o Raya y el último dragón\, entre otras. Películas y personajes que nos han hecho crecer y con los que hemos empatizado desde el principio. \nEstos personajes me han enseñado múltiples y muy diversos valores a lo largo de mi vida\, y ahora busco\, a través de ellos y la magia\, compartir y transmitir conceptos como la valentía\, la confianza o la perseverancia. Estos personajes\, que en muchos casos interpretarán los niños o incluso los mayores\, harán de Trazos Mágicos un espectáculo inolvidable\, con el que empatizarán\, se reirán y aprenderán. ¡La mitad saldrá del teatro queriendo volver! ¡Y la otra mitad saldrá queriendo ir a casa para ver esa película que he nombrado y que aún no ha visto! Lo importante es que la cultura\, en un público tan delicado como son los niños\, es la que gana. \nEn el Centro Cultural de La Antigua\, el 29 de diciembre\, a las 18:00 horas. Entrada libre hasta completar aforo. \nEl programa está incluido en la operación “Impulso de Mérida Cultural\, como palanca de desarrollo\, proyección y cohesión social” financiado por la Estrategia de Desarrollo Urbano Sostenible e Integrado de la ciudad de Mérida “EDUSI Mérida Central”\, aprobada con un presupuesto total de 12’5 millones de euros\, cofinanciados en un 80% por el Fondo Europeo de Desarrollo Regional (FEDER)\, en el marco del Programa Operativo Plurirregional de España 2014-2020.
URL:https://merida.es/agenda/espectaculo-trazos-magicos/
LOCATION:Centro Cultural La Antigua\, Calle Nerja s/n\, Mérida\, Badajoz\, 06800\, Spain
CATEGORIES:Infantil,Navidad,Teatro
ATTACH;FMTTYPE=image/jpeg:https://merida.es/wp-content/uploads/2023/11/2023-trazos-magicos-peq.jpg
END:VEVENT
BEGIN:VEVENT
DTSTART;TZID=Europe/Madrid:20231230T110000
DTEND;TZID=Europe/Madrid:20231230T110000
DTSTAMP:20260420T065041
CREATED:20231207T122223Z
LAST-MODIFIED:20231226T162947Z
UID:126825-1703934000-1703934000@merida.es
SUMMARY:Fiesta Infantil Fin de Año
DESCRIPTION:La fiesta infantil de Fin de Año congregará a los más pequeños en una cita en la que\, desde las 11:00 horas del próximo sábado 30 de diciembre\, en la Plaza de España\, podrán disfrutar de animación y una recreación de las Doce Uvas con golosinas a las 12:00 horas.
URL:https://merida.es/agenda/fiesta-infantil-fin-de-ano-2023/
LOCATION:Plaza de España\, Mérida
CATEGORIES:Infantil,Navidad
ATTACH;FMTTYPE=image/jpeg:https://merida.es/wp-content/uploads/2023/12/2023-fiesta-infantil-peq-1.jpg
END:VEVENT
END:VCALENDAR