﻿BEGIN:VCALENDAR
VERSION:2.0
PRODID:-//Ayuntamiento de Mérida - ECPv6.15.17.1//NONSGML v1.0//EN
CALSCALE:GREGORIAN
METHOD:PUBLISH
X-ORIGINAL-URL:https://merida.es
X-WR-CALDESC:Eventos para Ayuntamiento de Mérida
REFRESH-INTERVAL;VALUE=DURATION:PT1H
X-Robots-Tag:noindex
X-PUBLISHED-TTL:PT1H
BEGIN:VTIMEZONE
TZID:Europe/Madrid
BEGIN:DAYLIGHT
TZOFFSETFROM:+0100
TZOFFSETTO:+0200
TZNAME:CEST
DTSTART:20220327T010000
END:DAYLIGHT
BEGIN:STANDARD
TZOFFSETFROM:+0200
TZOFFSETTO:+0100
TZNAME:CET
DTSTART:20221030T010000
END:STANDARD
BEGIN:DAYLIGHT
TZOFFSETFROM:+0100
TZOFFSETTO:+0200
TZNAME:CEST
DTSTART:20230326T010000
END:DAYLIGHT
BEGIN:STANDARD
TZOFFSETFROM:+0200
TZOFFSETTO:+0100
TZNAME:CET
DTSTART:20231029T010000
END:STANDARD
BEGIN:DAYLIGHT
TZOFFSETFROM:+0100
TZOFFSETTO:+0200
TZNAME:CEST
DTSTART:20240331T010000
END:DAYLIGHT
BEGIN:STANDARD
TZOFFSETFROM:+0200
TZOFFSETTO:+0100
TZNAME:CET
DTSTART:20241027T010000
END:STANDARD
END:VTIMEZONE
BEGIN:VEVENT
DTSTART;TZID=Europe/Madrid:20230126T183000
DTEND;TZID=Europe/Madrid:20230126T183000
DTSTAMP:20260423T004717
CREATED:20230121T122657Z
LAST-MODIFIED:20230121T122657Z
UID:118174-1674757800-1674757800@merida.es
SUMMARY:Los jueves te cuento
DESCRIPTION:El programa ‘Los jueves te cuento’ se celebrará de forma sucesiva\, todos los jueves\, desde el 17 de noviembre hasta el 26 de enero en ‘El rincón de los cuentos’ de la Biblioteca Municipal Juan Pablo Forner\, a las 18.30 horas\, y está dirigido a niños a partir de cuatro años. Juan Ramón Muñoz Cruz contará historias divertidas y atractivas para fomentar el hábito de la lectura entre los más pequeños.
URL:https://merida.es/agenda/los-jueves-te-cuento-26-enero/
LOCATION:Centro Cultural Alcazaba\, Calle John Lennon\, 5\, Mérida
CATEGORIES:Infantil
ATTACH;FMTTYPE=image/jpeg:https://merida.es/wp-content/uploads/2022/11/cuentacuentos-peq.jpg
END:VEVENT
END:VCALENDAR