﻿BEGIN:VCALENDAR
VERSION:2.0
PRODID:-//Ayuntamiento de Mérida - ECPv6.15.17.1//NONSGML v1.0//EN
CALSCALE:GREGORIAN
METHOD:PUBLISH
X-WR-CALNAME:Ayuntamiento de Mérida
X-ORIGINAL-URL:https://merida.es
X-WR-CALDESC:Eventos para Ayuntamiento de Mérida
REFRESH-INTERVAL;VALUE=DURATION:PT1H
X-Robots-Tag:noindex
X-PUBLISHED-TTL:PT1H
BEGIN:VTIMEZONE
TZID:Europe/Madrid
BEGIN:DAYLIGHT
TZOFFSETFROM:+0100
TZOFFSETTO:+0200
TZNAME:CEST
DTSTART:20220327T010000
END:DAYLIGHT
BEGIN:STANDARD
TZOFFSETFROM:+0200
TZOFFSETTO:+0100
TZNAME:CET
DTSTART:20221030T010000
END:STANDARD
BEGIN:DAYLIGHT
TZOFFSETFROM:+0100
TZOFFSETTO:+0200
TZNAME:CEST
DTSTART:20230326T010000
END:DAYLIGHT
BEGIN:STANDARD
TZOFFSETFROM:+0200
TZOFFSETTO:+0100
TZNAME:CET
DTSTART:20231029T010000
END:STANDARD
BEGIN:DAYLIGHT
TZOFFSETFROM:+0100
TZOFFSETTO:+0200
TZNAME:CEST
DTSTART:20240331T010000
END:DAYLIGHT
BEGIN:STANDARD
TZOFFSETFROM:+0200
TZOFFSETTO:+0100
TZNAME:CET
DTSTART:20241027T010000
END:STANDARD
END:VTIMEZONE
BEGIN:VEVENT
DTSTART;TZID=Europe/Madrid:20230305T180000
DTEND;TZID=Europe/Madrid:20230305T180000
DTSTAMP:20260423T001316
CREATED:20230227T133657Z
LAST-MODIFIED:20230227T133657Z
UID:119274-1678039200-1678039200@merida.es
SUMMARY:Teatro Infantil: "La niña de las trenzas al revés"
DESCRIPTION:Espectáculo: La niña de las trenzas al revés\nCompañía: El callejón del gato producciones \nSinopsis: Thana y Deva viven lejos una de la otra: Thana vive en Mali\, más allá del desierto del Sáhara. Deva vive en Asturias\, muy cerca del mar; pero no son muy diferentes\, hasta tienen la misma edad. Una noche la luna\, como un espejo mágico\, les\npermite conocerse y hablar… \nUn espectáculo sobre la curiosidad y la imaginación\, sobre comunicarse para comprender otras formas de ver la vida: por muy diferentes que nos puedan parecer otros pueblos\, otras personas\, lo que nos acerca siempre es más fuerte que lo que nos distancia; solo tenemos que dejarnos llevar por la curiosidad y no por los prejuicios. \nPREMIO FETEN 2021 a la Mejor adaptación escénica \nNarración original: Iris Díaz Trancho\nAdaptación escénica\, dirección e interpretación: Ana Eva Guerra y Moisés González \nDuración: 45 min.\nPúblico: Familiar \nEntrada: 3 euros\nHorario de taquilla: Días 4 y 5 de marzo de 11.00 a 13:00h. En horario de tarde el día 4 de 20.00 a 22.00 horas y el día 5 de 16.00 a 18.00 horas.\nReservas: salatrajanomerida@gmail.com\n(No se podrán reservar más de 4 entradas por email y persona\, se mantendrán hasta una hora antes de la función\, después de esa hora se pondrán a la venta\, la fecha límite para reserva serán las 12.00 horas del mismo día del espectáculo.)
URL:https://merida.es/agenda/magia-nina-de-las-trenzas/
LOCATION:Sala Trajano\, Calle Muza\, 50\, Mérida
CATEGORIES:Infantil,Teatro
ATTACH;FMTTYPE=image/jpeg:https://merida.es/wp-content/uploads/2023/02/nina-trenzas-reves_peq.jpg
END:VEVENT
END:VCALENDAR