﻿BEGIN:VCALENDAR
VERSION:2.0
PRODID:-//Ayuntamiento de Mérida - ECPv6.15.17.1//NONSGML v1.0//EN
CALSCALE:GREGORIAN
METHOD:PUBLISH
X-ORIGINAL-URL:https://merida.es
X-WR-CALDESC:Eventos para Ayuntamiento de Mérida
REFRESH-INTERVAL;VALUE=DURATION:PT1H
X-Robots-Tag:noindex
X-PUBLISHED-TTL:PT1H
BEGIN:VTIMEZONE
TZID:Europe/Madrid
BEGIN:DAYLIGHT
TZOFFSETFROM:+0100
TZOFFSETTO:+0200
TZNAME:CEST
DTSTART:20220327T010000
END:DAYLIGHT
BEGIN:STANDARD
TZOFFSETFROM:+0200
TZOFFSETTO:+0100
TZNAME:CET
DTSTART:20221030T010000
END:STANDARD
BEGIN:DAYLIGHT
TZOFFSETFROM:+0100
TZOFFSETTO:+0200
TZNAME:CEST
DTSTART:20230326T010000
END:DAYLIGHT
BEGIN:STANDARD
TZOFFSETFROM:+0200
TZOFFSETTO:+0100
TZNAME:CET
DTSTART:20231029T010000
END:STANDARD
BEGIN:DAYLIGHT
TZOFFSETFROM:+0100
TZOFFSETTO:+0200
TZNAME:CEST
DTSTART:20240331T010000
END:DAYLIGHT
BEGIN:STANDARD
TZOFFSETFROM:+0200
TZOFFSETTO:+0100
TZNAME:CET
DTSTART:20241027T010000
END:STANDARD
END:VTIMEZONE
BEGIN:VEVENT
DTSTART;TZID=Europe/Madrid:20230319T180000
DTEND;TZID=Europe/Madrid:20230319T180000
DTSTAMP:20260422T111958
CREATED:20230312T164448Z
LAST-MODIFIED:20230312T165212Z
UID:119683-1679248800-1679248800@merida.es
SUMMARY:Teatro Infantil: "Soy una nuez"
DESCRIPTION:Espectáculo: Soy una nuez\nCompañía: Zum Zum Teatro \nSinopsis: La abogada Marinetti es una mujer implacable y amargada que ha denunciado a casi todo el vecindario. Su vida cambia el día en que Omar\, un niño refugiado\, cae de una rama de su nogal. El niño transforma su vida por completo y para poder quedarse con él\, afirma que es una nuez y que\, según una antigua ley\, todos los frutos que caen en su jardín le pertenecen. El juez y el fiscal\, incrédulos\, escuchan a los testigos. Mientras\, Omar recuerda como tuvo que huir de un país en guerra y como perdió a sus padres en el mar\, esperando tener una oportunidad en la vida. \nPREMIO FETEN 2021 a la mejor dirección\nPREMIO FETEN 2021 a la mejor interpretación coral \nAutor: Ramon Molins a partir del cuento de Beatriz Osés\nDirección: Ramon Molins\nReparto: Jesús Agelet\, Andrés Batista\, Begonya Ferrer y Jordi Gilabert/Albert García \nDuración: 55 min.\nPúblico: Familiar \nEntrada: 3 euros\nHorario de taquilla: días 18 y 19 de marzo de 11.00 a 13:00h. En horario de tarde día 18 de 20.00 a 22.00 horas y el día 19 de 16.00 a 18.00 horas.\nReservas: salatrajanomerida@gmail.com\n(No se podrán reservar más de 4 entradas por email y persona\, se mantendrán hasta una hora antes de la función\, después de esa hora se pondrán a la venta\, la fecha límite para reserva serán las 12.00 horas del mismo día del espectáculo.)
URL:https://merida.es/agenda/soy-una-nuez/
LOCATION:Sala Trajano\, Calle Muza\, 50\, Mérida
CATEGORIES:Infantil,Teatro
ATTACH;FMTTYPE=image/jpeg:https://merida.es/wp-content/uploads/2023/03/soy-una-nuez-peq.jpg
END:VEVENT
END:VCALENDAR