﻿BEGIN:VCALENDAR
VERSION:2.0
PRODID:-//Ayuntamiento de Mérida - ECPv6.15.17.1//NONSGML v1.0//EN
CALSCALE:GREGORIAN
METHOD:PUBLISH
X-WR-CALNAME:Ayuntamiento de Mérida
X-ORIGINAL-URL:https://merida.es
X-WR-CALDESC:Eventos para Ayuntamiento de Mérida
REFRESH-INTERVAL;VALUE=DURATION:PT1H
X-Robots-Tag:noindex
X-PUBLISHED-TTL:PT1H
BEGIN:VTIMEZONE
TZID:Europe/Madrid
BEGIN:DAYLIGHT
TZOFFSETFROM:+0100
TZOFFSETTO:+0200
TZNAME:CEST
DTSTART:20220327T010000
END:DAYLIGHT
BEGIN:STANDARD
TZOFFSETFROM:+0200
TZOFFSETTO:+0100
TZNAME:CET
DTSTART:20221030T010000
END:STANDARD
BEGIN:DAYLIGHT
TZOFFSETFROM:+0100
TZOFFSETTO:+0200
TZNAME:CEST
DTSTART:20230326T010000
END:DAYLIGHT
BEGIN:STANDARD
TZOFFSETFROM:+0200
TZOFFSETTO:+0100
TZNAME:CET
DTSTART:20231029T010000
END:STANDARD
BEGIN:DAYLIGHT
TZOFFSETFROM:+0100
TZOFFSETTO:+0200
TZNAME:CEST
DTSTART:20240331T010000
END:DAYLIGHT
BEGIN:STANDARD
TZOFFSETFROM:+0200
TZOFFSETTO:+0100
TZNAME:CET
DTSTART:20241027T010000
END:STANDARD
END:VTIMEZONE
BEGIN:VEVENT
DTSTART;TZID=Europe/Madrid:20230416T120000
DTEND;TZID=Europe/Madrid:20230416T120000
DTSTAMP:20260420T034409
CREATED:20230410T165540Z
LAST-MODIFIED:20230410T165631Z
UID:120640-1681646400-1681646400@merida.es
SUMMARY:Teatro infantil: "La ciudad inventada"
DESCRIPTION:Espectáculo: ‘La ciudad inventada’\nCompañía: Panduro Producciones y Marmore \nSinopsis:\nHa nacido una nueva Ciudad en la geografía de la imaginación. Las ciudades están en constante movimiento\, cada vez acogen a más personas que llegan de otras culturas\, de otras formas de ver y entender la vida\, de otras literaturas\, de otros cuentos… \nEn La ciudad inventada cohabitan diferentes cuentos tradicionales de lugares y procedencias diversas. Como ocurre con las personas\, se relacionan entre sí\, se entremezclan y enriquecen\, dando lugar a una historia mestiza\, como lo es este mundo… \nAutoría: Jokin Oregui\nDirección: Alex Díaz\nIntérpretes: Beatriz Solís\, Virginia Campón y Pilar Contreras \nDuración: 50 m.\nPúblico: a partir de 6 años. \nEntrada única: 3€\nHorario de taquilla: A partir del lunes 10 de abril en el Centro Cultural Alcazaba (lunes a viernes\, de 10 a 14 y de 17 a 20 horas) y Centro Cultural Nueva Ciudad (lunes a viernes\, de 10 a 14 horas y mismo día del evento desde una hora antes) \nEl espectáculo cuenta con las Ayudas a la Programación de Artes Escénicas y de Música de la Red de Teatros y Otros Espacios Escénicos de Extremadura de la Consejería de Cultura\, Turismo y Deportes\, cofinanciado en un 70%.
URL:https://merida.es/agenda/teatro-la-ciudad-inventada/
LOCATION:Centro Cultural de Nueva Ciudad\, Calle Antonio Rodríguez Moñino s/n\, Mérida\, 06800\, Spain
CATEGORIES:Infantil,Teatro
ATTACH;FMTTYPE=image/jpeg:https://merida.es/wp-content/uploads/2023/04/2023-ciudad-inventada-teatro-peq.jpg
END:VEVENT
END:VCALENDAR