﻿BEGIN:VCALENDAR
VERSION:2.0
PRODID:-//Ayuntamiento de Mérida - ECPv6.15.17.1//NONSGML v1.0//EN
CALSCALE:GREGORIAN
METHOD:PUBLISH
X-ORIGINAL-URL:https://merida.es
X-WR-CALDESC:Eventos para Ayuntamiento de Mérida
REFRESH-INTERVAL;VALUE=DURATION:PT1H
X-Robots-Tag:noindex
X-PUBLISHED-TTL:PT1H
BEGIN:VTIMEZONE
TZID:Europe/Madrid
BEGIN:DAYLIGHT
TZOFFSETFROM:+0100
TZOFFSETTO:+0200
TZNAME:CEST
DTSTART:20220327T010000
END:DAYLIGHT
BEGIN:STANDARD
TZOFFSETFROM:+0200
TZOFFSETTO:+0100
TZNAME:CET
DTSTART:20221030T010000
END:STANDARD
BEGIN:DAYLIGHT
TZOFFSETFROM:+0100
TZOFFSETTO:+0200
TZNAME:CEST
DTSTART:20230326T010000
END:DAYLIGHT
BEGIN:STANDARD
TZOFFSETFROM:+0200
TZOFFSETTO:+0100
TZNAME:CET
DTSTART:20231029T010000
END:STANDARD
BEGIN:DAYLIGHT
TZOFFSETFROM:+0100
TZOFFSETTO:+0200
TZNAME:CEST
DTSTART:20240331T010000
END:DAYLIGHT
BEGIN:STANDARD
TZOFFSETFROM:+0200
TZOFFSETTO:+0100
TZNAME:CET
DTSTART:20241027T010000
END:STANDARD
END:VTIMEZONE
BEGIN:VEVENT
DTSTART;TZID=Europe/Madrid:20231015T180000
DTEND;TZID=Europe/Madrid:20231015T180000
DTSTAMP:20260423T085342
CREATED:20231011T062923Z
LAST-MODIFIED:20231011T062923Z
UID:125194-1697392800-1697392800@merida.es
SUMMARY:Teatro: "El pozo de los mil demonios"
DESCRIPTION:Espectáculo: El pozo de los mil demonios\nCompañía: Karlik Danza-Teatro \nSinopsis: Todos los que vivimos en la Tierra surgimos del barro\, por eso nuestro cántaro es como nuestra alma y debemos cuidar que siempre esté lleno para que no nos sequemos. Jacinta\, la protagonista de nuestra historia\, escuchará estas palabras de su Nana y\, tras el robo de su cántaro\, tendrá que iniciar un viaje de aprendizaje para descubrirse\, sorteando obstáculos y pruebas y tomando la responsabilidad de salvarse y salvarnos de la sequía. \nUn viaje para también hacernos partícipes del reconocer la naturaleza como parte de nuestro ser. ¿Qué de lo que olvidamos o perdemos vale la pena recuperar hasta tal punto de que tengamos que realizar un viaje por los confines de lo desconocido? La recuperación de la identidad cultural\, la memoria histórica e incluso familiar. La recuperación de algo tan vital como el agua como la fuente de vida. \nInterpretación: Elena Rocha\, Mamen Godoy\, Iván Luis\, Jorge Barrantes\, Sergio Barquilla\nAutora: Maribel Carrasco\nDirección: Cristina D. Silveira \nDuración: 60 min.\nPúblico: A partir de 8 años \nTaquilla: Entrada única: 3€\nHorario de taquilla: días 14 de octubre de 11.00 a 13:00h. y 15 de octubre de 11.00 a 13:00h. y de 16.00 a 18.00 horas.\nReservas: salatrajanomerida@gmail.com (No se podrán reservar por email más de 4 entradas. La fecha límite para solicitar las reservas será las 21.00h. del día anterior al espectáculo. Las reservas se mantendrán hasta las 13:00 horas del día del espectáculo\, después se considerarán canceladas y se pondrán de nuevo a la venta.)
URL:https://merida.es/agenda/teatro-el-pozo-de-los-mil-demonios/
LOCATION:Sala Trajano\, Calle Muza\, 50\, Mérida
CATEGORIES:Infantil,Teatro
ATTACH;FMTTYPE=image/jpeg:https://merida.es/wp-content/uploads/2023/10/el-pozo-de-los-mil-demonios-peq.jpg
END:VEVENT
END:VCALENDAR