﻿BEGIN:VCALENDAR
VERSION:2.0
PRODID:-//Ayuntamiento de Mérida - ECPv6.15.17.1//NONSGML v1.0//EN
CALSCALE:GREGORIAN
METHOD:PUBLISH
X-ORIGINAL-URL:https://merida.es
X-WR-CALDESC:Eventos para Ayuntamiento de Mérida
REFRESH-INTERVAL;VALUE=DURATION:PT1H
X-Robots-Tag:noindex
X-PUBLISHED-TTL:PT1H
BEGIN:VTIMEZONE
TZID:Europe/Madrid
BEGIN:DAYLIGHT
TZOFFSETFROM:+0100
TZOFFSETTO:+0200
TZNAME:CEST
DTSTART:20220327T010000
END:DAYLIGHT
BEGIN:STANDARD
TZOFFSETFROM:+0200
TZOFFSETTO:+0100
TZNAME:CET
DTSTART:20221030T010000
END:STANDARD
BEGIN:DAYLIGHT
TZOFFSETFROM:+0100
TZOFFSETTO:+0200
TZNAME:CEST
DTSTART:20230326T010000
END:DAYLIGHT
BEGIN:STANDARD
TZOFFSETFROM:+0200
TZOFFSETTO:+0100
TZNAME:CET
DTSTART:20231029T010000
END:STANDARD
BEGIN:DAYLIGHT
TZOFFSETFROM:+0100
TZOFFSETTO:+0200
TZNAME:CEST
DTSTART:20240331T010000
END:DAYLIGHT
BEGIN:STANDARD
TZOFFSETFROM:+0200
TZOFFSETTO:+0100
TZNAME:CET
DTSTART:20241027T010000
END:STANDARD
END:VTIMEZONE
BEGIN:VEVENT
DTSTART;TZID=Europe/Madrid:20231029T180000
DTEND;TZID=Europe/Madrid:20231029T180000
DTSTAMP:20260423T090608
CREATED:20231025T194613Z
LAST-MODIFIED:20231025T195335Z
UID:125582-1698602400-1698602400@merida.es
SUMMARY:Teatro infantil: "Ninho"
DESCRIPTION:Espectáculo: Ninho\nCompañía: Particulas Elementares \nSinopsis: Ninho es el proyecto más reciente de Partículas Elementares y también el más arriesgado\, ya que la compañía propone contar la historia sin una sola palabra. \nPoesía visual pura\, Ninho se revela en los detalles. Con una trama minimalista\, la narración se hace por casualidad; La curiosidad de un chico\, suscitada por una mera casualidad\, desencadena el inicio de una red de afectos. En el escenario\, Carlos Silva\, autor y único intérprete de la obra\, aparece en una acción mesurada\, que cobra fuerza con la expresiva\, emotiva y sorprendente obra plástica de Leonor Bandeira. Con una ambientación con pocos artefactos\, un solo personaje principal\, tres elementos secundarios y una banda sonora que complementa todo. \nNinho es un proyecto notable\, que deja al público\, niños y adultos\, con unas ganas inmensas de dejar volar la imaginación. Ninho es una invitación a valorar las cosas simples de la vida\, las que son fáciles de entender y las que debemos mantener como las más importantes. \nIdea Original: Carlos Silva\nDirección: Leonor Bandeira\nActor / Manipulador: Carlos Silva \nDuración: 60 min.\nPúblico:  Todos los públicos \nTaquilla: Entrada única: 3€\nHorario de taquilla: días 28 y 28 de octubre de 11.00 a 13:00h. y de 16.00 a 18.00 horas.\nReservas: salatrajanomerida@gmail.com (No se podrán reservar por email más de 4 entradas. La fecha límite para solicitar las reservas será las 21.00h. del día anterior al espectáculo. Las reservas se mantendrán hasta las 13:00 horas del día del espectáculo\, después se considerarán canceladas y se pondrán de nuevo a la venta.)
URL:https://merida.es/agenda/teatro-ninho/
LOCATION:Sala Trajano\, Calle Muza\, 50\, Mérida
CATEGORIES:Infantil,Teatro
ATTACH;FMTTYPE=image/jpeg:https://merida.es/wp-content/uploads/2023/10/2023-teatro-ninho-peq.jpg
END:VEVENT
END:VCALENDAR