﻿BEGIN:VCALENDAR
VERSION:2.0
PRODID:-//Ayuntamiento de Mérida - ECPv6.15.17.1//NONSGML v1.0//EN
CALSCALE:GREGORIAN
METHOD:PUBLISH
X-WR-CALNAME:Ayuntamiento de Mérida
X-ORIGINAL-URL:https://merida.es
X-WR-CALDESC:Eventos para Ayuntamiento de Mérida
REFRESH-INTERVAL;VALUE=DURATION:PT1H
X-Robots-Tag:noindex
X-PUBLISHED-TTL:PT1H
BEGIN:VTIMEZONE
TZID:Europe/Madrid
BEGIN:DAYLIGHT
TZOFFSETFROM:+0100
TZOFFSETTO:+0200
TZNAME:CEST
DTSTART:20220327T010000
END:DAYLIGHT
BEGIN:STANDARD
TZOFFSETFROM:+0200
TZOFFSETTO:+0100
TZNAME:CET
DTSTART:20221030T010000
END:STANDARD
BEGIN:DAYLIGHT
TZOFFSETFROM:+0100
TZOFFSETTO:+0200
TZNAME:CEST
DTSTART:20230326T010000
END:DAYLIGHT
BEGIN:STANDARD
TZOFFSETFROM:+0200
TZOFFSETTO:+0100
TZNAME:CET
DTSTART:20231029T010000
END:STANDARD
BEGIN:DAYLIGHT
TZOFFSETFROM:+0100
TZOFFSETTO:+0200
TZNAME:CEST
DTSTART:20240331T010000
END:DAYLIGHT
BEGIN:STANDARD
TZOFFSETFROM:+0200
TZOFFSETTO:+0100
TZNAME:CET
DTSTART:20241027T010000
END:STANDARD
END:VTIMEZONE
BEGIN:VEVENT
DTSTART;TZID=Europe/Madrid:20231101T120000
DTEND;TZID=Europe/Madrid:20231101T120000
DTSTAMP:20260423T065903
CREATED:20231020T123827Z
LAST-MODIFIED:20231030T115318Z
UID:125463-1698840000-1698840000@merida.es
SUMMARY:Historias\, Cuentos y Fábulas con Coco
DESCRIPTION:Vuelve HISTORIAS\, CUENTOS y FÁBULAS CON COCO al Centro Cultural Alcazaba (en lugar del Templo de Diana como inicialmente estaba previsto)\, el miércoles 1 de noviembre. Se trata de un espectáculo de narración oral donde la magia de los cuentos hará que los niños y niñas vivan la fantasía\, diversión y muchas emociones con las historias contadas. Cuentos de animales\, brujas\, ogros\, donde se transmiten valores como el respeto\, la amistad\, cooperación\, etc. Público infantil.
URL:https://merida.es/agenda/historias-cuentos-y-fabulas-con-coco-2/
LOCATION:Centro Cultural Alcazaba\, Calle John Lennon\, 5\, Mérida
CATEGORIES:Infantil
ATTACH;FMTTYPE=image/jpeg:https://merida.es/wp-content/uploads/2023/10/2023-cuentos-coco-peq.jpg
END:VEVENT
END:VCALENDAR