﻿BEGIN:VCALENDAR
VERSION:2.0
PRODID:-//Ayuntamiento de Mérida - ECPv6.15.17.1//NONSGML v1.0//EN
CALSCALE:GREGORIAN
METHOD:PUBLISH
X-WR-CALNAME:Ayuntamiento de Mérida
X-ORIGINAL-URL:https://merida.es
X-WR-CALDESC:Eventos para Ayuntamiento de Mérida
REFRESH-INTERVAL;VALUE=DURATION:PT1H
X-Robots-Tag:noindex
X-PUBLISHED-TTL:PT1H
BEGIN:VTIMEZONE
TZID:Europe/Madrid
BEGIN:DAYLIGHT
TZOFFSETFROM:+0100
TZOFFSETTO:+0200
TZNAME:CEST
DTSTART:20220327T010000
END:DAYLIGHT
BEGIN:STANDARD
TZOFFSETFROM:+0200
TZOFFSETTO:+0100
TZNAME:CET
DTSTART:20221030T010000
END:STANDARD
BEGIN:DAYLIGHT
TZOFFSETFROM:+0100
TZOFFSETTO:+0200
TZNAME:CEST
DTSTART:20230326T010000
END:DAYLIGHT
BEGIN:STANDARD
TZOFFSETFROM:+0200
TZOFFSETTO:+0100
TZNAME:CET
DTSTART:20231029T010000
END:STANDARD
BEGIN:DAYLIGHT
TZOFFSETFROM:+0100
TZOFFSETTO:+0200
TZNAME:CEST
DTSTART:20240331T010000
END:DAYLIGHT
BEGIN:STANDARD
TZOFFSETFROM:+0200
TZOFFSETTO:+0100
TZNAME:CET
DTSTART:20241027T010000
END:STANDARD
END:VTIMEZONE
BEGIN:VEVENT
DTSTART;TZID=Europe/Madrid:20231109T183000
DTEND;TZID=Europe/Madrid:20231109T183000
DTSTAMP:20260423T050719
CREATED:20231106T193406Z
LAST-MODIFIED:20231106T193406Z
UID:125791-1699554600-1699554600@merida.es
SUMMARY:El Jueves Ven y Te Cuento
DESCRIPTION:‘El caballo del zar’ y ‘El agujero’\, serán los cuentos que inaugurarán\, el próximo jueves\, 9 de Noviembre\, el programa ‘El jueves ven y te cuento’\, en la Biblioteca Municipal Juan Pablo Forner. \nEl cuentacuentos\, a cargo de Juan Ramón Cruz\, está destinado a familias con niños/as a partir de 4 años; y tiene como objetivo acercar la biblioteca a los más pequeños\, fomentar el hábito lector desde la infancia y transmitir valores a través de los cuentos. \nLa actividad tendrá lugar todos los jueves del mes de noviembre a las 18:30 horas\, en el pasillo de la rotonda del centro cultural.
URL:https://merida.es/agenda/el-jueves-ven-y-te-cuento/
LOCATION:Centro Cultural Alcazaba\, Calle John Lennon\, 5\, Mérida
CATEGORIES:Infantil
ATTACH;FMTTYPE=image/jpeg:https://merida.es/wp-content/uploads/2023/11/2023-cuentacuentos-peq.jpg
END:VEVENT
END:VCALENDAR