﻿BEGIN:VCALENDAR
VERSION:2.0
PRODID:-//Ayuntamiento de Mérida - ECPv6.15.17.1//NONSGML v1.0//EN
CALSCALE:GREGORIAN
METHOD:PUBLISH
X-WR-CALNAME:Ayuntamiento de Mérida
X-ORIGINAL-URL:https://merida.es
X-WR-CALDESC:Eventos para Ayuntamiento de Mérida
REFRESH-INTERVAL;VALUE=DURATION:PT1H
X-Robots-Tag:noindex
X-PUBLISHED-TTL:PT1H
BEGIN:VTIMEZONE
TZID:Europe/Madrid
BEGIN:DAYLIGHT
TZOFFSETFROM:+0100
TZOFFSETTO:+0200
TZNAME:CEST
DTSTART:20220327T010000
END:DAYLIGHT
BEGIN:STANDARD
TZOFFSETFROM:+0200
TZOFFSETTO:+0100
TZNAME:CET
DTSTART:20221030T010000
END:STANDARD
BEGIN:DAYLIGHT
TZOFFSETFROM:+0100
TZOFFSETTO:+0200
TZNAME:CEST
DTSTART:20230326T010000
END:DAYLIGHT
BEGIN:STANDARD
TZOFFSETFROM:+0200
TZOFFSETTO:+0100
TZNAME:CET
DTSTART:20231029T010000
END:STANDARD
BEGIN:DAYLIGHT
TZOFFSETFROM:+0100
TZOFFSETTO:+0200
TZNAME:CEST
DTSTART:20240331T010000
END:DAYLIGHT
BEGIN:STANDARD
TZOFFSETFROM:+0200
TZOFFSETTO:+0100
TZNAME:CET
DTSTART:20241027T010000
END:STANDARD
END:VTIMEZONE
BEGIN:VEVENT
DTSTART;TZID=Europe/Madrid:20231119T180000
DTEND;TZID=Europe/Madrid:20231119T180000
DTSTAMP:20260423T065848
CREATED:20231116T082239Z
LAST-MODIFIED:20231116T082239Z
UID:126086-1700416800-1700416800@merida.es
SUMMARY:Teatro infantil: "Alicia en el país de las maravillas" (Muestra de Teatro Amateur)
DESCRIPTION:Espectáculo: Alicia en el país de las maravillas\nCompañía: Espacio Trece \nSinopsis: Alicia está a punto de quedarse dormida debido al aburrimiento que siente mientras está con su hermana sentada a la\norilla del río. De repente\, la muchacha ve un conejo\, el cual se dirige a una madriguera profunda\, y decide perseguirlo.\nSeguidamente\, Alicia cae por un vasto agujero. Cuando logra tocar tierra\, la joven se asusta y son sus propias lágrimas\nlas que la conducen al País de las Maravillas. Un lugar donde todo adquiere una estética absurda. \nAllí\, Alicia conoce a diferentes personajes\, muchos de ellos son animales con los que puede hablar. Asimismo\, la niña se\nenfrenta a diferentes situaciones que la hacen reflexionar\, en un mundo donde todos parecen experimentar la locura.\nSin embargo\, a medida que avanza la obra\, Alicia parece familiarizarse con este lugar y muestra su carácter y\npersonalidad ante las diferentes situaciones absurdas. Finalmente\, Alicia despierta junto a su hermana y descubre que todo ha sido un sueño. \nReparto: Loida García\, Isabel García\, Joaquín Hernández\, Alonso García\, Piedad Peña\, Ana Espinosa\, Ana Belén Flores\, Antonia Suero\nDirección: Francisco Blanco \nDuración: 75 min.\nPúblico:  Todos los públicos \nEntrada libre hasta completar aforo (por invitación)\nHorario de taquilla: días 18 de noviembre de 11.00 a 13:00h. y 19 de noviembre de 11.00 a 13:00h. y de 16.00 a 18.00 horas.\nReservas: salatrajanomerida@gmail.com (No se podrán reservar por email más de 4 entradas. La fecha límite para solicitar las reservas será las 21.00h. del día anterior al espectáculo. Las reservas se mantendrán hasta las 13:00 horas del día del espectáculo\, después se considerarán canceladas y se pondrán de nuevo a la venta.)
URL:https://merida.es/agenda/teatro-alicia-en-el-pais-de-las-maravillas/
LOCATION:Sala Trajano\, Calle Muza\, 50\, Mérida
CATEGORIES:Infantil,Teatro
ATTACH;FMTTYPE=image/jpeg:https://merida.es/wp-content/uploads/2023/11/2023-teatro-alicia-en-el-pais-de-las-maravillas-peq.jpg
END:VEVENT
END:VCALENDAR