﻿BEGIN:VCALENDAR
VERSION:2.0
PRODID:-//Ayuntamiento de Mérida - ECPv6.15.17.1//NONSGML v1.0//EN
CALSCALE:GREGORIAN
METHOD:PUBLISH
X-WR-CALNAME:Ayuntamiento de Mérida
X-ORIGINAL-URL:https://merida.es
X-WR-CALDESC:Eventos para Ayuntamiento de Mérida
REFRESH-INTERVAL;VALUE=DURATION:PT1H
X-Robots-Tag:noindex
X-PUBLISHED-TTL:PT1H
BEGIN:VTIMEZONE
TZID:Europe/Madrid
BEGIN:DAYLIGHT
TZOFFSETFROM:+0100
TZOFFSETTO:+0200
TZNAME:CEST
DTSTART:20220327T010000
END:DAYLIGHT
BEGIN:STANDARD
TZOFFSETFROM:+0200
TZOFFSETTO:+0100
TZNAME:CET
DTSTART:20221030T010000
END:STANDARD
BEGIN:DAYLIGHT
TZOFFSETFROM:+0100
TZOFFSETTO:+0200
TZNAME:CEST
DTSTART:20230326T010000
END:DAYLIGHT
BEGIN:STANDARD
TZOFFSETFROM:+0200
TZOFFSETTO:+0100
TZNAME:CET
DTSTART:20231029T010000
END:STANDARD
BEGIN:DAYLIGHT
TZOFFSETFROM:+0100
TZOFFSETTO:+0200
TZNAME:CEST
DTSTART:20240331T010000
END:DAYLIGHT
BEGIN:STANDARD
TZOFFSETFROM:+0200
TZOFFSETTO:+0100
TZNAME:CET
DTSTART:20241027T010000
END:STANDARD
END:VTIMEZONE
BEGIN:VEVENT
DTSTART;TZID=Europe/Madrid:20231123T183000
DTEND;TZID=Europe/Madrid:20231123T183000
DTSTAMP:20260423T065845
CREATED:20231123T084759Z
LAST-MODIFIED:20231123T084759Z
UID:126326-1700764200-1700764200@merida.es
SUMMARY:El Jueves Ven y Te Cuento
DESCRIPTION:Todos los jueves de noviembre\, la Biblioteca Municipal Juan Pablo Forner organiza la actividad ‘El jueves ven y te cuento’ dirigido a niños y niñas a partir de 4 años. A las 18:30 horas en el Centro Cultural Alcazaba
URL:https://merida.es/agenda/el-jueves-ven-y-te-cuento-3/
LOCATION:Centro Cultural Alcazaba\, Calle John Lennon\, 5\, Mérida
CATEGORIES:Infantil
ATTACH;FMTTYPE=image/jpeg:https://merida.es/wp-content/uploads/2023/11/2023-cuentacuentos-peq.jpg
END:VEVENT
END:VCALENDAR