﻿BEGIN:VCALENDAR
VERSION:2.0
PRODID:-//Ayuntamiento de Mérida - ECPv6.15.17.1//NONSGML v1.0//EN
CALSCALE:GREGORIAN
METHOD:PUBLISH
X-WR-CALNAME:Ayuntamiento de Mérida
X-ORIGINAL-URL:https://merida.es
X-WR-CALDESC:Eventos para Ayuntamiento de Mérida
REFRESH-INTERVAL;VALUE=DURATION:PT1H
X-Robots-Tag:noindex
X-PUBLISHED-TTL:PT1H
BEGIN:VTIMEZONE
TZID:Europe/Madrid
BEGIN:DAYLIGHT
TZOFFSETFROM:+0100
TZOFFSETTO:+0200
TZNAME:CEST
DTSTART:20220327T010000
END:DAYLIGHT
BEGIN:STANDARD
TZOFFSETFROM:+0200
TZOFFSETTO:+0100
TZNAME:CET
DTSTART:20221030T010000
END:STANDARD
BEGIN:DAYLIGHT
TZOFFSETFROM:+0100
TZOFFSETTO:+0200
TZNAME:CEST
DTSTART:20230326T010000
END:DAYLIGHT
BEGIN:STANDARD
TZOFFSETFROM:+0200
TZOFFSETTO:+0100
TZNAME:CET
DTSTART:20231029T010000
END:STANDARD
BEGIN:DAYLIGHT
TZOFFSETFROM:+0100
TZOFFSETTO:+0200
TZNAME:CEST
DTSTART:20240331T010000
END:DAYLIGHT
BEGIN:STANDARD
TZOFFSETFROM:+0200
TZOFFSETTO:+0100
TZNAME:CET
DTSTART:20241027T010000
END:STANDARD
END:VTIMEZONE
BEGIN:VEVENT
DTSTART;TZID=Europe/Madrid:20231125T170000
DTEND;TZID=Europe/Madrid:20231125T170000
DTSTAMP:20260423T065839
CREATED:20231004T114907Z
LAST-MODIFIED:20231004T115218Z
UID:124948-1700931600-1700931600@merida.es
SUMMARY:El Musical de los Niños
DESCRIPTION:Un espectáculo divertido y colorido donde los más pequeños aprenderán el respeto y los valores de la sociedad gracias a los animales de la selva y a los esqueletos mas bailongos. Sofi\, Sarah\, tomy y javi junto a sus mejores amigos como la vaca lola\, el raton de susanita\,el payaso plimplim y muchos mas\, nos harán disfrutar y bailar sin parar con los temas musicales más conocidos. ¿Te apuntas con nosotros a encender la tv espapirifactica? \nEntradas: https://www.giglon.com
URL:https://merida.es/agenda/el-musical-de-los-ninos/
LOCATION:Palacio de Congresos\, Avda. del Rio s/n\, Mérida
CATEGORIES:Infantil,Música
ATTACH;FMTTYPE=image/jpeg:https://merida.es/wp-content/uploads/2023/10/2023-musical-ninos-peq.jpg
END:VEVENT
END:VCALENDAR