﻿BEGIN:VCALENDAR
VERSION:2.0
PRODID:-//Ayuntamiento de Mérida - ECPv6.15.17.1//NONSGML v1.0//EN
CALSCALE:GREGORIAN
METHOD:PUBLISH
X-ORIGINAL-URL:https://merida.es
X-WR-CALDESC:Eventos para Ayuntamiento de Mérida
REFRESH-INTERVAL;VALUE=DURATION:PT1H
X-Robots-Tag:noindex
X-PUBLISHED-TTL:PT1H
BEGIN:VTIMEZONE
TZID:Europe/Madrid
BEGIN:DAYLIGHT
TZOFFSETFROM:+0100
TZOFFSETTO:+0200
TZNAME:CEST
DTSTART:20230326T010000
END:DAYLIGHT
BEGIN:STANDARD
TZOFFSETFROM:+0200
TZOFFSETTO:+0100
TZNAME:CET
DTSTART:20231029T010000
END:STANDARD
BEGIN:DAYLIGHT
TZOFFSETFROM:+0100
TZOFFSETTO:+0200
TZNAME:CEST
DTSTART:20240331T010000
END:DAYLIGHT
BEGIN:STANDARD
TZOFFSETFROM:+0200
TZOFFSETTO:+0100
TZNAME:CET
DTSTART:20241027T010000
END:STANDARD
BEGIN:DAYLIGHT
TZOFFSETFROM:+0100
TZOFFSETTO:+0200
TZNAME:CEST
DTSTART:20250330T010000
END:DAYLIGHT
BEGIN:STANDARD
TZOFFSETFROM:+0200
TZOFFSETTO:+0100
TZNAME:CET
DTSTART:20251026T010000
END:STANDARD
END:VTIMEZONE
BEGIN:VEVENT
DTSTART;TZID=Europe/Madrid:20240114T180000
DTEND;TZID=Europe/Madrid:20240114T180000
DTSTAMP:20260423T071918
CREATED:20240117T230149Z
LAST-MODIFIED:20240117T230236Z
UID:127590-1705255200-1705255200@merida.es
SUMMARY:'The MagicMan' con Alfred Cobami
DESCRIPTION:DOMINGO Día 14 de enero de 2024. 18.00 horas \nEspectáculo: The MagicMan.\nCompañía: Alfred Cobami \nSinopsis: “The MagicMan” llega para sorprender\, asombrar y divertir. La magia y el humor son sus herramientas\, la participación activa del público y la improvisación sus aliados\, y su objetivo hacer que el público viva una experiencia mágica\, divertida y motivadora. \nAlfred Cobami presenta “The MagicMan”\, un espectáculo fresco\, dinámico e interactivo\, en el que nada de lo que suceda te dejará indiferente. Efectos mágicos\, mentalismo y escapismo es lo que miles de espectadores ya han disfrutado con “The MagicMan” ¡Ahora te toca a tí! \nTaquilla: Entrada única 3€ (*Descuentos del 50% aplicable a: carnet estudiante\, carnet joven europeo\, personas jubiladas-pensionistas\, familia numerosa y personas en desempleo)\nDuración: 90 min.\nPúblico recomendado: a partir de 4 años.\nHorario de taquilla: Días 13 de enero de 11.00 a 13:00h. y de 18.30 a 20.00h y día 14 de enero de 11.00 a 13:00h. y de 16.00 a 18.00h.\nReservas en el email: salatrajanomerida@gmail.com
URL:https://merida.es/agenda/the-magicman-con-alfred-cobami/
LOCATION:Sala Trajano\, Calle Muza\, 50\, Mérida
CATEGORIES:Infantil,Teatro
ATTACH;FMTTYPE=image/jpeg:https://merida.es/wp-content/uploads/2024/01/The-Magicman-alfred-cobami-peq.jpg
END:VEVENT
END:VCALENDAR