﻿BEGIN:VCALENDAR
VERSION:2.0
PRODID:-//Ayuntamiento de Mérida - ECPv6.15.17.1//NONSGML v1.0//EN
CALSCALE:GREGORIAN
METHOD:PUBLISH
X-WR-CALNAME:Ayuntamiento de Mérida
X-ORIGINAL-URL:https://merida.es
X-WR-CALDESC:Eventos para Ayuntamiento de Mérida
REFRESH-INTERVAL;VALUE=DURATION:PT1H
X-Robots-Tag:noindex
X-PUBLISHED-TTL:PT1H
BEGIN:VTIMEZONE
TZID:Europe/Madrid
BEGIN:DAYLIGHT
TZOFFSETFROM:+0100
TZOFFSETTO:+0200
TZNAME:CEST
DTSTART:20250330T010000
END:DAYLIGHT
BEGIN:STANDARD
TZOFFSETFROM:+0200
TZOFFSETTO:+0100
TZNAME:CET
DTSTART:20251026T010000
END:STANDARD
BEGIN:DAYLIGHT
TZOFFSETFROM:+0100
TZOFFSETTO:+0200
TZNAME:CEST
DTSTART:20260329T010000
END:DAYLIGHT
BEGIN:STANDARD
TZOFFSETFROM:+0200
TZOFFSETTO:+0100
TZNAME:CET
DTSTART:20261025T010000
END:STANDARD
BEGIN:DAYLIGHT
TZOFFSETFROM:+0100
TZOFFSETTO:+0200
TZNAME:CEST
DTSTART:20270328T010000
END:DAYLIGHT
BEGIN:STANDARD
TZOFFSETFROM:+0200
TZOFFSETTO:+0100
TZNAME:CET
DTSTART:20271031T010000
END:STANDARD
END:VTIMEZONE
BEGIN:VEVENT
DTSTART;VALUE=DATE:20260330
DTEND;VALUE=DATE:20260402
DTSTAMP:20260421T112644
CREATED:20260316T125904Z
LAST-MODIFIED:20260324T092238Z
UID:147297-1774828800-1775087999@merida.es
SUMMARY:Talleres Infantiles 'Kids Camp'
DESCRIPTION:Los días 30 y 31 de marzo y 1 de abril se desarrollarán los Talleres Infantiles ‘KIDS CAMP 2026’\, una actividad de Aprendizaje y Servicio (APS) que organiza la Escuela de Aprendizaje Laboral Barraeca V con el lema «Construyendo tu aventura rompiendo estereotipos» que va dirigido a niños y niñas de entre 6 y 10 años. Los talleres tendrán lugar en el Centro de Formación de La Calzada\, de 9:00 a 14:00 horas. En estos talleres\, los niños y niñas se divergirán aprendiendo las tareas y trabajos de la albañilería y fontanería utilizando una metodología basada en el juego y en el descubrimiento. \nEl programa ofrece un total de 90 plazas\, distribuidas en 30 participantes por día. Los interesados podrán inscribirse a través del formulario desde el martes 17 de marzo a las 8:00 horas hasta el lunes 23 de marzo a las 8 horas. En caso de superar las 90 solicitudes\, se realizará un sorteo el día 24 de marzo para publicar los listados definitivos. El Ayuntamiento contactará con las familias seleccionadas entre los días 25 y 27 de marzo. Solo se puede elegir un día para la realización de los campamentos. \nEn el siguiente enlace se publican las listas de inscritos/as para los diferentes días de cara al sorteo. En caso de más de una inscripción se ha tenido en cuenta solo la última. \nListado de Inscritos/as para Sorteo \nLISTADO DEFINITIVO DE ADMITIDOS/AS TRAS SORTEO
URL:https://merida.es/agenda/talleres-infantiles-kids-camp-2026/
LOCATION:Centro de Formación La Calzada\, Calle Dulce Chacón\, 2\, Mérida\, 06800\, España
CATEGORIES:Curso-Taller,Infantil
ATTACH;FMTTYPE=image/jpeg:https://merida.es/wp-content/uploads/2026/03/2026-kids-camp-peq.jpeg
END:VEVENT
END:VCALENDAR