﻿BEGIN:VCALENDAR
VERSION:2.0
PRODID:-//Ayuntamiento de Mérida - ECPv6.15.17.1//NONSGML v1.0//EN
CALSCALE:GREGORIAN
METHOD:PUBLISH
X-WR-CALNAME:Ayuntamiento de Mérida
X-ORIGINAL-URL:https://merida.es
X-WR-CALDESC:Eventos para Ayuntamiento de Mérida
REFRESH-INTERVAL;VALUE=DURATION:PT1H
X-Robots-Tag:noindex
X-PUBLISHED-TTL:PT1H
BEGIN:VTIMEZONE
TZID:Europe/Madrid
BEGIN:DAYLIGHT
TZOFFSETFROM:+0100
TZOFFSETTO:+0200
TZNAME:CEST
DTSTART:20180325T010000
END:DAYLIGHT
BEGIN:STANDARD
TZOFFSETFROM:+0200
TZOFFSETTO:+0100
TZNAME:CET
DTSTART:20181028T010000
END:STANDARD
BEGIN:DAYLIGHT
TZOFFSETFROM:+0100
TZOFFSETTO:+0200
TZNAME:CEST
DTSTART:20190331T010000
END:DAYLIGHT
BEGIN:STANDARD
TZOFFSETFROM:+0200
TZOFFSETTO:+0100
TZNAME:CET
DTSTART:20191027T010000
END:STANDARD
BEGIN:DAYLIGHT
TZOFFSETFROM:+0100
TZOFFSETTO:+0200
TZNAME:CEST
DTSTART:20200329T010000
END:DAYLIGHT
BEGIN:STANDARD
TZOFFSETFROM:+0200
TZOFFSETTO:+0100
TZNAME:CET
DTSTART:20201025T010000
END:STANDARD
END:VTIMEZONE
BEGIN:VEVENT
DTSTART;TZID=Europe/Madrid:20190907T210000
DTEND;TZID=Europe/Madrid:20190907T210000
DTSTAMP:20260419T163835
CREATED:20190903T072804Z
LAST-MODIFIED:20190903T072804Z
UID:67408-1567890000-1567890000@merida.es
SUMMARY:Acto conmemorativo Día de Extremadura 2019
DESCRIPTION:  \nEl sábado 7 de septiembre se conmemorará el Día de Extremadura\, con la tradicional entrega de las medallas de Extremadura\, en el Teatro Romano\, en un acto que comenzará a las 21:00 horas.\nEste año\, las medallas se entregarán a la UME (Unidad Militar de Emergencias)\, los cuerpos de Policía Local de Extremadura\, la Sociedad Micológica Extremeña\, la poetisa Ada Salas\, la periodista Mª Jesús Almeida y el Festival Internacional de Teatro Clásico de Mérida.\nTras la entrega de medallas\, el discurso ciudadano estará a cargo del escritor Javier Cercas\, nacido en Ibahernando y medalla de Extremadura en 2005. Posteriormente\, el himno de Extremadura será interpretado por el pianista emeritense Pablo Cascallana y la profesora de canto lírico y moderno Senda de la Montaña.\nLas celebraciones del Día de Extremadura en el teatro romano de Mérida finalizarán con el espectáculo «Jóvenes extremeños»\, en el que jóvenes de la región pondrán en escena varias disciplinas artísticas y diferentes estilos musicales\, con el broche final de la banda Tam Tam Go!.\nEste espectáculo contará con la participación de Jara San José\, Los Ramoninos\, Julia Rosa\, Miriam Cantero\, Aurora Samino\, Julián Jaramillo\, Celia Ruiz\, La Pájara\, el Conservatorio de Danza de Cáceres\, la Orquesta Joven de Extremadura y la Escolanía Pueri Angelorum de Campanario.\nLa dirección artística del espectáculo está a cargo de Pilar Vizcaíno (directora de Orquesta); la dirección de la Orquesta Joven de Extremadura estará a cargo de su titular\, Andrés Salado\, y la producción musical será de Jorge Caballero.\nEl acto será conducido por las periodistas extremeñas Ángeles Blanco\, en la actualidad al frente de los informativos de fin de semana de Telecinco\, y Leticia Antúnez\, coordinadora de la sección de Deportes en Canal Extremadura TV.
URL:https://merida.es/agenda/acto-conmemorativo-dia-de-extremadura-2019/
LOCATION:Teatro Romano\, Plaza de Margarita Xirgú\, Mérida
CATEGORIES:Institucional
ATTACH;FMTTYPE=image/jpeg:https://merida.es/wp-content/uploads/2019/09/2019-dia-extremadura-banner.jpg
END:VEVENT
BEGIN:VEVENT
DTSTART;VALUE=DATE:20190919
DTEND;VALUE=DATE:20190920
DTSTAMP:20260419T163835
CREATED:20190919T065504Z
LAST-MODIFIED:20190919T065504Z
UID:67784-1568851200-1568937599@merida.es
SUMMARY:XXXIII Día del Museo Nacional de Arte Romano
DESCRIPTION:El próximo jueves 19 de septiembre\, coincidiendo con la fecha de inauguración de la actual sede del Museo en 1986\, el MNAR celebra el XXXIII Día del Museo Nacional de Arte Romano.\nEl grupo de Voluntarios Culturales del Museo ofrecerá el programa público “Puertas Abiertas a la Colección” de 10.00 a 13.00 h.\, una visita temática a través de una selección de piezas del Museo.\nPor la tarde\, se celebrará el acto institucional del XXXIII Día del Museo a partir de las 20.00 h. Tendrá lugar entonces la conferencia a cargo de la Doctora Lucrezia Ungaro\, directora hasta el pasado mes de agosto del Museo de los Foros Imperiales- Mercados de Trajano (Museo dei Fori Imperiali- Mercati di Traiano) en Roma\, y que ha sido un referente para la investigación y el devenir del conocimiento del proyecto Foros de Augusta Emerita tutelado desde el MNAR desde hace varias décadas. Un ambicioso proyecto que estrechó relaciones entre ambas ciudades.\nPosteriormente\, se sucederá la entrega de las Premios “Genio Protector de la Colonia” por parte de la Asociación de Amigos del Museo\, que como cada año reconoce la labor de personas e instituciones en pro del Museo y el patrimonio de la ciudad.\nEl acto se celebrará en la Nave Principal del Museo. La entrada es libre hasta completar aforo
URL:https://merida.es/agenda/xxxiii-dia-del-museo-nacional-de-arte-romano/
LOCATION:Museo Nacional de Arte Romano\, Calle José Ramón Mélida\, Mérida\, Badajoz\, 06800\, España
CATEGORIES:Charla-Conferencia,Institucional,Visita Guiada
ATTACH;FMTTYPE=image/jpeg:https://merida.es/wp-content/uploads/2019/09/dia-museo-peq.jpg
END:VEVENT
END:VCALENDAR