﻿BEGIN:VCALENDAR
VERSION:2.0
PRODID:-//Ayuntamiento de Mérida - ECPv6.15.17.1//NONSGML v1.0//EN
CALSCALE:GREGORIAN
METHOD:PUBLISH
X-ORIGINAL-URL:https://merida.es
X-WR-CALDESC:Eventos para Ayuntamiento de Mérida
REFRESH-INTERVAL;VALUE=DURATION:PT1H
X-Robots-Tag:noindex
X-PUBLISHED-TTL:PT1H
BEGIN:VTIMEZONE
TZID:Europe/Madrid
BEGIN:DAYLIGHT
TZOFFSETFROM:+0100
TZOFFSETTO:+0200
TZNAME:CEST
DTSTART:20160327T010000
END:DAYLIGHT
BEGIN:STANDARD
TZOFFSETFROM:+0200
TZOFFSETTO:+0100
TZNAME:CET
DTSTART:20161030T010000
END:STANDARD
BEGIN:DAYLIGHT
TZOFFSETFROM:+0100
TZOFFSETTO:+0200
TZNAME:CEST
DTSTART:20170326T010000
END:DAYLIGHT
BEGIN:STANDARD
TZOFFSETFROM:+0200
TZOFFSETTO:+0100
TZNAME:CET
DTSTART:20171029T010000
END:STANDARD
BEGIN:DAYLIGHT
TZOFFSETFROM:+0100
TZOFFSETTO:+0200
TZNAME:CEST
DTSTART:20180325T010000
END:DAYLIGHT
BEGIN:STANDARD
TZOFFSETFROM:+0200
TZOFFSETTO:+0100
TZNAME:CET
DTSTART:20181028T010000
END:STANDARD
END:VTIMEZONE
BEGIN:VEVENT
DTSTART;VALUE=DATE:20171103
DTEND;VALUE=DATE:20171105
DTSTAMP:20260420T000539
CREATED:20170802T111536Z
LAST-MODIFIED:20170802T111536Z
UID:52219-1509667200-1509839999@merida.es
SUMMARY:III Congreso Mujer\, Deporte y Empresa
DESCRIPTION:En el III Congreso Mujer\, Deporte y Empresa del próximo 3 y 4 de noviembre en Mérida\, se darán cita algunas de las Mujeres con mayor influencia social en los ámbitos temáticos del evento\, el deportivo y el empresarial\, sin olvidarse de la comunicación\, el emprendimiento o las políticas de igualdad\, desarrollándose ponencias magistrales\, talleres de experiencias y mesas de debate que expondrán la evolución pasada\, el momento presente y el crecimiento futuro del papel femenino de forma global.\nOrganizan el Instituto de la Mujer de Extremadura y la Fundación Jóvenes y Deporte con la colaboración del Ayuntamiento de Mérida\, entre otros.\nMás información: http://congresomde.com/web/
URL:https://merida.es/agenda/iii-congreso-mujer-deporte-empresa/
LOCATION:Palacio de Congresos\, Avda. del Rio s/n\, Mérida
CATEGORIES:Charla-Conferencia,Jornadas
ATTACH;FMTTYPE=image/jpeg:https://merida.es/wp-content/uploads/2017/08/congreso-mujer-deporte-peq.jpg
END:VEVENT
END:VCALENDAR