﻿BEGIN:VCALENDAR
VERSION:2.0
PRODID:-//Ayuntamiento de Mérida - ECPv6.15.17.1//NONSGML v1.0//EN
CALSCALE:GREGORIAN
METHOD:PUBLISH
X-ORIGINAL-URL:https://merida.es
X-WR-CALDESC:Eventos para Ayuntamiento de Mérida
REFRESH-INTERVAL;VALUE=DURATION:PT1H
X-Robots-Tag:noindex
X-PUBLISHED-TTL:PT1H
BEGIN:VTIMEZONE
TZID:Europe/Madrid
BEGIN:DAYLIGHT
TZOFFSETFROM:+0100
TZOFFSETTO:+0200
TZNAME:CEST
DTSTART:20160327T010000
END:DAYLIGHT
BEGIN:STANDARD
TZOFFSETFROM:+0200
TZOFFSETTO:+0100
TZNAME:CET
DTSTART:20161030T010000
END:STANDARD
BEGIN:DAYLIGHT
TZOFFSETFROM:+0100
TZOFFSETTO:+0200
TZNAME:CEST
DTSTART:20170326T010000
END:DAYLIGHT
BEGIN:STANDARD
TZOFFSETFROM:+0200
TZOFFSETTO:+0100
TZNAME:CET
DTSTART:20171029T010000
END:STANDARD
BEGIN:DAYLIGHT
TZOFFSETFROM:+0100
TZOFFSETTO:+0200
TZNAME:CEST
DTSTART:20180325T010000
END:DAYLIGHT
BEGIN:STANDARD
TZOFFSETFROM:+0200
TZOFFSETTO:+0100
TZNAME:CET
DTSTART:20181028T010000
END:STANDARD
END:VTIMEZONE
BEGIN:VEVENT
DTSTART;VALUE=DATE:20171019
DTEND;VALUE=DATE:20171022
DTSTAMP:20260420T090440
CREATED:20170515T082754Z
LAST-MODIFIED:20170515T082754Z
UID:50039-1508371200-1508630399@merida.es
SUMMARY:XIII Congreso Estatal y I Congreso Iberoamericano de Trabajo Social
DESCRIPTION:Del 19 al 21 de octubre se celebrará en Mérida el XIII Congreso Estatal y I Congreso Iberoamericano de Trabajo Social organizado por el Consejo General de Trabajo Social que tendrá lugar en el Palacio de Congresos y Exposiciones.\nMás información: http://www.congresotrabajosocial.es/
URL:https://merida.es/agenda/xiii-congreso-estatal-y-i-congreso-iberoamericano-de-trabajo-social/
LOCATION:Palacio de Congresos\, Avda. del Rio s/n\, Mérida
CATEGORIES:Charla-Conferencia,Jornadas
ATTACH;FMTTYPE=image/jpeg:https://merida.es/wp-content/uploads/2017/05/congreso-trabajo-social-peq.jpg
END:VEVENT
END:VCALENDAR