﻿BEGIN:VCALENDAR
VERSION:2.0
PRODID:-//Ayuntamiento de Mérida - ECPv6.15.17.1//NONSGML v1.0//EN
CALSCALE:GREGORIAN
METHOD:PUBLISH
X-WR-CALNAME:Ayuntamiento de Mérida
X-ORIGINAL-URL:https://merida.es
X-WR-CALDESC:Eventos para Ayuntamiento de Mérida
REFRESH-INTERVAL;VALUE=DURATION:PT1H
X-Robots-Tag:noindex
X-PUBLISHED-TTL:PT1H
BEGIN:VTIMEZONE
TZID:Europe/Madrid
BEGIN:DAYLIGHT
TZOFFSETFROM:+0100
TZOFFSETTO:+0200
TZNAME:CEST
DTSTART:20150329T010000
END:DAYLIGHT
BEGIN:STANDARD
TZOFFSETFROM:+0200
TZOFFSETTO:+0100
TZNAME:CET
DTSTART:20151025T010000
END:STANDARD
BEGIN:DAYLIGHT
TZOFFSETFROM:+0100
TZOFFSETTO:+0200
TZNAME:CEST
DTSTART:20160327T010000
END:DAYLIGHT
BEGIN:STANDARD
TZOFFSETFROM:+0200
TZOFFSETTO:+0100
TZNAME:CET
DTSTART:20161030T010000
END:STANDARD
BEGIN:DAYLIGHT
TZOFFSETFROM:+0100
TZOFFSETTO:+0200
TZNAME:CEST
DTSTART:20170326T010000
END:DAYLIGHT
BEGIN:STANDARD
TZOFFSETFROM:+0200
TZOFFSETTO:+0100
TZNAME:CET
DTSTART:20171029T010000
END:STANDARD
END:VTIMEZONE
BEGIN:VEVENT
DTSTART;TZID=Europe/Madrid:20161007T183000
DTEND;TZID=Europe/Madrid:20161007T183000
DTSTAMP:20260423T080922
CREATED:20161007T074301Z
LAST-MODIFIED:20161007T074301Z
UID:44378-1475865000-1475865000@merida.es
SUMMARY:Presentación del libro 'El despertar a tu verdad' de Carmen Artaloytia
DESCRIPTION:El viernes 7 de octubre\, a las 18\,30 horas\, en la biblioteca municipal Nuestra Señora de la Antigua\, se presenta el libro ‘EL DESPERTAR A TU VERDAD’\, de Carmen Artaloytia Lázaro\, que firmará ejemplares del mismo al término del acto.\nAdemás\, a continuación\, habrá una charla-coloquio ‘La sumisión en la mujer y la violencia de género’\, que impartirá la psicóloga Sonia Ruiz Navas.
URL:https://merida.es/agenda/presentacion-del-libro-el-despertar-a-tu-verdad-de-carmen-artaloytia/
LOCATION:Centro Cultural La Antigua\, Calle Nerja s/n\, Mérida\, Badajoz\, 06800\, Spain
CATEGORIES:Charla-Conferencia,Literatura
ATTACH;FMTTYPE=image/jpeg:https://merida.es/wp-content/uploads/2016/10/el-despertar-a-tu-verdad-peq.jpg
END:VEVENT
BEGIN:VEVENT
DTSTART;TZID=Europe/Madrid:20161027T193000
DTEND;TZID=Europe/Madrid:20161027T193000
DTSTAMP:20260423T080922
CREATED:20161026T065711Z
LAST-MODIFIED:20161026T065711Z
UID:45030-1477596600-1477596600@merida.es
SUMMARY:Presentación del libro 'Rumbo a la frontera II' de Carlos Alonso López
DESCRIPTION:El escritor emeritense Carlos Alonso López presentará su libro ‘Rumbo a la frontera II: El desenlace’ en la Biblioteca Municipal el jueves día 27 de Octubre a las 19\,30 horas.\nA través de sus poemas\, el autor nos transmite la necesidad de escribir para superar su enfermedad mental (le diagnosticaron con 16 años esquizofrenia). En este caso\, escribe sobre el amor\, el desengaño\, el descubrimiento de la vida como pareja; además se centra en otros temas de inspiración poética como son el deporte\, la poesía y el canto.
URL:https://merida.es/agenda/presentacion-del-libro-rumbo-a-la-frontera-ii-de-carlos-alonso-lopez/
LOCATION:Biblioteca Municipal Juan Pablo Forner\, Calle John Lennon\, 5\, Mérida
CATEGORIES:Literatura
ATTACH;FMTTYPE=image/jpeg:https://merida.es/wp-content/uploads/2016/10/libro-presentacion-frontera-peq.jpg
END:VEVENT
END:VCALENDAR