﻿BEGIN:VCALENDAR
VERSION:2.0
PRODID:-//Ayuntamiento de Mérida - ECPv6.15.17.1//NONSGML v1.0//EN
CALSCALE:GREGORIAN
METHOD:PUBLISH
X-ORIGINAL-URL:https://merida.es
X-WR-CALDESC:Eventos para Ayuntamiento de Mérida
REFRESH-INTERVAL;VALUE=DURATION:PT1H
X-Robots-Tag:noindex
X-PUBLISHED-TTL:PT1H
BEGIN:VTIMEZONE
TZID:Europe/Madrid
BEGIN:DAYLIGHT
TZOFFSETFROM:+0100
TZOFFSETTO:+0200
TZNAME:CEST
DTSTART:20150329T010000
END:DAYLIGHT
BEGIN:STANDARD
TZOFFSETFROM:+0200
TZOFFSETTO:+0100
TZNAME:CET
DTSTART:20151025T010000
END:STANDARD
BEGIN:DAYLIGHT
TZOFFSETFROM:+0100
TZOFFSETTO:+0200
TZNAME:CEST
DTSTART:20160327T010000
END:DAYLIGHT
BEGIN:STANDARD
TZOFFSETFROM:+0200
TZOFFSETTO:+0100
TZNAME:CET
DTSTART:20161030T010000
END:STANDARD
BEGIN:DAYLIGHT
TZOFFSETFROM:+0100
TZOFFSETTO:+0200
TZNAME:CEST
DTSTART:20170326T010000
END:DAYLIGHT
BEGIN:STANDARD
TZOFFSETFROM:+0200
TZOFFSETTO:+0100
TZNAME:CET
DTSTART:20171029T010000
END:STANDARD
END:VTIMEZONE
BEGIN:VEVENT
DTSTART;TZID=Europe/Madrid:20161110T183000
DTEND;TZID=Europe/Madrid:20161117T170000
DTSTAMP:20260423T063048
CREATED:20161117T085626Z
LAST-MODIFIED:20161117T085626Z
UID:45690-1478802600-1479402000@merida.es
SUMMARY:Los Jueves Te Cuento: "Doña castaña Pilonga"
DESCRIPTION:Del 10 de Noviembre al 22 de Diciembre\, los jueves a las 18:30 h.\, los niños y niñas junto con sus familias tendrán la oportunidad de escuchar un cuento que desarrolle su imaginación y les acerque al fantástico mundo de los libros. Tendrá lugar en el Rincón de los Cuentos de la Biblioteca Pública Juan Pablo Forner. El programa es el siguiente: \nJueves 10 de noviembre\n Doña castaña Pilonga\n María Molina Hidalgo (Maestra del CEIP Suárez Somonte)\nJueves 17 de noviembre\nDéjame que te cuente..…\nJulio César Fuster Flores (Padre en favor de la lectura)\nJueves 24 de noviembre\nEl árbol de primavera\nJoaquín Caldito Trejo (Padre en favor de la lectura)\nJueves 1 de diciembre\nEn Navidad déjame que te cuente…..\nMoisés de las Heras Fernández (Actor de teatro)\nJueves 15 de diciembre\nEl gigante egoísta\nAsociación Share! English Moving\nJueves 22 de diciembre\nEl príncipe feliz\nInmaculada Díaz Paredes (Madre en favor de la lectura)
URL:https://merida.es/agenda/los-jueves-te-cuento-1/
LOCATION:Biblioteca Municipal Juan Pablo Forner\, Calle John Lennon\, 5\, Mérida
CATEGORIES:Infantil,Literatura
ATTACH;FMTTYPE=image/png:https://merida.es/wp-content/uploads/2016/11/cuenta-cuentos-peq.png
END:VEVENT
BEGIN:VEVENT
DTSTART;TZID=Europe/Madrid:20161117T183000
DTEND;TZID=Europe/Madrid:20161117T183000
DTSTAMP:20260423T063048
CREATED:20161108T192408Z
LAST-MODIFIED:20161108T192408Z
UID:45434-1479407400-1479407400@merida.es
SUMMARY:Los Jueves Te Cuento: "Déjame que te cuente..."
DESCRIPTION:Del 10 de Noviembre al 22 de Diciembre\, los jueves a las 18:30 h.\, los niños y niñas junto con sus familias tendrán la oportunidad de escuchar un cuento que desarrolle su imaginación y les acerque al fantástico mundo de los libros. Tendrá lugar en el Rincón de los Cuentos de la Biblioteca Pública Juan Pablo Forner. El programa es el siguiente:\nJueves 10 de noviembre\nDoña castaña Pilonga\nMaría Molina Hidalgo (Maestra del CEIP Suárez Somonte) \nJueves 17 de noviembre\nDéjame que te cuente..…\nJulio César Fuster Flores (Padre en favor de la lectura)\nJueves 24 de noviembre\nEl árbol de primavera\nJoaquín Caldito Trejo (Padre en favor de la lectura)\nJueves 1 de diciembre\nEn Navidad déjame que te cuente…..\nMoisés de las Heras Fernández (Actor de teatro)\nJueves 15 de diciembre\nEl gigante egoísta\nAsociación Share! English Moving\nJueves 22 de diciembre\nEl príncipe feliz\nInmaculada Díaz Paredes (Madre en favor de la lectura)
URL:https://merida.es/agenda/los-jueves-te-cuento-2/
LOCATION:Biblioteca Municipal Juan Pablo Forner\, Calle John Lennon\, 5\, Mérida
CATEGORIES:Infantil,Literatura
ATTACH;FMTTYPE=image/png:https://merida.es/wp-content/uploads/2016/11/cuenta-cuentos-peq.png
END:VEVENT
BEGIN:VEVENT
DTSTART;TZID=Europe/Madrid:20161117T193000
DTEND;TZID=Europe/Madrid:20161117T193000
DTSTAMP:20260423T063048
CREATED:20161115T082750Z
LAST-MODIFIED:20161115T082750Z
UID:45611-1479411000-1479411000@merida.es
SUMMARY:Presentación del Libro 'Miradas' de  Julio César Fuentes Domínguez
DESCRIPTION:El jueves 17 de noviembre a las 19:30 horas\, en la Biblioteca Municipal Juan Pablo Forner\, el escritor Julio César Fuentes Domínguez (Niño Índigo) presentará su último libro bajo el título ‘Miradas’.\nJulio César Fuentes Domínguez (Niño Índigo) es un compositor y escritor extremeño natural de Moraleja (Cáceres). En éste ocasión\, nos muestra su faceta literaria con su primer poemario ‘MIRADAS’. Con él debuta en el mundo literario a través de un puñado de poemas que reflejan su particular modo de escribir y con los que nos ofrece una lectura agradable y con un profundo significado. Algunos poemas están acompañados de ilustraciones hechas por Patricia Pérez.\nEs más conocido como ‘NIÑO ÍNDIGO’ en los círculos musicales\, proyecto con el que ya ha editado dos discos y a punto de ver la luz el tercero. Sus canciones han formado parte de B.S.O. “Melted Hearth” y “El viaje de Cris”.
URL:https://merida.es/agenda/presentacion-del-libro-miradas-de-julio-cesar-fuentes-dominguez/
LOCATION:Biblioteca Municipal Juan Pablo Forner\, Calle John Lennon\, 5\, Mérida
CATEGORIES:Literatura
ATTACH;FMTTYPE=image/jpeg:https://merida.es/wp-content/uploads/2016/11/miradas-peq.jpg
END:VEVENT
BEGIN:VEVENT
DTSTART;TZID=Europe/Madrid:20161117T200000
DTEND;TZID=Europe/Madrid:20161117T200000
DTSTAMP:20260423T063048
CREATED:20161115T120330Z
LAST-MODIFIED:20161115T120330Z
UID:45622-1479412800-1479412800@merida.es
SUMMARY:Presentación de libro 'En tiempos del papa sirio' de Jesús Sánchez Adalid
DESCRIPTION:Jesús Sánchez Adalid presentará su nueva novela ‘EN TIEMPOS DEL PAPA SIRIO’\, el próximo jueves\, a las 20 horas\, en la Parroquia de San José de Mérida (calle Publio Carisio\, 41). Con la actuación musical de AliaMundi.
URL:https://merida.es/agenda/presentacion-de-libro-en-tiempos-del-papa-sirio-de-jesus-sanchez-adalid/
LOCATION:Parroquia de San José
CATEGORIES:Literatura
ATTACH;FMTTYPE=image/jpeg:https://merida.es/wp-content/uploads/2016/11/sanchez-adalid-img.jpg
END:VEVENT
BEGIN:VEVENT
DTSTART;TZID=Europe/Madrid:20161124T183000
DTEND;TZID=Europe/Madrid:20161124T183000
DTSTAMP:20260423T063048
CREATED:20161117T085748Z
LAST-MODIFIED:20161117T085748Z
UID:45691-1480012200-1480012200@merida.es
SUMMARY:Los Jueves Te Cuento: "El árbol de primavera"
DESCRIPTION:Del 10 de Noviembre al 22 de Diciembre\, los jueves a las 18:30 h.\, los niños y niñas junto con sus familias tendrán la oportunidad de escuchar un cuento que desarrolle su imaginación y les acerque al fantástico mundo de los libros. Tendrá lugar en el Rincón de los Cuentos de la Biblioteca Pública Juan Pablo Forner. El programa es el siguiente:\nJueves 10 de noviembre\nDoña castaña Pilonga\nMaría Molina Hidalgo (Maestra del CEIP Suárez Somonte)\nJueves 17 de noviembre\nDéjame que te cuente..…\nJulio César Fuster Flores (Padre en favor de la lectura) \nJueves 24 de noviembre\n El árbol de primavera\n Joaquín Caldito Trejo (Padre en favor de la lectura)\nJueves 1 de diciembre\nEn Navidad déjame que te cuente…..\nMoisés de las Heras Fernández (Actor de teatro)\nJueves 15 de diciembre\nEl gigante egoísta\nAsociación Share! English Moving\nJueves 22 de diciembre\nEl príncipe feliz\nInmaculada Díaz Paredes (Madre en favor de la lectura)
URL:https://merida.es/agenda/los-jueves-te-cuento-3/
LOCATION:Biblioteca Municipal Juan Pablo Forner\, Calle John Lennon\, 5\, Mérida
CATEGORIES:Infantil,Literatura
ATTACH;FMTTYPE=image/png:https://merida.es/wp-content/uploads/2016/11/cuenta-cuentos-peq.png
END:VEVENT
BEGIN:VEVENT
DTSTART;TZID=Europe/Madrid:20161124T193000
DTEND;TZID=Europe/Madrid:20161124T193000
DTSTAMP:20260423T063048
CREATED:20161123T184619Z
LAST-MODIFIED:20161123T184619Z
UID:45855-1480015800-1480015800@merida.es
SUMMARY:Presentación del libro '40 años de poesía' de Jose María del Álamo
DESCRIPTION:José María Del Álamo presenta el jueves 24 de noviembre\, a las 19.30 horas\, en la Biblioteca Municipal ‘Juan Pablo Forner’ de Mérida\, un libro de poemas recopilatorio de sus 40 años de poesía.\nEl acto lo presentará Ana María Castillo y estará amenizado con la música de Guillermo Segovia.
URL:https://merida.es/agenda/presentacion-del-libro-40-anos-de-poesia-de-jose-maria-del-alamo/
LOCATION:Biblioteca Municipal Juan Pablo Forner\, Calle John Lennon\, 5\, Mérida
CATEGORIES:Literatura
ATTACH;FMTTYPE=image/jpeg:https://merida.es/wp-content/uploads/2016/11/josemaria-del-alamo.jpg
END:VEVENT
BEGIN:VEVENT
DTSTART;TZID=Europe/Madrid:20161130T200000
DTEND;TZID=Europe/Madrid:20161130T200000
DTSTAMP:20260423T063048
CREATED:20161129T171746Z
LAST-MODIFIED:20161129T171746Z
UID:46011-1480536000-1480536000@merida.es
SUMMARY:Presentación del libro 'Mérida. Crónicas de un pueblo' de José Luis de la Barrera
DESCRIPTION:El miércoles 30 de noviembre a las 20.00 h.\, en el Salón de Actos del Museo Nacional de Arte Romano de Mérida\, tendrá lugar la presentación del libro ‘Mérida. Crónicas de un pueblo’\, del que es autor D. José Luis de la Barrera Antón\, Conservador del MNAR y Académico C. de la Real de la Historia.\nLa presentación del libro\, prologado por D. Rafael Rufino Félix\, Poeta e Hijo Predilecto de Mérida\, correrá a cargo del Dr. José María Álvarez Martínez\, Cronista Oficial de Mérida.
URL:https://merida.es/agenda/presentacion-del-libro-merida-cronicas-de-un-pueblo-de-jose-luis-de-la-barrera/
LOCATION:Museo Nacional de Arte Romano\, Calle José Ramón Mélida\, Mérida\, Badajoz\, 06800\, España
CATEGORIES:Charla-Conferencia,Literatura
ATTACH;FMTTYPE=image/jpeg:https://merida.es/wp-content/uploads/2016/11/merida-cronicas-de-un-pueblo-peq.jpg
END:VEVENT
END:VCALENDAR