﻿BEGIN:VCALENDAR
VERSION:2.0
PRODID:-//Ayuntamiento de Mérida - ECPv6.15.17.1//NONSGML v1.0//EN
CALSCALE:GREGORIAN
METHOD:PUBLISH
X-WR-CALNAME:Ayuntamiento de Mérida
X-ORIGINAL-URL:https://merida.es
X-WR-CALDESC:Eventos para Ayuntamiento de Mérida
REFRESH-INTERVAL;VALUE=DURATION:PT1H
X-Robots-Tag:noindex
X-PUBLISHED-TTL:PT1H
BEGIN:VTIMEZONE
TZID:Europe/Madrid
BEGIN:DAYLIGHT
TZOFFSETFROM:+0100
TZOFFSETTO:+0200
TZNAME:CEST
DTSTART:20160327T010000
END:DAYLIGHT
BEGIN:STANDARD
TZOFFSETFROM:+0200
TZOFFSETTO:+0100
TZNAME:CET
DTSTART:20161030T010000
END:STANDARD
BEGIN:DAYLIGHT
TZOFFSETFROM:+0100
TZOFFSETTO:+0200
TZNAME:CEST
DTSTART:20170326T010000
END:DAYLIGHT
BEGIN:STANDARD
TZOFFSETFROM:+0200
TZOFFSETTO:+0100
TZNAME:CET
DTSTART:20171029T010000
END:STANDARD
BEGIN:DAYLIGHT
TZOFFSETFROM:+0100
TZOFFSETTO:+0200
TZNAME:CEST
DTSTART:20180325T010000
END:DAYLIGHT
BEGIN:STANDARD
TZOFFSETFROM:+0200
TZOFFSETTO:+0100
TZNAME:CET
DTSTART:20181028T010000
END:STANDARD
END:VTIMEZONE
BEGIN:VEVENT
DTSTART;VALUE=DATE:20170214
DTEND;VALUE=DATE:20170216
DTSTAMP:20260422T104638
CREATED:20170214T074500Z
LAST-MODIFIED:20170214T074500Z
UID:47825-1487030400-1487203199@merida.es
SUMMARY:Aula literaria Jesús Delgado Valhondo: Pilar Galán
DESCRIPTION:La escritora Pilar Galán estará presente\, los días 14 y 15 de febrero\, en los dos encuentros que ha programado el aula literaria Jesús Delgado Valhondo de Mérida organizado por la Asociación de Escritores de Extremadura (AEEX).\nEl martes 14 de febrero será el primer encuentro en la Biblioteca Juan Pablo Forner a partir de las 19:30 horas y el miércoles 15 tendrá lugar el segundo en el Centro Cultural Santo Domingo de la Fundación Caja Badajoz a partir de las 12 horas.\nEn la actualidad existen siete aulas literarias en Extremadura (Badajoz\, Cáceres\, Mérida\, Plasencia\, Don Benito/Villanueva y Zafra) en donde acuden\, a cada una de ellas\, un determinado número de autores de los más representativos del panorama nacional\, desarrollando una lectura en un instituto de enseñanza secundaria de la ciudad en cuestión y una segunda lectura abierta al público. De cada uno de estos escritores la AEEX elabora un cuadernillo con una selección de su obra que es distribuida gratuitamente entre los alumnos de cada instituto\, asistentes a la lectura abierta al público y entre sus socios.\nPilar Galán nació en Navalmoral de la Mata\, en 1967. Es licenciada en Filología Clásica. Trabajó como becaria de investigación en la Facultad de Filosofía y Letras con una beca Manuel Castillo y posteriormente con una beca del Ministerio de Educación. Actualmente es profesora de Lengua y Literatura.\nEscribe desde hace once años una columna de opinión Jueves sociales\, en el periódico Extremadura. Es colaboradora habitual de programas de radio\, y es vocal de la AEEX y coordinadora del Aula literaria J.M. Valverde. Ha coordinado varios talleres literarios en Extremadura y Andalucía y también imparte cursos de narrativa en los Centros de profesores y en los institutos. Además\, ha participado también como escritora invitada a las Rutas literarias por Extremadura\, impartiendo talleres a alumnos de otros centros de fuera de nuestra comunidad.\nBiografía completa de Pilar Galan: https://www.aeex.es/autores/galan-pilar/\n \n 
URL:https://merida.es/agenda/aula-literaria-jesus-delgado-valhondo-pilar-galan/
LOCATION:Biblioteca Juan Pablo Forner y Centro Cultural Santo Domingo Fundación CB\, Mérida
CATEGORIES:Literatura
ATTACH;FMTTYPE=image/jpeg:https://merida.es/wp-content/uploads/2017/02/pilar-galan-peq.jpg
END:VEVENT
BEGIN:VEVENT
DTSTART;TZID=Europe/Madrid:20170215T200000
DTEND;TZID=Europe/Madrid:20170215T200000
DTSTAMP:20260422T104638
CREATED:20170208T105443Z
LAST-MODIFIED:20170208T105443Z
UID:47638-1487188800-1487188800@merida.es
SUMMARY:Presentación del libro 'Volver a las trincheras' de Alfredo González Ruibal
DESCRIPTION:El Grupo de Estudios sobre la Historia Contemporánea de Extremadura (GEHCEx) presentará el miércoles 15 de febrero\, en el salón de actos de la UNED Mérida el libro del arqueólogo y científico titular del CSIC Alfredo González-Ruibal VOLVER A LAS TRINCHERAS (Una arqueología de la guerra civil española). Será a las 20 horas.
URL:https://merida.es/agenda/presentacion-del-libro-volver-a-las-trincheras-de-alfredo-gonzalez-ruibal/
LOCATION:UNED Mérida\, Calle Moreno de Vargas\, 10\, Mérida
CATEGORIES:Literatura
ATTACH;FMTTYPE=image/jpeg:https://merida.es/wp-content/uploads/2017/02/presentacion-libro-uned-peq.jpg
END:VEVENT
BEGIN:VEVENT
DTSTART;TZID=Europe/Madrid:20170216T193000
DTEND;TZID=Europe/Madrid:20170216T193000
DTSTAMP:20260422T104638
CREATED:20170214T155454Z
LAST-MODIFIED:20170214T155454Z
UID:47869-1487273400-1487273400@merida.es
SUMMARY:Presentación del poemario 'Etapas' de Manuel González
DESCRIPTION:El poeta Manuel González (San Sebastián)\, residente en Valladolid en la actualidad\, presentará en la Biblioteca Municipal ‘Juan Pablo Forner’ de Mérida su último poemario ‘Etapas’\, el jueves 16 de febrero a las 19\,30 horas. González es escritor de poemas sencillos\, profundos\, esenciales\, basados en la experiencia vital del escritor y en los que se descubre la belleza de la poesía más literaria y mejor cuidada.Recibió el Premio Nacional de Poesía de la revista Poetas a corazón abierto en 2010 por sus publicaciones en ella
URL:https://merida.es/agenda/presentacion-del-poemario-etapas-de-manuel-gonzalez/
LOCATION:Biblioteca Municipal Juan Pablo Forner\, Calle John Lennon\, 5\, Mérida
CATEGORIES:Literatura
ATTACH;FMTTYPE=image/gif:https://merida.es/wp-content/uploads/2017/02/manuel-gonzalez-libro.gif
END:VEVENT
BEGIN:VEVENT
DTSTART;TZID=Europe/Madrid:20170221T193000
DTEND;TZID=Europe/Madrid:20170221T193000
DTSTAMP:20260422T104638
CREATED:20170220T124402Z
LAST-MODIFIED:20170220T124402Z
UID:48018-1487705400-1487705400@merida.es
SUMMARY:Presentación del libro 'Corónicas de Ingalaterra' de Eduardo Moga
DESCRIPTION:Eduardo Moga (Barcelona\, 1962)\, licenciado en Derecho y doctor en Filología Hispánica por la Universidad de Barcelona\, presenta\, el martes 21 de febrero\, su libro ‘Corónicas de Inglaterra’\, en la Biblioteca Municipal ‘Juan Pablo Forner’ de Mérida\, a las 19.30 horas. El autor ofrece en él una visión personal de la sociedad británica actual\, utilizando una prosa precisa con un lenguaje lleno de agudezas e ironías
URL:https://merida.es/agenda/presentacion-del-libro-coronicas-de-ingalaterra-de-eduardo-moga/
LOCATION:Biblioteca Municipal Juan Pablo Forner\, Calle John Lennon\, 5\, Mérida
CATEGORIES:Literatura
ATTACH;FMTTYPE=image/jpeg:https://merida.es/wp-content/uploads/2017/02/eduardo-moga-peq.jpg
END:VEVENT
END:VCALENDAR