﻿BEGIN:VCALENDAR
VERSION:2.0
PRODID:-//Ayuntamiento de Mérida - ECPv6.15.17.1//NONSGML v1.0//EN
CALSCALE:GREGORIAN
METHOD:PUBLISH
X-ORIGINAL-URL:https://merida.es
X-WR-CALDESC:Eventos para Ayuntamiento de Mérida
REFRESH-INTERVAL;VALUE=DURATION:PT1H
X-Robots-Tag:noindex
X-PUBLISHED-TTL:PT1H
BEGIN:VTIMEZONE
TZID:Europe/Madrid
BEGIN:DAYLIGHT
TZOFFSETFROM:+0100
TZOFFSETTO:+0200
TZNAME:CEST
DTSTART:20160327T010000
END:DAYLIGHT
BEGIN:STANDARD
TZOFFSETFROM:+0200
TZOFFSETTO:+0100
TZNAME:CET
DTSTART:20161030T010000
END:STANDARD
BEGIN:DAYLIGHT
TZOFFSETFROM:+0100
TZOFFSETTO:+0200
TZNAME:CEST
DTSTART:20170326T010000
END:DAYLIGHT
BEGIN:STANDARD
TZOFFSETFROM:+0200
TZOFFSETTO:+0100
TZNAME:CET
DTSTART:20171029T010000
END:STANDARD
BEGIN:DAYLIGHT
TZOFFSETFROM:+0100
TZOFFSETTO:+0200
TZNAME:CEST
DTSTART:20180325T010000
END:DAYLIGHT
BEGIN:STANDARD
TZOFFSETFROM:+0200
TZOFFSETTO:+0100
TZNAME:CET
DTSTART:20181028T010000
END:STANDARD
END:VTIMEZONE
BEGIN:VEVENT
DTSTART;TZID=Europe/Madrid:20170303T183000
DTEND;TZID=Europe/Madrid:20170303T183000
DTSTAMP:20260420T085954
CREATED:20170303T124449Z
LAST-MODIFIED:20170303T124449Z
UID:48294-1488565800-1488565800@merida.es
SUMMARY:Cuentacuentos "Los animales nos cuentan"
DESCRIPTION:La Biblioteca Pública de Mérida Jesús Delgado Valhondo organiza cuentacuentos para los más pequeños durante todos los viernes del mes de marzo a partir de las 18:00 horas.\nEl viernes 3 de marzo ‘Los animales nos cuentan» a cargo de la compañia Lalelilolu.
URL:https://merida.es/agenda/cuentacuentos-los-animales-nos-cuentan/
LOCATION:Biblioteca Jesús Delgado Valhondo\, Av. de la Libertad\, s/n\, Mérida
CATEGORIES:Infantil,Literatura
ATTACH;FMTTYPE=image/jpeg:https://merida.es/wp-content/uploads/2017/03/cuentacuentos-biblioteca-peq.jpg
END:VEVENT
BEGIN:VEVENT
DTSTART;TZID=Europe/Madrid:20170307T193000
DTEND;TZID=Europe/Madrid:20170307T193000
DTSTAMP:20260420T085954
CREATED:20170303T102337Z
LAST-MODIFIED:20170303T102337Z
UID:48285-1488915000-1488915000@merida.es
SUMMARY:Presentación de libro "Historia mínima de la Guerra Civil Española" de Enrique Moradiellos
DESCRIPTION:La Delegación de Cultura del Ayuntamiento organiza el próximo martes 7\, en el claustro de la sede del Consorcio (Santa Julia\, nº 5)\, la presentación del libro «Historia mínima de la Guerra Civil Española» del catedrático de Historia Contemporánea de la Universidad de Extremadura\, Enrique Moradiellos. El acto comenzará a las 19.30 horas.
URL:https://merida.es/agenda/presentacion-de-libro-historia-minima-de-la-guerra-civil-espanola-de-enrique-moradiellos/
LOCATION:Convento de Santa Clara (Sede del Consorcio y Festival de Mérida)\, Calle Santa Julia\, 5\, Mérida
CATEGORIES:Charla-Conferencia,Literatura
ATTACH;FMTTYPE=image/jpeg:https://merida.es/wp-content/uploads/2017/03/moradiellos-peq.jpg
END:VEVENT
BEGIN:VEVENT
DTSTART;TZID=Europe/Madrid:20170316T200000
DTEND;TZID=Europe/Madrid:20170316T200000
DTSTAMP:20260420T085954
CREATED:20170314T092225Z
LAST-MODIFIED:20170314T092225Z
UID:48577-1489694400-1489694400@merida.es
SUMMARY:Presentación del libro 'El espía del rey' de José Calvo Poyato
DESCRIPTION:El catedrático de Historia y doctor por la Universidad de Granada en Historia Moderna José Calvo Poyato presentará su nuevo libro EL ESPÍA DEL REY\, el próximo jueves\, a las 20 horas\, en la Parroquia San José Mérida . El final de la Casa de Austria y la llegada de los Borbones a España\, han constituido la parte fundamental de sus investigaciones\, aunque ha transitado\, con obras de divulgación\, por otros momentos de nuestra historia. Es miembro de la Real Academia de Córdoba. Con la actuación musical del grupo AliaMundi Promoción
URL:https://merida.es/agenda/presentacion-del-libro-el-espia-del-rey-de-jose-calvo-poyato/
LOCATION:Parroquia de San José
CATEGORIES:Literatura
ATTACH;FMTTYPE=image/jpeg:https://merida.es/wp-content/uploads/2017/03/libro-jose-calvo-peq.jpg
END:VEVENT
BEGIN:VEVENT
DTSTART;TZID=Europe/Madrid:20170324T180000
DTEND;TZID=Europe/Madrid:20170324T180000
DTSTAMP:20260420T085954
CREATED:20170324T075827Z
LAST-MODIFIED:20170324T075827Z
UID:48867-1490378400-1490378400@merida.es
SUMMARY:Día Mundial de la Poesía en la Biblioteca Pública del Estado
DESCRIPTION:La Biblioteca Pública del Estado organiza el viernes 24 de marzo\, a partir de las 18 horas\, un evento cultural para conmemorar el Día Internacional de la Poesía que será un maridaje especial de poesía y música en la que participarán los Clubes de Lecturas de la Biblioteca junto al Coro Ad Libitum.
URL:https://merida.es/agenda/dia-mundial-de-la-poesia-en-la-biblioteca-publica-del-estado/
LOCATION:Biblioteca Jesús Delgado Valhondo\, Av. de la Libertad\, s/n\, Mérida
CATEGORIES:Literatura,Música
ATTACH;FMTTYPE=image/jpeg:https://merida.es/wp-content/uploads/2017/03/musica-poesia-peq.jpg
END:VEVENT
BEGIN:VEVENT
DTSTART;TZID=Europe/Madrid:20170330T193000
DTEND;TZID=Europe/Madrid:20170330T193000
DTSTAMP:20260420T085954
CREATED:20170328T151527Z
LAST-MODIFIED:20170328T151527Z
UID:48992-1490902200-1490902200@merida.es
SUMMARY:Presentación del libro "¿Educar o enseñar? Manual de coaching familiar y educativo"
DESCRIPTION:La Biblioteca Municipal ‘Juan Pablo Forner’ de Mérida será escenario el jueves 30 de marzo de la presentación del libro «¿Educar o enseñar? Manual de coaching familiar y educativo»\, de María José Padilla y Sara Cobos. Será a las 19.30 horas.
URL:https://merida.es/agenda/presentacion-del-libro-educar-o-ensenar-manual-de-coaching-familiar-y-educativo/
LOCATION:Biblioteca Municipal Juan Pablo Forner\, Calle John Lennon\, 5\, Mérida
CATEGORIES:Literatura
ATTACH;FMTTYPE=image/jpeg:https://merida.es/wp-content/uploads/2017/03/libro-educar-ensenar-peq.jpg
END:VEVENT
END:VCALENDAR